{"text_format":"1","workbook":"xlsx","n_sheets":29,"sheets":["Grade7","7-1","7-2","7-3","7-4","7-5","7-6","7-7","7-8","Grade8","8-1","8-2","8-3","8-4","8-5","8-6","8-7","8-8","Grade9","9-1","9-2","9-3","9-4","9-5","9-6","9-7","9-8","9-9","All-Grades"],"not_rendered":{"charts":111,"images":2,"macros":1,"external_links":0,"defined_names":0,"comments":0,"pivot_tables":0},"unopened":[],"bounds":{"document_bytes":16777216,"sheet_cells":100000,"rows_first":2000,"rows_last":500,"rows_between":2000,"halvings":0,"cell_chars":16384,"cell_head_chars":4096},"cells_cut":0,"cells_raw":0,"read":"whole","date_system":"1900"}

{"sheet":"Grade7","index":0,"n_rows":113,"n_cols":7,"rows_kept":113,"cut":false,"hidden":false,"merged":[[4,6,8,6],[0,0,1,0],[0,1,1,1],[2,1,2,6],[3,2,3,3],[3,5,3,6],[76,9,76,11],[45,2,45,3],[73,2,73,3],[59,2,59,3],[9,6,11,6],[12,1,12,3],[12,5,12,6],[18,2,18,3],[31,0,31,1],[34,9,34,11],[31,2,31,3],[45,0,45,1],[48,9,48,11],[59,0,59,1],[62,9,62,11],[73,0,73,1],[110,0,110,1],[111,0,111,1],[87,0,87,1],[90,9,90,11],[112,0,112,1],[87,2,87,3],[105,0,105,1],[105,2,105,3],[107,0,107,1],[108,0,108,1],[108,9,108,11],[109,0,109,1]]}
["عدد الطلاب الغائبين",{"$f":"SUM('7-1'!V13,'7-2'!V13,'7-3'!V13,'7-4'!V13,'7-5'!V13,'7-6'!V13,'7-7'!V13,'7-8'!V13)","v":5}]
[]
[null,"تحليل نتائج الصف السابع Grade-7"]
[null,"التقدير","المجال",null,"عدد الطلاب","النسبة"]
[null,"ممتاز"," ≥ 90","A+",{"$f":"SUM('7-1'!V4,'7-2'!V4,'7-3'!V4,'7-4'!V4,'7-5'!V4,'7-6'!V4,'7-7'!V4,'7-8'!V4)","v":6},{"$f":"(E5/$E$13)","v":3.0303030303030304E-2},{"$f":"SUM(F5:F9)","v":0.62121212121212122}]
[null,"جيد جداً","≥ 80","A",{"$f":"SUM('7-1'!V5,'7-2'!V5,'7-3'!V5,'7-4'!V5,'7-5'!V5,'7-6'!V5,'7-7'!V5,'7-8'!V5)","v":21},0.10606060606060606]
[null,"جيد","≥ 70","B+",{"$f":"SUM('7-1'!V6,'7-2'!V6,'7-3'!V6,'7-4'!V6,'7-5'!V6,'7-6'!V6,'7-7'!V6,'7-8'!V6)","v":26},0.13131313131313133]
[null,"فوق المتوسط","≥ 60","B",{"$f":"SUM('7-1'!V7,'7-2'!V7,'7-3'!V7,'7-4'!V7,'7-5'!V7,'7-6'!V7,'7-7'!V7,'7-8'!V7)","v":26},0.13131313131313133]
[null,"متوسط","≥ 50","C",{"$f":"SUM('7-1'!V8,'7-2'!V8,'7-3'!V8,'7-4'!V8,'7-5'!V8,'7-6'!V8,'7-7'!V8,'7-8'!V8)","v":44},0.22222222222222221]
[null,"دون المتوسط","≥ 40","D",{"$f":"SUM('7-1'!V9,'7-2'!V9,'7-3'!V9,'7-4'!V9,'7-5'!V9,'7-6'!V9,'7-7'!V9,'7-8'!V9)","v":31},0.15656565656565657,{"$f":"SUM(F10:F12)","v":0.37878787878787878}]
[null,"ضعيف","≥ 30","E",{"$f":"SUM('7-1'!V10,'7-2'!V10,'7-3'!V10,'7-4'!V10,'7-5'!V10,'7-6'!V10,'7-7'!V10,'7-8'!V10)","v":34},0.17171717171717171]
[null,"دون الضعيف جداً","< 30","F",{"$f":"SUM('7-1'!V11,'7-2'!V11,'7-3'!V11,'7-4'!V11,'7-5'!V11,'7-6'!V11,'7-7'!V11,'7-8'!V11)","v":10},5.0505050505050504E-2]
[null,"عدد طلاب الصف السابع الذي تم اختبارهم",null,null,{"$f":"SUM(E5:E12)","v":198},{"$f":"E13/SUM(E13,B1)","v":0.97536945812807885}]
[]
[null,null,"الطلاب","العدد","النسبة"]
[null,null,"الناجحين",{"$f":"SUM(E5:E9)","v":123},{"$f":"G5","v":0.62121212121212122}]
[null,null,"الراسبين",{"$f":"SUM(E10:E12)","v":75},{"$f":"G10","v":0.37878787878787878}]
[null,null,"المجموع",{"$f":"SUM(D16:D17)","v":198},{"$f":"SUM(E16:E17)","v":1}]
[null,null,"نسبة التحصيل",null,{"$f":"AVERAGE('7-1'!U20,'7-2'!U20,'7-3'!U20,'7-4'!U20,'7-5'!U20,'7-6'!U20,'7-7'!U20,'7-8'!U20)","v":0.55852693278943288}]
[]
[null,"الصف / النسبة","الناجحين","الراسبين","التحصيل"]
[null,"7-1",{"$f":"'7-1'!$U$16","v":0.84000000000000008},{"$f":"'7-1'!$U$17","v":0.16},{"$f":"'7-1'!$U$20","v":0.63840000000000008}]
[null,"7-2",{"$f":"'7-2'!$U$16","v":0.69230769230769229},{"$f":"'7-2'!$U$17","v":0.30769230769230771},{"$f":"'7-2'!$U$20","v":0.57461538461538464}]
[null,"7-3",{"$f":"'7-3'!$U$16","v":0.65384615384615385},{"$f":"'7-3'!$U$17","v":0.34615384615384615},{"$f":"'7-3'!$U$20","v":0.59461538461538455}]
[null,"7-4",{"$f":"'7-4'!$U$16","v":0.51851851851851849},{"$f":"'7-4'!$U$17","v":0.48148148148148145},{"$f":"'7-4'!$U$20","v":0.54888888888888887}]
[null,"7-5",{"$f":"'7-5'!$U$16","v":0.46153846153846156},{"$f":"'7-5'!$U$17","v":0.53846153846153855},{"$f":"'7-5'!$U$20","v":0.45692307692307693}]
[null,"7-6",{"$f":"'7-6'!$U$16","v":0.59090909090909083},{"$f":"'7-6'!$U$17","v":0.40909090909090912},{"$f":"'7-6'!$U$20","v":0.55272727272727273}]
[null,"7-7",{"$f":"'7-7'!$U$16","v":0.58333333333333337},{"$f":"'7-7'!$U$17","v":0.41666666666666669},{"$f":"'7-7'!$U$20","v":0.53749999999999998}]
[null,"7-8",{"$f":"'7-8'!$U$16","v":0.63636363636363635},{"$f":"'7-8'!$U$17","v":0.36363636363636365},{"$f":"'7-8'!$U$20","v":0.56454545454545457}]
[]
[]
["تحليل نتائج فرع",null,{"$f":"'7-1'!H2","v":"Quizzes"}]
[]
[null,"الصف","الناجحين","الراسبين","التحصيل"]
[null,"7-1",{"$f":"'7-1'!$T$25","v":0.84},{"$f":"'7-1'!$U$25","v":0.16000000000000003},{"$f":"'7-1'!$V$25","v":0.66799999999999993}]
[null,"7-2",{"$f":"'7-2'!$T$25","v":0.65384615384615385},{"$f":"'7-2'!$U$25","v":0.34615384615384615},{"$f":"'7-2'!$V$25","v":0.49615384615384611}]
[null,"7-3",{"$f":"'7-3'!$T$25","v":0.65384615384615385},{"$f":"'7-3'!$U$25","v":0.34615384615384615},{"$f":"'7-3'!$V$25","v":0.56153846153846154}]
[null,"7-4",{"$f":"'7-4'!$T$25","v":0},{"$f":"'7-4'!$U$25","v":1},{"$f":"'7-4'!$V$25","v":0.21185185185185187}]
[null,"7-5",{"$f":"'7-5'!$T$25","v":7.407407407407407E-2},{"$f":"'7-5'!$U$25","v":0.92592592592592593},{"$f":"'7-5'!$V$25","v":0.26814814814814814}]
[null,"7-6",{"$f":"'7-6'!$T$25","v":4.5454545454545456E-2},{"$f":"'7-6'!$U$25","v":0.95454545454545459},{"$f":"'7-6'!$V$25","v":0.22545454545454546}]
[null,"7-7",{"$f":"'7-7'!$T$25","v":0.29166666666666669},{"$f":"'7-7'!$U$25","v":0.70833333333333326},{"$f":"'7-7'!$V$25","v":0.37291666666666662}]
[null,"7-8",{"$f":"'7-8'!$T$25","v":0.33333333333333331},{"$f":"'7-8'!$U$25","v":0.66666666666666674},{"$f":"'7-8'!$V$25","v":0.36023809523809525}]
[null,"المتوسط",{"$f":"AVERAGE(C35:C42)","v":0.3615276159026159},{"$f":"AVERAGE(D35:D42)","v":0.63847238409738416},0.39553770188145188]
[]
[]
["تحليل نتائج فرع",null,{"$f":"'7-1'!I2","v":"الواجب"}]
[]
[null,"الصف","الناجحين","الراسبين","التحصيل"]
[null,"7-1",{"$f":"'7-1'!$T$26","v":1},{"$f":"'7-1'!$U$26","v":0},{"$f":"'7-1'!$V$26","v":1}]
[null,"7-2",{"$f":"'7-2'!$T$26","v":1},{"$f":"'7-2'!$U$26","v":0},{"$f":"'7-2'!$V$26","v":1}]
[null,"7-3",{"$f":"'7-3'!$T$26","v":1},{"$f":"'7-3'!$U$26","v":0},{"$f":"'7-3'!$V$26","v":1}]
[null,"7-4",{"$f":"'7-4'!$T$26","v":1},{"$f":"'7-4'!$U$26","v":0},{"$f":"'7-4'!$V$26","v":0.92296296296296287}]
[null,"7-5",{"$f":"'7-5'!$T$26","v":1},{"$f":"'7-5'!$U$26","v":0},{"$f":"'7-5'!$V$26","v":0.8992592592592592}]
[null,"7-6",{"$f":"'7-6'!$T$26","v":1},{"$f":"'7-6'!$U$26","v":0},{"$f":"'7-6'!$V$26","v":0.9363636363636364}]
[null,"7-7",{"$f":"'7-7'!$T$26","v":1},{"$f":"'7-7'!$U$26","v":0},{"$f":"'7-7'!$V$26","v":0.752}]
[null,"7-8",{"$f":"'7-8'!$T$26","v":0.95652173913043481},{"$f":"'7-8'!$U$26","v":4.3478260869565188E-2},{"$f":"'7-8'!$V$26","v":0.8034782608695652}]
[null,"المتوسط",{"$f":"AVERAGE(C49:C56)","v":0.99456521739130432},{"$f":"AVERAGE(D49:D56)","v":5.4347826086956486E-3},0.91425801493192793]
[]
[]
["تحليل نتائج فرع",null,{"$f":"'7-1'!J2","v":"المشاركة"}]
[]
[null,"الصف","الناجحين","الراسبين","التحصيل"]
[null,"7-1",{"$f":"'7-1'!$T$27","v":1},{"$f":"'7-1'!$U$27","v":0},{"$f":"'7-1'!$V$27","v":1}]
[null,"7-2",{"$f":"'7-2'!$T$27","v":1},{"$f":"'7-2'!$U$27","v":0},{"$f":"'7-2'!$V$27","v":1}]
[null,"7-3",{"$f":"'7-3'!$T$27","v":1},{"$f":"'7-3'!$U$27","v":0},{"$f":"'7-3'!$V$27","v":1}]
[null,"7-4",{"$f":"'7-4'!$T$27","v":1},{"$f":"'7-4'!$U$27","v":0},{"$f":"'7-4'!$V$27","v":0.83950617283950624}]
[null,"7-5",{"$f":"'7-5'!$T$27","v":1},{"$f":"'7-5'!$U$27","v":0},{"$f":"'7-5'!$V$27","v":0.84197530864197534}]
[null,"7-6",{"$f":"'7-6'!$T$27","v":1},{"$f":"'7-6'!$U$27","v":0},{"$f":"'7-6'!$V$27","v":0.89696969696969697}]
[null,"7-7",{"$f":"'7-7'!$T$27","v":1},{"$f":"'7-7'!$U$27","v":0},{"$f":"'7-7'!$V$27","v":0.78666666666666674}]
[null,"7-8",{"$f":"'7-8'!$T$27","v":1},{"$f":"'7-8'!$U$27","v":0},{"$f":"'7-8'!$V$27","v":0.8231884057971014}]
[null,"المتوسط",{"$f":"AVERAGE(C63:C70)","v":1},{"$f":"AVERAGE(D63:D70)","v":0},0.89853828136436842]
[]
[]
["تحليل نتائج فرع",null,{"$f":"'7-1'!K2","v":"المشروع"}]
[]
[null,"الصف","الناجحين","الراسبين","التحصيل"]
[null,"7-1",{"$f":"'7-1'!$T$28","v":1},{"$f":"'7-1'!$U$28","v":0},{"$f":"'7-1'!$V$28","v":1}]
[null,"7-2",{"$f":"'7-2'!$T$28","v":1},{"$f":"'7-2'!$U$28","v":0},{"$f":"'7-2'!$V$28","v":1}]
[null,"7-3",{"$f":"'7-3'!$T$28","v":1},{"$f":"'7-3'!$U$28","v":0},{"$f":"'7-3'!$V$28","v":1}]
[null,"7-4",{"$f":"'7-4'!$T$28","v":0.7407407407407407},{"$f":"'7-4'!$U$28","v":0.2592592592592593},{"$f":"'7-4'!$V$28","v":0.65925925925925921}]
[null,"7-5",{"$f":"'7-5'!$T$28","v":0.7407407407407407},{"$f":"'7-5'!$U$28","v":0.2592592592592593},{"$f":"'7-5'!$V$28","v":0.67777777777777781}]
[null,"7-6",{"$f":"'7-6'!$T$28","v":1},{"$f":"'7-6'!$U$28","v":0},{"$f":"'7-6'!$V$28","v":0.81363636363636371}]
[null,"7-7",{"$f":"'7-7'!$T$28","v":1},{"$f":"'7-7'!$U$28","v":0},{"$f":"'7-7'!$V$28","v":0.89600000000000013}]
[null,"7-8",{"$f":"'7-8'!$T$28","v":1},{"$f":"'7-8'!$U$28","v":0},{"$f":"'7-8'!$V$28","v":0.82608695652173902}]
[null,"المتوسط",{"$f":"AVERAGE(C77:C84)","v":0.93518518518518512},{"$f":"AVERAGE(D77:D84)","v":6.4814814814814825E-2},0.85909504464939246]
[]
[]
["تحليل نتائج فرع",null,{"$f":"'7-1'!M2","v":"Exam"}]
[]
[null,"الصف","الناجحين","الراسبين","التحصيل"]
[null,"7-1",{"$f":"'7-1'!$T$29","v":0.84},{"$f":"'7-1'!$U$29","v":0.16000000000000003},{"$f":"'7-1'!$V$29","v":0.63840000000000008}]
[null,"7-2",{"$f":"'7-2'!$T$29","v":0.69230769230769229},{"$f":"'7-2'!$U$29","v":0.30769230769230771},{"$f":"'7-2'!$V$29","v":0.57461538461538464}]
[null,"7-3",{"$f":"'7-3'!$T$29","v":0.65384615384615385},{"$f":"'7-3'!$U$29","v":0.34615384615384615},{"$f":"'7-3'!$V$29","v":0.59461538461538455}]
[null,"7-4",{"$f":"'7-4'!$T$29","v":0.51851851851851849},{"$f":"'7-4'!$U$29","v":0.48148148148148151},{"$f":"'7-4'!$V$29","v":0.54888888888888887}]
[null,"7-5",{"$f":"'7-5'!$T$29","v":0.46153846153846156},{"$f":"'7-5'!$U$29","v":0.53846153846153844},{"$f":"'7-5'!$V$29","v":0.45692307692307693}]
[null,"7-6",{"$f":"'7-6'!$T$29","v":0.59090909090909094},{"$f":"'7-6'!$U$29","v":0.40909090909090906},{"$f":"'7-6'!$V$29","v":0.55272727272727273}]
[null,"7-7",{"$f":"'7-7'!$T$29","v":0.625},{"$f":"'7-7'!$U$29","v":0.375},{"$f":"'7-7'!$V$29","v":0.53749999999999998}]
[null,"7-8",{"$f":"'7-8'!$T$29","v":0.68181818181818177},{"$f":"'7-8'!$U$29","v":0.31818181818181823},{"$f":"'7-8'!$V$29","v":0.56454545454545457}]
[null,"المتوسط",{"$f":"AVERAGE(C91:C98)","v":0.63299226236726236},{"$f":"AVERAGE(D91:D98)","v":0.36700773763273764},0.55852693278943288]
[]
[]
[]
[]
[]
[]
["مقارنة تحليل نتائج",null,"جميع  الفروع"]
[]
["الفرع",null,"الناجحين","الراسبين","التحصيل"]
[{"$f":"C32","v":"Quizzes"},null,{"$f":"C43","v":0.3615276159026159},{"$f":"D43","v":0.63847238409738416},{"$f":"E43","v":0.39553770188145188}]
[{"$f":"C46","v":"الواجب"},null,{"$f":"C57","v":0.99456521739130432},{"$f":"D57","v":5.4347826086956486E-3},{"$f":"E57","v":0.91425801493192793}]
[{"$f":"C60","v":"المشاركة"},null,{"$f":"C71","v":1},{"$f":"D71","v":0},{"$f":"E71","v":0.89853828136436842}]
[{"$f":"C74","v":"المشروع"},null,{"$f":"C85","v":0.93518518518518512},{"$f":"D85","v":6.4814814814814825E-2},0.85909504464939246]
[{"$f":"C88","v":"Exam"},null,{"$f":"C99","v":0.63299226236726236},{"$f":"D99","v":0.36700773763273764},{"$f":"E99","v":0.55852693278943288}]

{"sheet":"7-1","index":1,"n_rows":31,"n_cols":24,"rows_kept":31,"cut":false,"hidden":false,"merged":[[12,22,12,23],[2,22,2,23],[1,18,1,23],[2,19,2,20],[11,18,11,20],[11,22,11,23],[3,23,7,23],[8,23,10,23],[19,18,20,19],[19,20,20,20],[0,0,0,16],[1,0,2,0],[1,1,2,1],[1,16,2,16],[12,18,12,20]]}
["Grade (7-1) كشف درجات الطلاب  "]
["م","اسم الطالب","Quiz1","Quiz2","Quiz3","Quiz4","Quiz5","Quizzes","الواجب","المشاركة","المشروع","Total","Exam","Final","Percent","Rank","التقدير",null,"تحليل النتائج على حسب التقدير"]
[null,null,5,5,5,5,"درجة5",50,25,15,10,100,100,22.5,"(%)","الترتيب",null,null,"التقدير","المجال",null,"عدد الطلاب","النسبة"]
[1,"البراء أحمد انور خضر سعد",4,3,4,3,null,{"$f":"IF(AND(C4=\"\",D4=\"\",E4=\"\",F4=\"\",G4=\"\"),\"غ\",$H$3*SUM(C4:G4)/SUM($C$3:$G$3))","v":35},25,15,10,{"$f":"IF(AND(C4=\"\",D4=\"\",E4=\"\",F4=\"\",G4=\"\",I4=\"\",J4=\"\",K4=\"\"),\"غ\",SUM(H4:K4))","v":85},94,{"$f":"IF(M4=\"\",\"غ\",IF(L4=\"غ\",M4*0.2,SUM(L4*2.5/$L$3,M4*0.2)))","v":20.925000000000001},{"$f":"IF(N4=\"غ\",\"غ\",N4*100/$N$3/100)","v":0.93},{"$f":"IF(AND(O4=\"غ\"),\"غ\",RANK(O4,$O$4:$O$30)+COUNTIF(O$4:O4,O4)-1)","v":1},{"$f":"IF(O4=\"غ\",\"غ\",IF(O4>=90%,\"ممتاز\",IF(O4>=80%,\"جيد جداً\",IF(O4>=70%,\"جيد\",IF(O4>=60%,\"فوق المتوسط\",IF(O4>=50%,\"متوسط\",IF(O4>=40%,\"دون المتوسط\",IF(O4>=30%,\"ضعيف\",\"دون الضعيف جداً\"))))))))","v":"ممتاز"},null,"ممتاز"," ≥ 90","A+",{"$f":"COUNTIF(Q4:Q30,\"ممتاز\")","v":3},{"$f":"(V4/$V$12)","v":0.12},{"$f":"SUM(W4:W8)","v":0.84000000000000008}]
[2,"الفهد على احمد يعقوب بوشوارب",4,4,4,4,null,40,25,15,10,90,88,19.850000000000001,0.88222222222222224,{"$f":"IF(AND(O5=\"غ\"),\"غ\",RANK(O5,$O$4:$O$30)+COUNTIF(O$4:O5,O5)-1)","v":4},"جيد جداً",null,"جيد جداً","≥ 80","A",{"$f":"COUNTIF(Q4:Q30,\"جيد جداً\")","v":3},0.12]
[3,"جاسم محمد عبدالله السعدى",4,5,4,5,null,45,25,15,10,95,92,20.775000000000002,0.92333333333333334,{"$f":"IF(AND(O6=\"غ\"),\"غ\",RANK(O6,$O$4:$O$30)+COUNTIF(O$4:O6,O6)-1)","v":3},"ممتاز",null,"جيد","≥ 70","B+",{"$f":"COUNTIF(Q4:Q30,\"جيد\")","v":4},0.16]
[4,"حمزه اعليوي",4,4,4,4,null,40,25,15,10,90,68,15.850000000000001,0.70444444444444454,{"$f":"IF(AND(O7=\"غ\"),\"غ\",RANK(O7,$O$4:$O$30)+COUNTIF(O$4:O7,O7)-1)","v":10},"جيد",null,"فوق المتوسط","≥ 60","B",{"$f":"COUNTIF(Q4:Q30,\"فوق المتوسط\")","v":5},0.2]
[5,"حمود عبدالله هجرس العتيق الدوسرى",4,3,4,3,null,35,25,15,10,85,52,12.525,0.55666666666666664,{"$f":"IF(AND(O8=\"غ\"),\"غ\",RANK(O8,$O$4:$O$30)+COUNTIF(O$4:O8,O8)-1)","v":19},"متوسط",null,"متوسط","≥ 50","C",{"$f":"COUNTIF(Q4:Q30,\"متوسط\")","v":6},0.24]
[6,"خليفه فهد جوهر سعيد المحمد",2,5,2,5,null,35,25,15,10,85,30,8.125,0.36111111111111116,{"$f":"IF(AND(O9=\"غ\"),\"غ\",RANK(O9,$O$4:$O$30)+COUNTIF(O$4:O9,O9)-1)","v":24},"ضعيف",null,"دون المتوسط","≥ 40","D",{"$f":"COUNTIF(Q4:Q30,\"دون المتوسط\")","v":2},0.08,{"$f":"SUM(W9:W11)","v":0.16}]
[7,"سالم عبدالله سالم الالشيخ الكوارى",5,4,5,4,null,45,25,15,10,95,86,19.574999999999999,0.87,{"$f":"IF(AND(O10=\"غ\"),\"غ\",RANK(O10,$O$4:$O$30)+COUNTIF(O$4:O10,O10)-1)","v":5},"جيد جداً",null,"ضعيف","≥ 30","E",{"$f":"COUNTIF(Q4:Q30,\"ضعيف\")","v":1},0.04]
[8,"سعود خالد ثانى على السويدى",3,4,3,4,null,35,25,15,10,85,60,14.125,0.62777777777777777,{"$f":"IF(AND(O11=\"غ\"),\"غ\",RANK(O11,$O$4:$O$30)+COUNTIF(O$4:O11,O11)-1)","v":15},"فوق المتوسط",null,"دون الضعيف جداً","< 30","F",{"$f":"COUNTIF(Q4:Q30,\"دون الضعيف جداً\")","v":1},0.04]
[9,"صالح موسى فرج حسن الحمد",4,4,4,4,null,40,25,15,10,90,62,14.65,0.6511111111111112,{"$f":"IF(AND(O12=\"غ\"),\"غ\",RANK(O12,$O$4:$O$30)+COUNTIF(O$4:O12,O12)-1)","v":12},"فوق المتوسط",null,"عدد الطلاب الذي تم اختبارهم",null,null,{"$f":"SUM(V4:V11)","v":25},{"$f":"V12/SUM(V12:V13)","v":1}]
[10,"عبدالرحمن خليل ابراهيم محمد ابراهيم",3,2,3,2,null,25,25,15,10,75,44,10.675000000000001,0.47444444444444445,{"$f":"IF(AND(O13=\"غ\"),\"غ\",RANK(O13,$O$4:$O$30)+COUNTIF(O$4:O13,O13)-1)","v":22},"دون المتوسط",null,"عدد الطلاب الغائبين",null,null,{"$f":"COUNTA(B4:B30)-V12","v":0},{"$f":"V13/SUM(V12:V13)","v":0}]
[11,"عبدالرحمن عبدالله محمد قاسم الشمرى",2,1,2,1,null,15,25,15,10,65,24,6.4250000000000007,0.28555555555555562,{"$f":"IF(AND(O14=\"غ\"),\"غ\",RANK(O14,$O$4:$O$30)+COUNTIF(O$4:O14,O14)-1)","v":25},"دون الضعيف جداً"]
[12,"عبدالرحمن عماد طارق  العبد",4,3,4,3,null,35,25,15,10,85,78,17.725000000000001,0.78777777777777791,{"$f":"IF(AND(O15=\"غ\"),\"غ\",RANK(O15,$O$4:$O$30)+COUNTIF(O$4:O15,O15)-1)","v":7},"جيد",null,"الطلاب","العدد","النسبة"]
[13,"عبدالله المصطفى حافظ محمد مستفيض الرحمن",4,4,4,4,null,40,25,15,10,90,82,18.650000000000002,0.82888888888888901,{"$f":"IF(AND(O16=\"غ\"),\"غ\",RANK(O16,$O$4:$O$30)+COUNTIF(O$4:O16,O16)-1)","v":6},"جيد جداً",null,"الناجحين",{"$f":"SUM(V4:V8)","v":21},{"$f":"X4","v":0.84000000000000008}]
[14,"عبدالله انورعبدالله",3,2,3,2,null,25,25,15,10,75,62,14.275,0.63444444444444448,{"$f":"IF(AND(O17=\"غ\"),\"غ\",RANK(O17,$O$4:$O$30)+COUNTIF(O$4:O17,O17)-1)","v":13},"فوق المتوسط",null,"الراسبين",{"$f":"SUM(V9:V11)","v":4},{"$f":"X9","v":0.16}]
[15,"عبدالله محمد سالم ال الشيخ الكوارى",2,2,2,2,null,20,25,15,10,70,44,10.55,0.46888888888888886,{"$f":"IF(AND(O18=\"غ\"),\"غ\",RANK(O18,$O$4:$O$30)+COUNTIF(O$4:O18,O18)-1)","v":23},"دون المتوسط",null,"المجموع",{"$f":"SUM(T16:T17)","v":25},{"$f":"SUM(U16:U17)","v":1}]
[16,"علي خليل مطلك ",3,4,3,4,null,35,25,15,10,85,50,12.125,0.53888888888888886,{"$f":"IF(AND(O19=\"غ\"),\"غ\",RANK(O19,$O$4:$O$30)+COUNTIF(O$4:O19,O19)-1)","v":20},"متوسط"]
[17,"عيسى على عبدالله محمود الغزال",null,4,null,4,null,20,25,15,10,70,56.000000000000007,12.950000000000003,0.5755555555555556,{"$f":"IF(AND(O20=\"غ\"),\"غ\",RANK(O20,$O$4:$O$30)+COUNTIF(O$4:O20,O20)-1)","v":17},"متوسط",null,"التحصيل الأكاديمي",null,{"$f":"AVERAGE(M4:M30)/M$3","v":0.63840000000000008}]
[18,"عيسى محمد راشد ناصر الكعبى",4,1,4,1,null,25,25,15,10,75,50,11.875,0.52777777777777779,{"$f":"IF(AND(O21=\"غ\"),\"غ\",RANK(O21,$O$4:$O$30)+COUNTIF(O$4:O21,O21)-1)","v":21},"متوسط"]
[19,"مازن الهادى على  حبيب",5,4,5,4,null,45,25,15,10,95,70,16.375,0.72777777777777775,{"$f":"IF(AND(O22=\"غ\"),\"غ\",RANK(O22,$O$4:$O$30)+COUNTIF(O$4:O22,O22)-1)","v":9},"جيد"]
[20,"مازن عمر عبدالله  عثمان",3,4,3,4,null,35,25,15,10,85,94,20.925000000000001,0.93,{"$f":"IF(AND(O23=\"غ\"),\"غ\",RANK(O23,$O$4:$O$30)+COUNTIF(O$4:O23,O23)-1)","v":2},"ممتاز"]
[21,"مبارك سالم سلطان المهندي ",3,5,3,5,null,40,25,15,10,90,56.000000000000007,13.450000000000003,0.59777777777777785,{"$f":"IF(AND(O24=\"غ\"),\"غ\",RANK(O24,$O$4:$O$30)+COUNTIF(O$4:O24,O24)-1)","v":16},"متوسط",null,"الفرع","الناجحين","الراسبين","التحصيل"]
[22,"محمد عامر احمد عامر الهلابى",2,5,2,5,null,35,25,15,10,85,54,12.925000000000001,0.57444444444444442,{"$f":"IF(AND(O25=\"غ\"),\"غ\",RANK(O25,$O$4:$O$30)+COUNTIF(O$4:O25,O25)-1)","v":18},"متوسط",null,{"$f":"H2","v":"Quizzes"},{"$f":"COUNTIF(H4:H30,\">=\"&H$3/2)/COUNT(H4:H30)","v":0.84},{"$f":"IF(T25=\"\",\"\",100%-T25)","v":0.16000000000000003},{"$f":"IF($U25=\"\",\"\",AVERAGE(H4:H30)/H$3)","v":0.66799999999999993}]
[23,"مهنا ناصر مهنا الحمود السليطى",3,4,3,4,null,35,25,15,10,85,66,15.325000000000001,0.68111111111111111,{"$f":"IF(AND(O26=\"غ\"),\"غ\",RANK(O26,$O$4:$O$30)+COUNTIF(O$4:O26,O26)-1)","v":11},"فوق المتوسط",null,{"$f":"I2","v":"الواجب"},{"$f":"COUNTIF(I4:I30,\">=\"&I$3/2)/COUNT(I4:I30)","v":1},{"$f":"IF(T26=\"\",\"\",100%-T26)","v":0},{"$f":"IF($U26=\"\",\"\",AVERAGE(I4:I30)/I$3)","v":1}]
[24,"ناصر سالم دخيل سالم الحمد",2,2,2,2,null,20,25,15,10,70,62,14.15,0.62888888888888883,{"$f":"IF(AND(O27=\"غ\"),\"غ\",RANK(O27,$O$4:$O$30)+COUNTIF(O$4:O27,O27)-1)","v":14},"فوق المتوسط",null,{"$f":"J2","v":"المشاركة"},{"$f":"COUNTIF(J4:J30,\">=\"&J$3/2)/COUNT(J4:J30)","v":1},0,{"$f":"IF($U27=\"\",\"\",AVERAGE(J4:J30)/J$3)","v":1}]
[25,"يوسف على يوسف عبدالرحمن العبدالجبار",3,4,3,4,null,35,25,15,10,85,72,16.524999999999999,0.73444444444444423,{"$f":"IF(AND(O28=\"غ\"),\"غ\",RANK(O28,$O$4:$O$30)+COUNTIF(O$4:O28,O28)-1)","v":8},"جيد",null,{"$f":"K2","v":"المشروع"},{"$f":"COUNTIF(K4:K30,\">=\"&K$3/2)/COUNT(K4:K30)","v":1},0,{"$f":"IF($U28=\"\",\"\",AVERAGE(K4:K30)/K$3)","v":1}]
[null,null,null,null,null,null,null,null,null,null,null,null,"",null,null,null,null,null,{"$f":"M2","v":"Exam"},{"$f":"COUNTIF(M4:M30,\">=\"&M$3/2)/COUNT(M4:M30)","v":0.84},{"$f":"IF(T29=\"\",\"\",100%-T29)","v":0.16000000000000003},{"$f":"IF($U29=\"\",\"\",AVERAGE(M4:M30)/M$3)","v":0.63840000000000008}]
[null,null,null,null,null,null,null,null,null,null,null,null,""]
[null,null,null,null,null,null,null,null,null,null,null,null,""]

{"sheet":"7-2","index":2,"n_rows":31,"n_cols":24,"rows_kept":31,"cut":false,"hidden":false,"merged":[[0,0,0,16],[1,0,2,0],[1,1,2,1],[1,16,2,16],[1,18,1,23],[2,19,2,20],[2,22,2,23],[19,18,20,19],[19,20,20,20],[3,23,7,23],[8,23,10,23],[11,18,11,20],[11,22,11,23],[12,18,12,20],[12,22,12,23]]}
["Grade (7-2) كشف درجات الطلاب  "]
["م","اسم الطالب","Quiz1","Quiz2","Quiz3","Quiz4","Quiz5","Quizzes","الواجب","المشاركة","المشروع","Total","Exam","Final","Percent","Rank","التقدير",null,"تحليل النتائج على حسب التقدير"]
[null,null,5,5,5,5,"درجة5",50,25,15,10,100,100,22.5,"(%)","الترتيب",null,null,"التقدير","المجال",null,"عدد الطلاب","النسبة"]
[1,"اشرف ابراهيم عباس  الصادق",4,5,4,5,null,{"$f":"IF(AND(C4=\"\",D4=\"\",E4=\"\",F4=\"\",G4=\"\"),\"غ\",$H$3*SUM(C4:G4)/SUM($C$3:$G$3))","v":45},25,15,10,{"$f":"IF(AND(C4=\"\",D4=\"\",E4=\"\",F4=\"\",G4=\"\",I4=\"\",J4=\"\",K4=\"\"),\"غ\",SUM(H4:K4))","v":95},94,{"$f":"IF(M4=\"\",\"غ\",IF(L4=\"غ\",M4*0.2,SUM(L4*2.5/$L$3,M4*0.2)))","v":21.175000000000001},{"$f":"IF(N4=\"غ\",\"غ\",N4*100/$N$3/100)","v":0.94111111111111112},{"$f":"IF(AND(O4=\"غ\"),\"غ\",RANK(O4,$O$4:$O$30)+COUNTIF(O$4:O4,O4)-1)","v":1},{"$f":"IF(O4=\"غ\",\"غ\",IF(O4>=90%,\"ممتاز\",IF(O4>=80%,\"جيد جداً\",IF(O4>=70%,\"جيد\",IF(O4>=60%,\"فوق المتوسط\",IF(O4>=50%,\"متوسط\",IF(O4>=40%,\"دون المتوسط\",IF(O4>=30%,\"ضعيف\",\"دون الضعيف جداً\"))))))))","v":"ممتاز"},null,"ممتاز"," ≥ 90","A+",{"$f":"COUNTIF(Q4:Q30,\"ممتاز\")","v":1},{"$f":"(V4/$V$12)","v":3.8461538461538464E-2},{"$f":"SUM(W4:W8)","v":0.69230769230769229}]
[2,"جاسم سلطان جمعان وليد العلى",4,2,4,2,null,{"$f":"IF(AND(C5=\"\",D5=\"\",E5=\"\",F5=\"\",G5=\"\"),\"غ\",$H$3*SUM(C5:G5)/SUM($C$3:$G$3))","v":30},25,15,10,{"$f":"IF(AND(C5=\"\",D5=\"\",E5=\"\",F5=\"\",G5=\"\",I5=\"\",J5=\"\",K5=\"\"),\"غ\",SUM(H5:K5))","v":80},74,{"$f":"IF(M5=\"\",\"غ\",IF(L5=\"غ\",M5*0.2,SUM(L5*2.5/$L$3,M5*0.2)))","v":16.8},{"$f":"IF(N5=\"غ\",\"غ\",N5*100/$N$3/100)","v":0.7466666666666667},{"$f":"IF(AND(O5=\"غ\"),\"غ\",RANK(O5,$O$4:$O$30)+COUNTIF(O$4:O5,O5)-1)","v":6},{"$f":"IF(O5=\"غ\",\"غ\",IF(O5>=90%,\"ممتاز\",IF(O5>=80%,\"جيد جداً\",IF(O5>=70%,\"جيد\",IF(O5>=60%,\"فوق المتوسط\",IF(O5>=50%,\"متوسط\",IF(O5>=40%,\"دون المتوسط\",IF(O5>=30%,\"ضعيف\",\"دون الضعيف جداً\"))))))))","v":"جيد"},null,"جيد جداً","≥ 80","A",{"$f":"COUNTIF(Q4:Q30,\"جيد جداً\")","v":2},7.6923076923076927E-2]
[3,"جفال دهام بشير مرزوق الغانم",2,0,2,0,null,10,25,15,10,60,36,8.6999999999999993,0.38666666666666666,{"$f":"IF(AND(O6=\"غ\"),\"غ\",RANK(O6,$O$4:$O$30)+COUNTIF(O$4:O6,O6)-1)","v":22},"ضعيف",null,"جيد","≥ 70","B+",{"$f":"COUNTIF(Q4:Q30,\"جيد\")","v":4},0.15384615384615385]
[4,"حمد محمد حمد محمد المطاوعه",3,3,3,3,null,30,25,15,10,80,66,15.200000000000001,0.67555555555555558,{"$f":"IF(AND(O7=\"غ\"),\"غ\",RANK(O7,$O$4:$O$30)+COUNTIF(O$4:O7,O7)-1)","v":9},"فوق المتوسط",null,"فوق المتوسط","≥ 60","B",{"$f":"COUNTIF(Q4:Q30,\"فوق المتوسط\")","v":5},0.19230769230769232]
[5,"خالد احمد عبدالله احمد الباكر",null,2,null,2,null,10,25,15,10,60,70,15.5,0.68888888888888888,{"$f":"IF(AND(O8=\"غ\"),\"غ\",RANK(O8,$O$4:$O$30)+COUNTIF(O$4:O8,O8)-1)","v":8},"فوق المتوسط",null,"متوسط","≥ 50","C",{"$f":"COUNTIF(Q4:Q30,\"متوسط\")","v":6},0.23076923076923078]
[6,"خليفه عبدالله محمد عبدالله البوعينين",1,1,1,1,null,10,25,15,10,60,50,11.5,0.51111111111111118,{"$f":"IF(AND(O9=\"غ\"),\"غ\",RANK(O9,$O$4:$O$30)+COUNTIF(O$4:O9,O9)-1)","v":18},"متوسط",null,"دون المتوسط","≥ 40","D",{"$f":"COUNTIF(Q4:Q30,\"دون المتوسط\")","v":3},0.11538461538461539,{"$f":"SUM(W9:W11)","v":0.30769230769230771}]
[7,"خميس سالم سليمان احمد سويلم",2,3,2,3,null,25,25,15,10,75,32,8.2750000000000004,0.36777777777777776,{"$f":"IF(AND(O10=\"غ\"),\"غ\",RANK(O10,$O$4:$O$30)+COUNTIF(O$4:O10,O10)-1)","v":24},"ضعيف",null,"ضعيف","≥ 30","E",{"$f":"COUNTIF(Q4:Q30,\"ضعيف\")","v":4},0.15384615384615385]
[8,"سعود ابراهيم ميرزا محمد القاسمى",3,3,3,3,null,30,25,15,10,80,78,17.600000000000001,0.78222222222222226,{"$f":"IF(AND(O11=\"غ\"),\"غ\",RANK(O11,$O$4:$O$30)+COUNTIF(O$4:O11,O11)-1)","v":4},"جيد",null,"دون الضعيف جداً","< 30","F",{"$f":"COUNTIF(Q4:Q30,\"دون الضعيف جداً\")","v":1},3.8461538461538464E-2]
[9,"سعود صالح على بورايح الكوارى",2,2,2,2,null,20,25,15,10,70,66,14.950000000000001,0.66444444444444439,{"$f":"IF(AND(O12=\"غ\"),\"غ\",RANK(O12,$O$4:$O$30)+COUNTIF(O$4:O12,O12)-1)","v":10},"فوق المتوسط",null,"عدد الطلاب الذي تم اختبارهم",null,null,{"$f":"SUM(V4:V11)","v":26},{"$f":"V12/SUM(V12:V13)","v":1}]
[10,"شامى محمد عايد ابراهيم الحمد",3,2,3,2,null,25,25,15,10,75,46,11.075000000000001,0.49222222222222223,{"$f":"IF(AND(O13=\"غ\"),\"غ\",RANK(O13,$O$4:$O$30)+COUNTIF(O$4:O13,O13)-1)","v":20},"دون المتوسط",null,"عدد الطلاب الغائبين",null,null,{"$f":"COUNTA(B4:B30)-V12","v":0},{"$f":"V13/SUM(V12:V13)","v":0}]
[11,"عبدالرحمن حمد عيد الخويطر العجمى",2,1,2,1,null,15,25,15,10,65,50,11.625,0.51666666666666661,{"$f":"IF(AND(O14=\"غ\"),\"غ\",RANK(O14,$O$4:$O$30)+COUNTIF(O$4:O14,O14)-1)","v":17},"متوسط"]
[12,"عبدالله خالد فرج سعد الغانم",4,2,4,2,null,30,25,15,10,80,50,12,0.53333333333333333,{"$f":"IF(AND(O15=\"غ\"),\"غ\",RANK(O15,$O$4:$O$30)+COUNTIF(O$4:O15,O15)-1)","v":16},"متوسط",null,"الطلاب","العدد","النسبة"]
[13,"عبدالله محمد الياس صاحب قريشى",2,4,2,4,null,30,25,15,10,80,70,16,0.71111111111111114,{"$f":"IF(AND(O16=\"غ\"),\"غ\",RANK(O16,$O$4:$O$30)+COUNTIF(O$4:O16,O16)-1)","v":7},"جيد",null,"الناجحين",{"$f":"SUM(V4:V8)","v":18},{"$f":"X4","v":0.69230769230769229}]
[14,"عبدالله محمد محمد صالح احمدى",3,4,3,4,null,35,25,15,10,85,88,19.725000000000001,0.87666666666666671,{"$f":"IF(AND(O17=\"غ\"),\"غ\",RANK(O17,$O$4:$O$30)+COUNTIF(O$4:O17,O17)-1)","v":2},"جيد جداً",null,"الراسبين",{"$f":"SUM(V9:V11)","v":8},{"$f":"X9","v":0.30769230769230771}]
[15,"علي راشد الكشاشي المهندي ",3,4,3,4,null,35,25,15,10,85,62,14.525,0.64555555555555555,{"$f":"IF(AND(O18=\"غ\"),\"غ\",RANK(O18,$O$4:$O$30)+COUNTIF(O$4:O18,O18)-1)","v":11},"فوق المتوسط",null,"المجموع",{"$f":"SUM(T16:T17)","v":26},{"$f":"SUM(U16:U17)","v":1}]
[16,"عمر خالد محمد هلال محمد",3,3,3,3,null,30,25,15,10,80,78,17.600000000000001,0.78222222222222226,{"$f":"IF(AND(O19=\"غ\"),\"غ\",RANK(O19,$O$4:$O$30)+COUNTIF(O$4:O19,O19)-1)","v":5},"جيد"]
[17,"غانم محمد مبارك الهديفى الكوارى",2,3,2,3,null,25,25,15,10,75,56.000000000000007,13.075000000000003,0.58111111111111124,{"$f":"IF(AND(O20=\"غ\"),\"غ\",RANK(O20,$O$4:$O$30)+COUNTIF(O$4:O20,O20)-1)","v":13},"متوسط",null,"التحصيل الأكاديمي",null,{"$f":"AVERAGE(M4:M30)/M$3","v":0.57461538461538464}]
[18,"مازن ماهر",3,3,3,3,null,30,25,15,10,80,60,14,0.62222222222222223,{"$f":"IF(AND(O21=\"غ\"),\"غ\",RANK(O21,$O$4:$O$30)+COUNTIF(O$4:O21,O21)-1)","v":12},"فوق المتوسط"]
[19,"مبارك زايد   ماهر",2,2,2,2,null,20,25,15,10,70,42,10.15,0.45111111111111113,{"$f":"IF(AND(O22=\"غ\"),\"غ\",RANK(O22,$O$4:$O$30)+COUNTIF(O$4:O22,O22)-1)","v":21},"دون المتوسط"]
[20,"محمد خالد على عبدالله ابراهيم",3,2,3,2,null,25,25,15,10,75,32,8.2750000000000004,0.36777777777777776,{"$f":"IF(AND(O23=\"غ\"),\"غ\",RANK(O23,$O$4:$O$30)+COUNTIF(O$4:O23,O23)-1)","v":25},"ضعيف"]
[21,"محمد سعد محمد سعيد الكوارى",null,1,null,1,null,5,25,15,10,55,26,6.5750000000000002,0.29222222222222222,{"$f":"IF(AND(O24=\"غ\"),\"غ\",RANK(O24,$O$4:$O$30)+COUNTIF(O$4:O24,O24)-1)","v":26},"دون الضعيف جداً",null,"الفرع","الناجحين","الراسبين","التحصيل"]
[22,"محمد عبدالرحمن محمد  طالب",3,3,3,3,null,30,25,15,10,80,54,12.8,0.56888888888888889,{"$f":"IF(AND(O25=\"غ\"),\"غ\",RANK(O25,$O$4:$O$30)+COUNTIF(O$4:O25,O25)-1)","v":14},"متوسط",null,{"$f":"H2","v":"Quizzes"},{"$f":"COUNTIF(H4:H30,\">=\"&H$3/2)/COUNT(H4:H30)","v":0.65384615384615385},{"$f":"IF(T25=\"\",\"\",100%-T25)","v":0.34615384615384615},{"$f":"IF($U25=\"\",\"\",AVERAGE(H4:H30)/H$3)","v":0.49615384615384611}]
[23,"مهدى ناصر مهدى يوسف الحداد",3,5,3,5,null,40,25,15,10,90,80,18.25,0.81111111111111112,{"$f":"IF(AND(O26=\"غ\"),\"غ\",RANK(O26,$O$4:$O$30)+COUNTIF(O$4:O26,O26)-1)","v":3},"جيد جداً",null,{"$f":"I2","v":"الواجب"},{"$f":"COUNTIF(I4:I30,\">=\"&I$3/2)/COUNT(I4:I30)","v":1},0,{"$f":"IF($U26=\"\",\"\",AVERAGE(I4:I30)/I$3)","v":1}]
[24,"ناصر سلمان ناصر ارشيد المسلم",2,1,2,1,null,15,25,15,10,65,54,12.425000000000001,0.55222222222222217,{"$f":"IF(AND(O27=\"غ\"),\"غ\",RANK(O27,$O$4:$O$30)+COUNTIF(O$4:O27,O27)-1)","v":15},"متوسط",null,{"$f":"J2","v":"المشاركة"},{"$f":"COUNTIF(J4:J30,\">=\"&J$3/2)/COUNT(J4:J30)","v":1},0,{"$f":"IF($U27=\"\",\"\",AVERAGE(J4:J30)/J$3)","v":1}]
[25,"يوسف عبدالعزيز احمد عبدالعزيز المهيزع",2,null,2,null,null,10,25,15,10,60,48,11.100000000000001,0.4933333333333334,{"$f":"IF(AND(O28=\"غ\"),\"غ\",RANK(O28,$O$4:$O$30)+COUNTIF(O$4:O28,O28)-1)","v":19},"دون المتوسط",null,{"$f":"K2","v":"المشروع"},{"$f":"COUNTIF(K4:K30,\">=\"&K$3/2)/COUNT(K4:K30)","v":1},0,{"$f":"IF($U28=\"\",\"\",AVERAGE(K4:K30)/K$3)","v":1}]
[26,"يوسف غانم على فارس البنعلى",4,3,4,3,null,{"$f":"IF(AND(C29=\"\",D29=\"\",E29=\"\",F29=\"\",G29=\"\"),\"غ\",$H$3*SUM(C29:G29)/SUM($C$3:$G$3))","v":35},25,15,10,{"$f":"IF(AND(C29=\"\",D29=\"\",E29=\"\",F29=\"\",G29=\"\",I29=\"\",J29=\"\",K29=\"\"),\"غ\",SUM(H29:K29))","v":85},32,{"$f":"IF(M29=\"\",\"غ\",IF(L29=\"غ\",M29*0.2,SUM(L29*2.5/$L$3,M29*0.2)))","v":8.5250000000000004},0.37888888888888883,{"$f":"IF(AND(O29=\"غ\"),\"غ\",RANK(O29,$O$4:$O$30)+COUNTIF(O$4:O29,O29)-1)","v":23},{"$f":"IF(O29=\"غ\",\"غ\",IF(O29>=90%,\"ممتاز\",IF(O29>=80%,\"جيد جداً\",IF(O29>=70%,\"جيد\",IF(O29>=60%,\"فوق المتوسط\",IF(O29>=50%,\"متوسط\",IF(O29>=40%,\"دون المتوسط\",IF(O29>=30%,\"ضعيف\",\"دون الضعيف جداً\"))))))))","v":"ضعيف"},null,{"$f":"M2","v":"Exam"},{"$f":"COUNTIF(M4:M30,\">=\"&M$3/2)/COUNT(M4:M30)","v":0.69230769230769229},0.30769230769230771,{"$f":"IF($U29=\"\",\"\",AVERAGE(M4:M30)/M$3)","v":0.57461538461538464}]
[null,null,null,null,null,null,null,null,null,null,null,null,""]
[null,null,null,null,null,null,null,null,null,null,null,null,""]

{"sheet":"7-3","index":3,"n_rows":31,"n_cols":24,"rows_kept":31,"cut":false,"hidden":false,"merged":[[0,0,0,16],[1,0,2,0],[1,1,2,1],[1,16,2,16],[1,18,1,23],[2,19,2,20],[2,22,2,23],[19,18,20,19],[19,20,20,20],[3,23,7,23],[8,23,10,23],[11,18,11,20],[11,22,11,23],[12,18,12,20],[12,22,12,23]]}
["Grade (7-3) كشف درجات الطلاب  "]
["م","اسم الطالب","Quiz1","Quiz2","Quiz3","Quiz4","Quiz5","Quizzes","الواجب","المشاركة","المشروع","Total","Exam","Final","Percent","Rank","التقدير",null,"تحليل النتائج على حسب التقدير"]
[null,null,5,5,5,5,"درجة5",50,25,15,10,100,100,22.5,"(%)","الترتيب",null,null,"التقدير","المجال",null,"عدد الطلاب","النسبة"]
[1,"ابراهيم محمود ابراهيم محمود جبر",5,5,5,5,null,{"$f":"IF(AND(C4=\"\",D4=\"\",E4=\"\",F4=\"\",G4=\"\"),\"غ\",$H$3*SUM(C4:G4)/SUM($C$3:$G$3))","v":50},25,15,10,{"$f":"IF(AND(C4=\"\",D4=\"\",E4=\"\",F4=\"\",G4=\"\",I4=\"\",J4=\"\",K4=\"\"),\"غ\",SUM(H4:K4))","v":100},80,{"$f":"IF(M4=\"\",\"غ\",IF(L4=\"غ\",M4*0.2,SUM(L4*2.5/$L$3,M4*0.2)))","v":18.5},{"$f":"IF(N4=\"غ\",\"غ\",N4*100/$N$3/100)","v":0.8222222222222223},{"$f":"IF(AND(O4=\"غ\"),\"غ\",RANK(O4,$O$4:$O$30)+COUNTIF(O$4:O4,O4)-1)","v":5},{"$f":"IF(O4=\"غ\",\"غ\",IF(O4>=90%,\"ممتاز\",IF(O4>=80%,\"جيد جداً\",IF(O4>=70%,\"جيد\",IF(O4>=60%,\"فوق المتوسط\",IF(O4>=50%,\"متوسط\",IF(O4>=40%,\"دون المتوسط\",IF(O4>=30%,\"ضعيف\",\"دون الضعيف جداً\"))))))))","v":"جيد جداً"},null,"ممتاز"," ≥ 90","A+",{"$f":"COUNTIF(Q4:Q30,\"ممتاز\")","v":2},{"$f":"(V4/$V$12)","v":7.6923076923076927E-2},{"$f":"SUM(W4:W8)","v":0.65384615384615385}]
[2,"احمد يوسف حسن عيد الكوارى",3,3,3,3,null,{"$f":"IF(AND(C5=\"\",D5=\"\",E5=\"\",F5=\"\",G5=\"\"),\"غ\",$H$3*SUM(C5:G5)/SUM($C$3:$G$3))","v":30},25,15,10,{"$f":"IF(AND(C5=\"\",D5=\"\",E5=\"\",F5=\"\",G5=\"\",I5=\"\",J5=\"\",K5=\"\"),\"غ\",SUM(H5:K5))","v":80},86,{"$f":"IF(M5=\"\",\"غ\",IF(L5=\"غ\",M5*0.2,SUM(L5*2.5/$L$3,M5*0.2)))","v":19.2},{"$f":"IF(N5=\"غ\",\"غ\",N5*100/$N$3/100)","v":0.85333333333333328},{"$f":"IF(AND(O5=\"غ\"),\"غ\",RANK(O5,$O$4:$O$30)+COUNTIF(O$4:O5,O5)-1)","v":4},{"$f":"IF(O5=\"غ\",\"غ\",IF(O5>=90%,\"ممتاز\",IF(O5>=80%,\"جيد جداً\",IF(O5>=70%,\"جيد\",IF(O5>=60%,\"فوق المتوسط\",IF(O5>=50%,\"متوسط\",IF(O5>=40%,\"دون المتوسط\",IF(O5>=30%,\"ضعيف\",\"دون الضعيف جداً\"))))))))","v":"جيد جداً"},null,"جيد جداً","≥ 80","A",{"$f":"COUNTIF(Q4:Q30,\"جيد جداً\")","v":5},0.19230769230769232]
[3,"امان خالد اسماعيل سالم العدسانى",3,null,3,null,null,15,25,15,10,65,50,11.625,0.51666666666666661,{"$f":"IF(AND(O6=\"غ\"),\"غ\",RANK(O6,$O$4:$O$30)+COUNTIF(O$4:O6,O6)-1)","v":16},"متوسط",null,"جيد","≥ 70","B+",{"$f":"COUNTIF(Q4:Q30,\"جيد\")","v":1},3.8461538461538464E-2]
[4,"جاسم راشد على راشد المهندى",3,4,3,4,null,35,25,15,10,85,44,10.925000000000001,0.48555555555555557,{"$f":"IF(AND(O7=\"غ\"),\"غ\",RANK(O7,$O$4:$O$30)+COUNTIF(O$4:O7,O7)-1)","v":18},"دون المتوسط",null,"فوق المتوسط","≥ 60","B",{"$f":"COUNTIF(Q4:Q30,\"فوق المتوسط\")","v":4},0.15384615384615385]
[5,"حامد محمد   طاهر",5,5,5,5,null,50,25,15,10,100,86,19.7,0.87555555555555553,{"$f":"IF(AND(O8=\"غ\"),\"غ\",RANK(O8,$O$4:$O$30)+COUNTIF(O$4:O8,O8)-1)","v":3},"جيد جداً",null,"متوسط","≥ 50","C",{"$f":"COUNTIF(Q4:Q30,\"متوسط\")","v":5},0.19230769230769232]
[6,"حمد ماجد خاطر الخويطر العجمى",2,2,2,2,null,20,25,15,10,70,44,10.55,0.46888888888888886,{"$f":"IF(AND(O9=\"غ\"),\"غ\",RANK(O9,$O$4:$O$30)+COUNTIF(O$4:O9,O9)-1)","v":20},"دون المتوسط",null,"دون المتوسط","≥ 40","D",{"$f":"COUNTIF(Q4:Q30,\"دون المتوسط\")","v":8},0.30769230769230771,{"$f":"SUM(W9:W11)","v":0.34615384615384615}]
[7,"خالد جمال غيث الخويطر العجمى",5,4,5,4,null,45,25,15,10,95,92,20.775000000000002,0.92333333333333334,{"$f":"IF(AND(O10=\"غ\"),\"غ\",RANK(O10,$O$4:$O$30)+COUNTIF(O$4:O10,O10)-1)","v":2},"ممتاز",null,"ضعيف","≥ 30","E",{"$f":"COUNTIF(Q4:Q30,\"ضعيف\")","v":1},3.8461538461538464E-2]
[8,"خليفه راشد جابر راشد الدوسرى",4,4,4,4,null,40,25,15,10,90,57.999999999999993,13.85,0.61555555555555552,{"$f":"IF(AND(O11=\"غ\"),\"غ\",RANK(O11,$O$4:$O$30)+COUNTIF(O$4:O11,O11)-1)","v":11},"فوق المتوسط",null,"دون الضعيف جداً","< 30","F",{"$f":"COUNTIF(Q4:Q30,\"دون الضعيف جداً\")","v":0},0]
[9,"درويش ابراهيم درويش عبدالله مشهدى",null,4,null,4,null,20,25,15,10,70,82,18.150000000000002,0.80666666666666675,{"$f":"IF(AND(O12=\"غ\"),\"غ\",RANK(O12,$O$4:$O$30)+COUNTIF(O$4:O12,O12)-1)","v":6},"جيد جداً",null,"عدد الطلاب الذي تم اختبارهم",null,null,{"$f":"SUM(V4:V11)","v":26},{"$f":"V12/SUM(V12:V13)","v":1}]
[10,"شافى ابراهيم مبارك بتال الدوسرى",3,0,3,0,null,15,25,15,10,65,40,9.625,0.42777777777777781,{"$f":"IF(AND(O13=\"غ\"),\"غ\",RANK(O13,$O$4:$O$30)+COUNTIF(O$4:O13,O13)-1)","v":25},"دون المتوسط",null,"عدد الطلاب الغائبين",null,null,{"$f":"COUNTA(B4:B30)-V12","v":0},{"$f":"V13/SUM(V12:V13)","v":0}]
[11,"صباح مبارك اسماعيل فرج العبيدان",3,null,3,null,null,15,25,15,10,65,42,10.025,0.44555555555555559,{"$f":"IF(AND(O14=\"غ\"),\"غ\",RANK(O14,$O$4:$O$30)+COUNTIF(O$4:O14,O14)-1)","v":21},"دون المتوسط"]
[12,"عبد الرحمن إبراهيم عبد الله المناعي",3,2,3,2,null,25,25,15,10,75,40,9.875,0.43888888888888888,{"$f":"IF(AND(O15=\"غ\"),\"غ\",RANK(O15,$O$4:$O$30)+COUNTIF(O$4:O15,O15)-1)","v":23},"دون المتوسط",null,"الطلاب","العدد","النسبة"]
[13,"عبدالرحمن حفظ   محمد",3,4,3,4,null,35,25,15,10,85,80,18.125,0.80555555555555558,{"$f":"IF(AND(O16=\"غ\"),\"غ\",RANK(O16,$O$4:$O$30)+COUNTIF(O$4:O16,O16)-1)","v":7},"جيد جداً",null,"الناجحين",{"$f":"SUM(V4:V8)","v":17},{"$f":"X4","v":0.65384615384615385}]
[14,"عبدالرحمن محمد اسامه عثمان محمد",4,3,4,3,null,35,25,15,10,85,68,15.725000000000001,0.698888888888889,{"$f":"IF(AND(O17=\"غ\"),\"غ\",RANK(O17,$O$4:$O$30)+COUNTIF(O$4:O17,O17)-1)","v":9},"فوق المتوسط",null,"الراسبين",{"$f":"SUM(V9:V11)","v":9},{"$f":"X9","v":0.34615384615384615}]
[15,"عبدالله خالد على الشيخ الكوارى",2,null,2,null,null,10,25,15,10,60,50,11.5,0.51111111111111118,{"$f":"IF(AND(O18=\"غ\"),\"غ\",RANK(O18,$O$4:$O$30)+COUNTIF(O$4:O18,O18)-1)","v":17},"متوسط",null,"المجموع",{"$f":"SUM(T16:T17)","v":26},{"$f":"SUM(U16:U17)","v":1}]
[16,"عبدالله مبارك درويش محمد ابوهميل",2,1,2,1,null,15,25,15,10,65,60,13.625,0.60555555555555562,{"$f":"IF(AND(O19=\"غ\"),\"غ\",RANK(O19,$O$4:$O$30)+COUNTIF(O$4:O19,O19)-1)","v":12},"فوق المتوسط"]
[17,"عبدالله ناصر عبدالله العلى المعاضيد",1,1,1,1,null,10,25,15,10,60,28.000000000000004,7.1000000000000014,0.31555555555555559,{"$f":"IF(AND(O20=\"غ\"),\"غ\",RANK(O20,$O$4:$O$30)+COUNTIF(O$4:O20,O20)-1)","v":26},"ضعيف",null,"التحصيل الأكاديمي",null,{"$f":"AVERAGE(M4:M30)/M$3","v":0.59461538461538455}]
[18,"غيث ناصر غيث الخويطر العجمى",2,3,2,3,null,25,25,15,10,75,50,11.875,0.52777777777777779,{"$f":"IF(AND(O21=\"غ\"),\"غ\",RANK(O21,$O$4:$O$30)+COUNTIF(O$4:O21,O21)-1)","v":15},"متوسط"]
[19,"ماجد سلطان عبدالرحمن عبدالله الغزال",null,2,null,2,null,10,25,15,10,60,42,9.9,0.44,{"$f":"IF(AND(O22=\"غ\"),\"غ\",RANK(O22,$O$4:$O$30)+COUNTIF(O$4:O22,O22)-1)","v":22},"دون المتوسط"]
[20,"مبارك سالم محمد سالم الشحبل",3,2,3,2,null,25,25,15,10,75,40,9.875,0.43888888888888888,{"$f":"IF(AND(O23=\"غ\"),\"غ\",RANK(O23,$O$4:$O$30)+COUNTIF(O$4:O23,O23)-1)","v":24},"دون المتوسط"]
[21,"محمد خليفه سالمين سيار المحمد",2,3,2,3,null,25,25,15,10,75,44,10.675000000000001,0.47444444444444445,{"$f":"IF(AND(O24=\"غ\"),\"غ\",RANK(O24,$O$4:$O$30)+COUNTIF(O$4:O24,O24)-1)","v":19},"دون المتوسط",null,"الفرع","الناجحين","الراسبين","التحصيل"]
[22,"محمد عبدالكريم عبدالرحيم  عبدالله",3,3,3,3,null,30,25,15,10,80,56.000000000000007,13.200000000000003,0.58666666666666678,{"$f":"IF(AND(O25=\"غ\"),\"غ\",RANK(O25,$O$4:$O$30)+COUNTIF(O$4:O25,O25)-1)","v":13},"متوسط",null,{"$f":"H2","v":"Quizzes"},{"$f":"COUNTIF(H4:H30,\">=\"&H$3/2)/COUNT(H4:H30)","v":0.65384615384615385},{"$f":"IF(T25=\"\",\"\",100%-T25)","v":0.34615384615384615},{"$f":"IF($U25=\"\",\"\",AVERAGE(H4:H30)/H$3)","v":0.56153846153846154}]
[23,"مشعل ناصر محمد قاسم السبيعى",2,4,2,4,null,30,25,15,10,80,50,12,0.53333333333333333,{"$f":"IF(AND(O26=\"غ\"),\"غ\",RANK(O26,$O$4:$O$30)+COUNTIF(O$4:O26,O26)-1)","v":14},"متوسط",null,{"$f":"I2","v":"الواجب"},{"$f":"COUNTIF(I4:I30,\">=\"&I$3/2)/COUNT(I4:I30)","v":1},0,{"$f":"IF($U26=\"\",\"\",AVERAGE(I4:I30)/I$3)","v":1}]
[24,"ناصر على ناصر الاسود الكبيسى",2,4,2,4,null,30,25,15,10,80,68,15.600000000000001,0.69333333333333347,{"$f":"IF(AND(O27=\"غ\"),\"غ\",RANK(O27,$O$4:$O$30)+COUNTIF(O$4:O27,O27)-1)","v":10},"فوق المتوسط",null,{"$f":"J2","v":"المشاركة"},{"$f":"COUNTIF(J4:J30,\">=\"&J$3/2)/COUNT(J4:J30)","v":1},0,{"$f":"IF($U27=\"\",\"\",AVERAGE(J4:J30)/J$3)","v":1}]
[25,"يوسف صالح احمد ابوبكر حسين",4,5,4,5,null,45,25,15,10,95,72,16.774999999999999,0.74555555555555542,{"$f":"IF(AND(O28=\"غ\"),\"غ\",RANK(O28,$O$4:$O$30)+COUNTIF(O$4:O28,O28)-1)","v":8},"جيد",null,{"$f":"K2","v":"المشروع"},{"$f":"COUNTIF(K4:K30,\">=\"&K$3/2)/COUNT(K4:K30)","v":1},0,{"$f":"IF($U28=\"\",\"\",AVERAGE(K4:K30)/K$3)","v":1}]
[26,"يونس محمد محمد  هيثم",4,5,4,5,null,{"$f":"IF(AND(C29=\"\",D29=\"\",E29=\"\",F29=\"\",G29=\"\"),\"غ\",$H$3*SUM(C29:G29)/SUM($C$3:$G$3))","v":45},25,15,10,{"$f":"IF(AND(C29=\"\",D29=\"\",E29=\"\",F29=\"\",G29=\"\",I29=\"\",J29=\"\",K29=\"\"),\"غ\",SUM(H29:K29))","v":95},94,{"$f":"IF(M29=\"\",\"غ\",IF(L29=\"غ\",M29*0.2,SUM(L29*2.5/$L$3,M29*0.2)))","v":21.175000000000001},0.94111111111111112,{"$f":"IF(AND(O29=\"غ\"),\"غ\",RANK(O29,$O$4:$O$30)+COUNTIF(O$4:O29,O29)-1)","v":1},{"$f":"IF(O29=\"غ\",\"غ\",IF(O29>=90%,\"ممتاز\",IF(O29>=80%,\"جيد جداً\",IF(O29>=70%,\"جيد\",IF(O29>=60%,\"فوق المتوسط\",IF(O29>=50%,\"متوسط\",IF(O29>=40%,\"دون المتوسط\",IF(O29>=30%,\"ضعيف\",\"دون الضعيف جداً\"))))))))","v":"ممتاز"},null,{"$f":"M2","v":"Exam"},{"$f":"COUNTIF(M4:M30,\">=\"&M$3/2)/COUNT(M4:M30)","v":0.65384615384615385},0.34615384615384615,{"$f":"IF($U29=\"\",\"\",AVERAGE(M4:M30)/M$3)","v":0.59461538461538455}]
[null,null,null,null,null,null,null,null,null,null,null,null,""]
[null,null,null,null,null,null,null,null,null,null,null,null,""]

{"sheet":"7-4","index":4,"n_rows":31,"n_cols":24,"rows_kept":31,"cut":false,"hidden":false,"merged":[[0,0,0,16],[1,0,2,0],[1,1,2,1],[1,16,2,16],[1,18,1,23],[2,19,2,20],[2,22,2,23],[19,18,20,19],[19,20,20,20],[3,23,7,23],[8,23,10,23],[11,18,11,20],[11,22,11,23],[12,18,12,20],[12,22,12,23]]}
["Grade (7-4) كشف درجات الطلاب  "]
["م","اسم الطالب","Quiz1","Quiz2","Quiz3","Quiz4","Quiz5","Quizzes","الواجب","المشاركة","المشروع","Total","Exam","Final","Percent","Rank","التقدير",null,"تحليل النتائج على حسب التقدير"]
[null,null,5,5,5,5,5,50,25,15,10,100,100,22.5,"(%)","الترتيب",null,null,"التقدير","المجال",null,"عدد الطلاب","النسبة"]
[1,"احمد حافظ",3.5,2,3.5,2,null,{"$f":"IF(AND(C4=\"\",D4=\"\",E4=\"\",F4=\"\",G4=\"\"),\"غ\",$H$3*SUM(C4:G4)/SUM($C$3:$G$3))","v":22},25,15,10,{"$f":"IF(AND(C4=\"\",D4=\"\",E4=\"\",F4=\"\",G4=\"\",I4=\"\",J4=\"\",K4=\"\"),\"غ\",SUM(H4:K4))","v":72},92,{"$f":"IF(M4=\"\",\"غ\",IF(L4=\"غ\",M4*0.2,SUM(L4*2.5/$L$3,M4*0.2)))","v":20.200000000000003},{"$f":"IF(N4=\"غ\",\"غ\",N4*100/$N$3/100)","v":0.8977777777777779},{"$f":"IF(AND(O4=\"غ\"),\"غ\",RANK(O4,$O$4:$O$30)+COUNTIF(O$4:O4,O4)-1)","v":1},{"$f":"IF(O4=\"غ\",\"غ\",IF(O4>=90%,\"ممتاز\",IF(O4>=80%,\"جيد جداً\",IF(O4>=70%,\"جيد\",IF(O4>=60%,\"فوق المتوسط\",IF(O4>=50%,\"متوسط\",IF(O4>=40%,\"دون المتوسط\",IF(O4>=30%,\"ضعيف\",\"دون الضعيف جداً\"))))))))","v":"جيد جداً"},null,"ممتاز"," ≥ 90","A+",{"$f":"COUNTIF(Q4:Q30,\"ممتاز\")","v":0},{"$f":"(V4/$V$12)","v":0},{"$f":"SUM(W4:W8)","v":0.51851851851851849}]
[2,"احمد يوسف احمد ناصر الحميدى",1.5,1,1.5,1,null,{"$f":"IF(AND(C5=\"\",D5=\"\",E5=\"\",F5=\"\",G5=\"\"),\"غ\",$H$3*SUM(C5:G5)/SUM($C$3:$G$3))","v":10},20,10,3,{"$f":"IF(AND(C5=\"\",D5=\"\",E5=\"\",F5=\"\",G5=\"\",I5=\"\",J5=\"\",K5=\"\"),\"غ\",SUM(H5:K5))","v":43},70,{"$f":"IF(M5=\"\",\"غ\",IF(L5=\"غ\",M5*0.2,SUM(L5*2.5/$L$3,M5*0.2)))","v":15.074999999999999},{"$f":"IF(N5=\"غ\",\"غ\",N5*100/$N$3/100)","v":0.67},{"$f":"IF(AND(O5=\"غ\"),\"غ\",RANK(O5,$O$4:$O$30)+COUNTIF(O$4:O5,O5)-1)","v":8},{"$f":"IF(O5=\"غ\",\"غ\",IF(O5>=90%,\"ممتاز\",IF(O5>=80%,\"جيد جداً\",IF(O5>=70%,\"جيد\",IF(O5>=60%,\"فوق المتوسط\",IF(O5>=50%,\"متوسط\",IF(O5>=40%,\"دون المتوسط\",IF(O5>=30%,\"ضعيف\",\"دون الضعيف جداً\"))))))))","v":"فوق المتوسط"},null,"جيد جداً","≥ 80","A",{"$f":"COUNTIF(Q4:Q30,\"جيد جداً\")","v":5},0.18518518518518517]
[3,"ايمن خالد سليمان  محمد",3,3,3,3,null,24,25,15,10,74,90,19.850000000000001,0.88222222222222224,{"$f":"IF(AND(O6=\"غ\"),\"غ\",RANK(O6,$O$4:$O$30)+COUNTIF(O$4:O6,O6)-1)","v":4},"جيد جداً",null,"جيد","≥ 70","B+",{"$f":"COUNTIF(Q4:Q30,\"جيد\")","v":2},7.407407407407407E-2]
[4,"جاسم احمد سعد ال سعد الكوارى",3.5,2.5,3.5,2.5,null,24,25,15,10,74,78,17.450000000000003,0.77555555555555566,{"$f":"IF(AND(O7=\"غ\"),\"غ\",RANK(O7,$O$4:$O$30)+COUNTIF(O$4:O7,O7)-1)","v":6},"جيد",null,"فوق المتوسط","≥ 60","B",{"$f":"COUNTIF(Q4:Q30,\"فوق المتوسط\")","v":3},0.1111111111111111]
[5,"حجازى سلام عمر سلام",0.5,2,0.5,2,null,10,25,11,5,51,34,8.0750000000000011,0.35888888888888892,{"$f":"IF(AND(O8=\"غ\"),\"غ\",RANK(O8,$O$4:$O$30)+COUNTIF(O$4:O8,O8)-1)","v":21},"ضعيف",null,"متوسط","≥ 50","C",{"$f":"COUNTIF(Q4:Q30,\"متوسط\")","v":4},0.14814814814814814]
[6,"حمد فاضل فاضل جمعه مفتاح",2.5,2,2.5,2,null,18,25,15,10,68,92,20.100000000000001,0.89333333333333342,{"$f":"IF(AND(O9=\"غ\"),\"غ\",RANK(O9,$O$4:$O$30)+COUNTIF(O$4:O9,O9)-1)","v":3},"جيد جداً",null,"دون المتوسط","≥ 40","D",{"$f":"COUNTIF(Q4:Q30,\"دون المتوسط\")","v":4},0.14814814814814814,{"$f":"SUM(W9:W11)","v":0.48148148148148145}]
[7,"خالد صالح محمد المحرى المهندى",0.5,1.5,0.5,1.5,null,8,24,12,5,49,28.000000000000004,6.8250000000000011,0.3033333333333334,{"$f":"IF(AND(O10=\"غ\"),\"غ\",RANK(O10,$O$4:$O$30)+COUNTIF(O$4:O10,O10)-1)","v":26},"ضعيف",null,"ضعيف","≥ 30","E",{"$f":"COUNTIF(Q4:Q30,\"ضعيف\")","v":8},0.29629629629629628]
[8,"خلف احمد خلف محمد الكبيسى",null,0,null,0,null,0,20,10,3,33,34,7.6250000000000009,0.33888888888888891,{"$f":"IF(AND(O11=\"غ\"),\"غ\",RANK(O11,$O$4:$O$30)+COUNTIF(O$4:O11,O11)-1)","v":24},"ضعيف",null,"دون الضعيف جداً","< 30","F",{"$f":"COUNTIF(Q4:Q30,\"دون الضعيف جداً\")","v":1},3.7037037037037035E-2]
[9,"راشد خالد عبداللطيف راشد المهندى",0.5,1,0.5,1,null,6,20,10,3,39,70,14.975,0.66555555555555557,{"$f":"IF(AND(O12=\"غ\"),\"غ\",RANK(O12,$O$4:$O$30)+COUNTIF(O$4:O12,O12)-1)","v":9},"فوق المتوسط",null,"عدد الطلاب الذي تم اختبارهم",null,null,{"$f":"SUM(V4:V11)","v":27},{"$f":"V12/SUM(V12:V13)","v":1}]
[10,"سعد سعيد عبدالرحيم  عمر",0,0,0,0,null,0,22,11,5,38,52,11.35,0.50444444444444447,{"$f":"IF(AND(O13=\"غ\"),\"غ\",RANK(O13,$O$4:$O$30)+COUNTIF(O$4:O13,O13)-1)","v":13},"متوسط",null,"عدد الطلاب الغائبين",null,null,{"$f":"COUNTA(B4:B30)-V12","v":0},{"$f":"V13/SUM(V12:V13)","v":0}]
[11,"سلمان محمود بلمهدي",3.5,1.5,3.5,1.5,null,20,25,15,10,70,92,20.150000000000002,0.89555555555555566,{"$f":"IF(AND(O14=\"غ\"),\"غ\",RANK(O14,$O$4:$O$30)+COUNTIF(O$4:O14,O14)-1)","v":2},"جيد جداً"]
[12,"صقر على صقر الجبر النعيمى",0.5,0,0.5,0,null,2,20,11,3,36,30,6.9,0.3066666666666667,{"$f":"IF(AND(O15=\"غ\"),\"غ\",RANK(O15,$O$4:$O$30)+COUNTIF(O$4:O15,O15)-1)","v":25},"ضعيف",null,"الطلاب","العدد","النسبة"]
[13,"عبد العزيز بدر النهدي ",null,2.5,null,2.5,null,10,25,15,10,60,88,19.100000000000001,0.84888888888888903,{"$f":"IF(AND(O16=\"غ\"),\"غ\",RANK(O16,$O$4:$O$30)+COUNTIF(O$4:O16,O16)-1)","v":5},"جيد جداً",null,"الناجحين",{"$f":"SUM(V4:V8)","v":14},{"$f":"X4","v":0.51851851851851849}]
[14,"عبدالرحمن حسن سلمان يوسف المؤمن",2.5,2,2.5,2,null,18,25,14,10,67,42,10.075000000000001,0.44777777777777783,{"$f":"IF(AND(O17=\"غ\"),\"غ\",RANK(O17,$O$4:$O$30)+COUNTIF(O$4:O17,O17)-1)","v":15},"دون المتوسط",null,"الراسبين",{"$f":"SUM(V9:V11)","v":13},{"$f":"X9","v":0.48148148148148145}]
[15,"عبدالرحمن محمد محمد  الحبابى",1,null,1,null,null,4,22,10,5,41,38,8.625,0.38333333333333336,{"$f":"IF(AND(O18=\"غ\"),\"غ\",RANK(O18,$O$4:$O$30)+COUNTIF(O$4:O18,O18)-1)","v":19},"ضعيف",null,"المجموع",{"$f":"SUM(T16:T17)","v":27},{"$f":"SUM(U16:U17)","v":1}]
[16,"عبدالله احمد مبارك الكميت الرميحى",1.5,0,1.5,0,null,6,25,13,10,54,24,6.15,0.27333333333333332,{"$f":"IF(AND(O19=\"غ\"),\"غ\",RANK(O19,$O$4:$O$30)+COUNTIF(O$4:O19,O19)-1)","v":27},"دون الضعيف جداً"]
[17,"عبدالله خالد مبارك خميس الخليفى",0,1,0,1,null,4,25,15,7,51,34,8.0750000000000011,0.35888888888888892,{"$f":"IF(AND(O20=\"غ\"),\"غ\",RANK(O20,$O$4:$O$30)+COUNTIF(O$4:O20,O20)-1)","v":22},"ضعيف",null,"التحصيل الأكاديمي",null,{"$f":"AVERAGE(M4:M30)/M$3","v":0.54888888888888887}]
[18,"عبدالله على محمد ال سند الدوسرى",2.5,2,2.5,2,null,18,23,14,8,63,50,11.574999999999999,0.51444444444444448,{"$f":"IF(AND(O21=\"غ\"),\"غ\",RANK(O21,$O$4:$O$30)+COUNTIF(O$4:O21,O21)-1)","v":12},"متوسط"]
[19,"عبدالله ناصر حمد الجبر النعيمى",0,2,0,2,null,8,20,10,3,41,38,8.625,0.38333333333333336,{"$f":"IF(AND(O22=\"غ\"),\"غ\",RANK(O22,$O$4:$O$30)+COUNTIF(O$4:O22,O22)-1)","v":20},"ضعيف"]
[20,"على ناصر راشد سعيد الشهرانى",2.5,1,2.5,1,null,14,25,15,10,64,76,16.8,0.7466666666666667,{"$f":"IF(AND(O23=\"غ\"),\"غ\",RANK(O23,$O$4:$O$30)+COUNTIF(O$4:O23,O23)-1)","v":7},"جيد"]
[21,"فهد احمد فاضل الجهام الكوارى",0,1,0,1,null,4,25,13,7,49,40,9.2249999999999996,0.41,{"$f":"IF(AND(O24=\"غ\"),\"غ\",RANK(O24,$O$4:$O$30)+COUNTIF(O$4:O24,O24)-1)","v":17},"دون المتوسط",null,"الفرع","الناجحين","الراسبين","التحصيل"]
[22,"محمد على سعد بونجوم السليطى",0,2,0,2,null,8,20,10,3,41,40,9.0250000000000004,0.40111111111111114,{"$f":"IF(AND(O25=\"غ\"),\"غ\",RANK(O25,$O$4:$O$30)+COUNTIF(O$4:O25,O25)-1)","v":18},"دون المتوسط",null,{"$f":"H2","v":"Quizzes"},{"$f":"COUNTIF(H4:H30,\">=\"&H$3/2)/COUNT(H4:H30)","v":0},{"$f":"IF(T25=\"\",\"\",100%-T25)","v":1},{"$f":"IF($U25=\"\",\"\",AVERAGE(H4:H30)/H$3)","v":0.21185185185185187}]
[23,"محمود لقمان برهان الكردى",2,2,2,2,null,16,22,11,5,54,50,11.35,0.50444444444444447,{"$f":"IF(AND(O26=\"غ\"),\"غ\",RANK(O26,$O$4:$O$30)+COUNTIF(O$4:O26,O26)-1)","v":14},"متوسط",null,{"$f":"I2","v":"الواجب"},{"$f":"COUNTIF(I4:I30,\">=\"&I$3/2)/COUNT(I4:I30)","v":1},0,{"$f":"IF($U26=\"\",\"\",AVERAGE(I4:I30)/I$3)","v":0.92296296296296287}]
[24,"مؤمن عطاالله عبدالحميد عيسى عبدالرسول",3.5,1,3.5,1,null,18,25,15,10,68,66,14.9,0.66222222222222227,{"$f":"IF(AND(O27=\"غ\"),\"غ\",RANK(O27,$O$4:$O$30)+COUNTIF(O$4:O27,O27)-1)","v":10},"فوق المتوسط",null,{"$f":"J2","v":"المشاركة"},{"$f":"COUNTIF(J4:J30,\">=\"&J$3/2)/COUNT(J4:J30)","v":1},0,{"$f":"IF($U27=\"\",\"\",AVERAGE(J4:J30)/J$3)","v":0.83950617283950624}]
[25,"ناصر صالح بوجلوف ",0,0,0,0,null,0,22,13,5,40,34,7.8000000000000007,0.34666666666666673,{"$f":"IF(AND(O28=\"غ\"),\"غ\",RANK(O28,$O$4:$O$30)+COUNTIF(O$4:O28,O28)-1)","v":23},"ضعيف",null,{"$f":"K2","v":"المشروع"},{"$f":"COUNTIF(K4:K30,\">=\"&K$3/2)/COUNT(K4:K30)","v":0.7407407407407407},0.2592592592592593,{"$f":"IF($U28=\"\",\"\",AVERAGE(K4:K30)/K$3)","v":0.65925925925925921}]
[26,"ناصر محمد عبدالله محمد المنصورى",2.5,null,2.5,null,null,{"$f":"IF(AND(C29=\"\",D29=\"\",E29=\"\",F29=\"\",G29=\"\"),\"غ\",$H$3*SUM(C29:G29)/SUM($C$3:$G$3))","v":10},20,10,3,{"$f":"IF(AND(C29=\"\",D29=\"\",E29=\"\",F29=\"\",G29=\"\",I29=\"\",J29=\"\",K29=\"\"),\"غ\",SUM(H29:K29))","v":43},44,{"$f":"IF(M29=\"\",\"غ\",IF(L29=\"غ\",M29*0.2,SUM(L29*2.5/$L$3,M29*0.2)))","v":9.875},0.43888888888888888,{"$f":"IF(AND(O29=\"غ\"),\"غ\",RANK(O29,$O$4:$O$30)+COUNTIF(O$4:O29,O29)-1)","v":16},{"$f":"IF(O29=\"غ\",\"غ\",IF(O29>=90%,\"ممتاز\",IF(O29>=80%,\"جيد جداً\",IF(O29>=70%,\"جيد\",IF(O29>=60%,\"فوق المتوسط\",IF(O29>=50%,\"متوسط\",IF(O29>=40%,\"دون المتوسط\",IF(O29>=30%,\"ضعيف\",\"دون الضعيف جداً\"))))))))","v":"دون المتوسط"},null,{"$f":"M2","v":"Exam"},{"$f":"COUNTIF(M4:M30,\">=\"&M$3/2)/COUNT(M4:M30)","v":0.51851851851851849},0.48148148148148151,{"$f":"IF($U29=\"\",\"\",AVERAGE(M4:M30)/M$3)","v":0.54888888888888887}]
[27,"يوسف جمعان بشير على الاحمد",0,1,0,1,null,4,23,12,5,44,56.000000000000007,12.300000000000002,0.54666666666666675,{"$f":"IF(AND(O30=\"غ\"),\"غ\",RANK(O30,$O$4:$O$30)+COUNTIF(O$4:O30,O30)-1)","v":11},"متوسط"]
[null,null,null,null,null,null,null,null,null,null,null,null,""]

{"sheet":"7-5","index":5,"n_rows":31,"n_cols":24,"rows_kept":31,"cut":false,"hidden":false,"merged":[[0,0,0,16],[1,0,2,0],[1,1,2,1],[1,16,2,16],[1,18,1,23],[2,19,2,20],[2,22,2,23],[19,18,20,19],[19,20,20,20],[3,23,7,23],[8,23,10,23],[11,18,11,20],[11,22,11,23],[12,18,12,20],[12,22,12,23]]}
["Grade (7-5) كشف درجات الطلاب  "]
["م","اسم الطالب","Quiz1","Quiz2","Quiz3","Quiz4","Quiz5","Quizzes","الواجب","المشاركة","المشروع","Total","Exam","Final","Percent","Rank","التقدير",null,"تحليل النتائج على حسب التقدير"]
[null,null,5,5,5,5,5,50,25,15,10,100,100,22.5,"(%)","الترتيب",null,null,"التقدير","المجال",null,"عدد الطلاب","النسبة"]
[1,"احمد مبارك خلف الالشيخ الكوارى",1,null,1,null,null,{"$f":"IF(AND(C4=\"\",D4=\"\",E4=\"\",F4=\"\",G4=\"\"),\"غ\",$H$3*SUM(C4:G4)/SUM($C$3:$G$3))","v":4},20,12,7,{"$f":"IF(AND(C4=\"\",D4=\"\",E4=\"\",F4=\"\",G4=\"\",I4=\"\",J4=\"\",K4=\"\"),\"غ\",SUM(H4:K4))","v":43},38,{"$f":"IF(M4=\"\",\"غ\",IF(L4=\"غ\",M4*0.2,SUM(L4*2.5/$L$3,M4*0.2)))","v":8.6750000000000007},{"$f":"IF(N4=\"غ\",\"غ\",N4*100/$N$3/100)","v":0.3855555555555556},{"$f":"IF(AND(O4=\"غ\"),\"غ\",RANK(O4,$O$4:$O$30)+COUNTIF(O$4:O4,O4)-1)","v":15},{"$f":"IF(O4=\"غ\",\"غ\",IF(O4>=90%,\"ممتاز\",IF(O4>=80%,\"جيد جداً\",IF(O4>=70%,\"جيد\",IF(O4>=60%,\"فوق المتوسط\",IF(O4>=50%,\"متوسط\",IF(O4>=40%,\"دون المتوسط\",IF(O4>=30%,\"ضعيف\",\"دون الضعيف جداً\"))))))))","v":"ضعيف"},null,"ممتاز"," ≥ 90","A+",{"$f":"COUNTIF(Q4:Q30,\"ممتاز\")","v":0},{"$f":"(V4/$V$12)","v":0},{"$f":"SUM(W4:W8)","v":0.46153846153846156}]
[2,"بدر محمد همام محمد المحمد",0,1,0,1,null,{"$f":"IF(AND(C5=\"\",D5=\"\",E5=\"\",F5=\"\",G5=\"\"),\"غ\",$H$3*SUM(C5:G5)/SUM($C$3:$G$3))","v":4},20,11,3,{"$f":"IF(AND(C5=\"\",D5=\"\",E5=\"\",F5=\"\",G5=\"\",I5=\"\",J5=\"\",K5=\"\"),\"غ\",SUM(H5:K5))","v":38},36,{"$f":"IF(M5=\"\",\"غ\",IF(L5=\"غ\",M5*0.2,SUM(L5*2.5/$L$3,M5*0.2)))","v":8.15},{"$f":"IF(N5=\"غ\",\"غ\",N5*100/$N$3/100)","v":0.36222222222222222},{"$f":"IF(AND(O5=\"غ\"),\"غ\",RANK(O5,$O$4:$O$30)+COUNTIF(O$4:O5,O5)-1)","v":18},{"$f":"IF(O5=\"غ\",\"غ\",IF(O5>=90%,\"ممتاز\",IF(O5>=80%,\"جيد جداً\",IF(O5>=70%,\"جيد\",IF(O5>=60%,\"فوق المتوسط\",IF(O5>=50%,\"متوسط\",IF(O5>=40%,\"دون المتوسط\",IF(O5>=30%,\"ضعيف\",\"دون الضعيف جداً\"))))))))","v":"ضعيف"},null,"جيد جداً","≥ 80","A",{"$f":"COUNTIF(Q4:Q30,\"جيد جداً\")","v":1},3.8461538461538464E-2]
[3,"بدر ناصر الكواري ",1.5,0,1.5,0,null,6,20,10,3,39,30,6.9749999999999996,0.31,{"$f":"IF(AND(O6=\"غ\"),\"غ\",RANK(O6,$O$4:$O$30)+COUNTIF(O$4:O6,O6)-1)","v":21},"ضعيف",null,"جيد","≥ 70","B+",{"$f":"COUNTIF(Q4:Q30,\"جيد\")","v":2},7.6923076923076927E-2]
[4,"ثامر نبيل محمد العلي",2.5,3.5,2.5,3.5,null,24,20,15,8,67,54,12.475000000000001,0.55444444444444452,{"$f":"IF(AND(O7=\"غ\"),\"غ\",RANK(O7,$O$4:$O$30)+COUNTIF(O$4:O7,O7)-1)","v":6},"متوسط",null,"فوق المتوسط","≥ 60","B",{"$f":"COUNTIF(Q4:Q30,\"فوق المتوسط\")","v":2},7.6923076923076927E-2]
[5,"حسن جاسم المريخي ",0,1,0,1,null,4,20,10,3,37,26,6.125,0.2722222222222222,{"$f":"IF(AND(O8=\"غ\"),\"غ\",RANK(O8,$O$4:$O$30)+COUNTIF(O$4:O8,O8)-1)","v":26},"دون الضعيف جداً",null,"متوسط","≥ 50","C",{"$f":"COUNTIF(Q4:Q30,\"متوسط\")","v":7},0.26923076923076922]
[6,"حسن خليفه حسن على الفرحان",0,0,0,0,null,0,25,15,7,47,26,6.375,0.28333333333333333,{"$f":"IF(AND(O9=\"غ\"),\"غ\",RANK(O9,$O$4:$O$30)+COUNTIF(O$4:O9,O9)-1)","v":24},"دون الضعيف جداً",null,"دون المتوسط","≥ 40","D",{"$f":"COUNTIF(Q4:Q30,\"دون المتوسط\")","v":2},7.6923076923076927E-2,{"$f":"SUM(W9:W11)","v":0.53846153846153855}]
[7,"حمد عبدالله عبدالحميد عبدالغفار الدايل",3,3,3,3,null,24,25,15,10,74,null,"غ","غ",{"$f":"IF(AND(O10=\"غ\"),\"غ\",RANK(O10,$O$4:$O$30)+COUNTIF(O$4:O10,O10)-1)","v":"غ"},"غ",null,"ضعيف","≥ 30","E",{"$f":"COUNTIF(Q4:Q30,\"ضعيف\")","v":8},0.30769230769230771]
[8,"خالد عبدالله احمد عبدالله الربيع",null,1,null,1,null,4,23,12,6,45,46,10.325000000000001,0.45888888888888885,{"$f":"IF(AND(O11=\"غ\"),\"غ\",RANK(O11,$O$4:$O$30)+COUNTIF(O$4:O11,O11)-1)","v":14},"دون المتوسط",null,"دون الضعيف جداً","< 30","F",{"$f":"COUNTIF(Q4:Q30,\"دون الضعيف جداً\")","v":4},0.15384615384615385]
[9,"خالد يوسف محمد بوعيسى العبيدلى",2.5,2,2.5,2,null,18,25,12,6,61,68,15.125000000000002,0.67222222222222228,{"$f":"IF(AND(O12=\"غ\"),\"غ\",RANK(O12,$O$4:$O$30)+COUNTIF(O$4:O12,O12)-1)","v":4},"فوق المتوسط",null,"عدد الطلاب الذي تم اختبارهم",null,null,{"$f":"SUM(V4:V11)","v":26},{"$f":"V12/SUM(V12:V13)","v":0.96296296296296291}]
[10,"راشد سعيد غريب محكوم المسلم",2,2,2,2,null,16,20,10,4,50,52,11.65,0.51777777777777778,{"$f":"IF(AND(O13=\"غ\"),\"غ\",RANK(O13,$O$4:$O$30)+COUNTIF(O$4:O13,O13)-1)","v":10},"متوسط",null,"عدد الطلاب الغائبين",null,null,{"$f":"COUNTA(B4:B30)-V12","v":1},{"$f":"V13/SUM(V12:V13)","v":3.7037037037037035E-2}]
[11,"سحيم دلهم عتيق دلهم الكوارى",0,null,0,null,null,0,25,11,10,46,26,6.35,0.28222222222222221,{"$f":"IF(AND(O14=\"غ\"),\"غ\",RANK(O14,$O$4:$O$30)+COUNTIF(O$4:O14,O14)-1)","v":25},"دون الضعيف جداً"]
[12,"سلمان صلاح سلمان عبدالله المنصورى",2.5,0,2.5,0,null,10,25,15,10,60,52,11.9,0.52888888888888885,{"$f":"IF(AND(O15=\"غ\"),\"غ\",RANK(O15,$O$4:$O$30)+COUNTIF(O$4:O15,O15)-1)","v":8},"متوسط",null,"الطلاب","العدد","النسبة"]
[13,"طارق احمد عبدالله محمد كوليد",1,3,1,3,null,16,25,15,10,66,34,8.4500000000000011,0.37555555555555559,{"$f":"IF(AND(O16=\"غ\"),\"غ\",RANK(O16,$O$4:$O$30)+COUNTIF(O$4:O16,O16)-1)","v":16},"ضعيف",null,"الناجحين",{"$f":"SUM(V4:V8)","v":12},{"$f":"X4","v":0.46153846153846156}]
[14,"عبدالرحمن حبيب الماس عبيد الماس",0.5,1,0.5,1,null,6,20,10,3,39,28.000000000000004,6.5750000000000011,0.29222222222222227,{"$f":"IF(AND(O17=\"غ\"),\"غ\",RANK(O17,$O$4:$O$30)+COUNTIF(O$4:O17,O17)-1)","v":23},"دون الضعيف جداً",null,"الراسبين",{"$f":"SUM(V9:V11)","v":14},{"$f":"X9","v":0.53846153846153855}]
[15,"عبدالرحمن محمد عبدالرحمن سلطان الجابر",0.5,2,0.5,2,null,10,22,14,8,54,48,10.950000000000001,0.48666666666666664,{"$f":"IF(AND(O18=\"غ\"),\"غ\",RANK(O18,$O$4:$O$30)+COUNTIF(O$4:O18,O18)-1)","v":13},"دون المتوسط",null,"المجموع",{"$f":"SUM(T16:T17)","v":26},{"$f":"SUM(U16:U17)","v":1}]
[16,"عبدالرحمن يوسف على حسن المؤذن",1.5,2,1.5,2,null,14,25,15,10,64,52,12,0.53333333333333333,{"$f":"IF(AND(O19=\"غ\"),\"غ\",RANK(O19,$O$4:$O$30)+COUNTIF(O$4:O19,O19)-1)","v":7},"متوسط"]
[17,"عبداللطيف محمد احمد عبدالعزيز المهيزع",null,4.5,null,4.5,null,18,20,10,5,53,34,8.125,0.36111111111111116,{"$f":"IF(AND(O20=\"غ\"),\"غ\",RANK(O20,$O$4:$O$30)+COUNTIF(O$4:O20,O20)-1)","v":19},"ضعيف",null,"التحصيل الأكاديمي",null,{"$f":"AVERAGE(M4:M30)/M$3","v":0.45692307692307693}]
[18,"عبدالله خليفه عبدالله احمد الخليفى",2,3,2,3,null,20,23,15,8,66,50,11.65,0.51777777777777778,{"$f":"IF(AND(O21=\"غ\"),\"غ\",RANK(O21,$O$4:$O$30)+COUNTIF(O$4:O21,O21)-1)","v":11},"متوسط"]
[19,"عبدالله على سعيد محمد الشعيبى",4,4,4,4,null,32,25,15,10,82,84,18.850000000000001,0.83777777777777784,{"$f":"IF(AND(O22=\"غ\"),\"غ\",RANK(O22,$O$4:$O$30)+COUNTIF(O$4:O22,O22)-1)","v":1},"جيد جداً"]
[20,"عبدالمطلب محمد حمود عبدالله حسين",2,3.5,2,3.5,null,22,22,11,4,59,52,11.875,0.52777777777777779,{"$f":"IF(AND(O23=\"غ\"),\"غ\",RANK(O23,$O$4:$O$30)+COUNTIF(O$4:O23,O23)-1)","v":9},"متوسط"]
[21,"على محمد مبارك زايد الكبيسى",3.5,1,3.5,1,null,18,20,12,5,55,28.000000000000004,6.9750000000000014,0.31000000000000005,{"$f":"IF(AND(O24=\"غ\"),\"غ\",RANK(O24,$O$4:$O$30)+COUNTIF(O$4:O24,O24)-1)","v":21},"ضعيف",null,"الفرع","الناجحين","الراسبين","التحصيل"]
[22,"فهد راشد سعيد فرج السليطى",3.5,1,3.5,1,null,18,23,13,8,62,26,6.75,0.3,{"$f":"IF(AND(O25=\"غ\"),\"غ\",RANK(O25,$O$4:$O$30)+COUNTIF(O$4:O25,O25)-1)","v":22},"ضعيف",null,{"$f":"H2","v":"Quizzes"},{"$f":"COUNTIF(H4:H30,\">=\"&H$3/2)/COUNT(H4:H30)","v":7.407407407407407E-2},{"$f":"IF(T25=\"\",\"\",100%-T25)","v":0.92592592592592593},{"$f":"IF($U25=\"\",\"\",AVERAGE(H4:H30)/H$3)","v":0.26814814814814814}]
[23,"كريم الشربينى شوقى  الشربينى",3,4.5,3,4.5,null,30,25,15,10,80,78,17.600000000000001,0.78222222222222226,{"$f":"IF(AND(O26=\"غ\"),\"غ\",RANK(O26,$O$4:$O$30)+COUNTIF(O$4:O26,O26)-1)","v":2},"جيد",null,{"$f":"I2","v":"الواجب"},{"$f":"COUNTIF(I4:I30,\">=\"&I$3/2)/COUNT(I4:I30)","v":1},0,{"$f":"IF($U26=\"\",\"\",AVERAGE(I4:I30)/I$3)","v":0.8992592592592592}]
[24,"مبارك مرزوق جوهر مرزوق المسلمانى",2,null,2,null,null,8,20,10,3,41,36,8.2249999999999996,0.36555555555555558,{"$f":"IF(AND(O27=\"غ\"),\"غ\",RANK(O27,$O$4:$O$30)+COUNTIF(O$4:O27,O27)-1)","v":17},"ضعيف",null,{"$f":"J2","v":"المشاركة"},{"$f":"COUNTIF(J4:J30,\">=\"&J$3/2)/COUNT(J4:J30)","v":1},0,{"$f":"IF($U27=\"\",\"\",AVERAGE(J4:J30)/J$3)","v":0.84197530864197534}]
[25,"محمد عيد حميد العرابيد الشهوانى",2.5,null,2.5,null,null,10,25,12,7,54,72,15.75,0.7,{"$f":"IF(AND(O28=\"غ\"),\"غ\",RANK(O28,$O$4:$O$30)+COUNTIF(O$4:O28,O28)-1)","v":3},"جيد",null,{"$f":"K2","v":"المشروع"},{"$f":"COUNTIF(K4:K30,\">=\"&K$3/2)/COUNT(K4:K30)","v":0.7407407407407407},0.2592592592592593,{"$f":"IF($U28=\"\",\"\",AVERAGE(K4:K30)/K$3)","v":0.67777777777777781}]
[26,"محمود فرحان فرحان مسعود المسلمانى",0,2,0,2,null,{"$f":"IF(AND(C29=\"\",D29=\"\",E29=\"\",F29=\"\",G29=\"\"),\"غ\",$H$3*SUM(C29:G29)/SUM($C$3:$G$3))","v":8},22,14,7,{"$f":"IF(AND(C29=\"\",D29=\"\",E29=\"\",F29=\"\",G29=\"\",I29=\"\",J29=\"\",K29=\"\"),\"غ\",SUM(H29:K29))","v":51},50,{"$f":"IF(M29=\"\",\"غ\",IF(L29=\"غ\",M29*0.2,SUM(L29*2.5/$L$3,M29*0.2)))","v":11.275},0.50111111111111117,{"$f":"IF(AND(O29=\"غ\"),\"غ\",RANK(O29,$O$4:$O$30)+COUNTIF(O$4:O29,O29)-1)","v":12},{"$f":"IF(O29=\"غ\",\"غ\",IF(O29>=90%,\"ممتاز\",IF(O29>=80%,\"جيد جداً\",IF(O29>=70%,\"جيد\",IF(O29>=60%,\"فوق المتوسط\",IF(O29>=50%,\"متوسط\",IF(O29>=40%,\"دون المتوسط\",IF(O29>=30%,\"ضعيف\",\"دون الضعيف جداً\"))))))))","v":"متوسط"},null,{"$f":"M2","v":"Exam"},{"$f":"COUNTIF(M4:M30,\">=\"&M$3/2)/COUNT(M4:M30)","v":0.46153846153846156},0.53846153846153844,{"$f":"IF($U29=\"\",\"\",AVERAGE(M4:M30)/M$3)","v":0.45692307692307693}]
[27,"نايف نبيل جمعان خميس حامد",3.5,1,3.5,1,null,18,22,12,8,60,62,13.9,0.61777777777777776,{"$f":"IF(AND(O30=\"غ\"),\"غ\",RANK(O30,$O$4:$O$30)+COUNTIF(O$4:O30,O30)-1)","v":5},"فوق المتوسط"]
[null,null,null,null,null,null,null,null,null,null,null,null,""]

{"sheet":"7-6","index":6,"n_rows":31,"n_cols":24,"rows_kept":31,"cut":false,"hidden":false,"merged":[[0,0,0,16],[1,0,2,0],[1,1,2,1],[1,16,2,16],[1,18,1,23],[2,19,2,20],[2,22,2,23],[19,18,20,19],[19,20,20,20],[3,23,7,23],[8,23,10,23],[11,18,11,20],[11,22,11,23],[12,18,12,20],[12,22,12,23]]}
["Grade (7-6) كشف درجات الطلاب  "]
["م","اسم الطالب","Quiz1","Quiz2","Quiz3","Quiz4","Quiz5","Quizzes","الواجب","المشاركة","المشروع","Total","Exam","Final","Percent","Rank","التقدير",null,"تحليل النتائج على حسب التقدير"]
[null,null,5,5,5,5,5,50,25,15,10,100,100,22.5,"(%)","الترتيب",null,null,"التقدير","المجال",null,"عدد الطلاب","النسبة"]
[1,"احمد خالد على حسين الانصارى",0,2,0,2,null,{"$f":"IF(AND(C4=\"\",D4=\"\",E4=\"\",F4=\"\",G4=\"\"),\"غ\",$H$3*SUM(C4:G4)/SUM($C$3:$G$3))","v":8},25,15,10,{"$f":"IF(AND(C4=\"\",D4=\"\",E4=\"\",F4=\"\",G4=\"\",I4=\"\",J4=\"\",K4=\"\"),\"غ\",SUM(H4:K4))","v":58},84,{"$f":"IF(M4=\"\",\"غ\",IF(L4=\"غ\",M4*0.2,SUM(L4*2.5/$L$3,M4*0.2)))","v":18.25},{"$f":"IF(N4=\"غ\",\"غ\",N4*100/$N$3/100)","v":0.81111111111111112},{"$f":"IF(AND(O4=\"غ\"),\"غ\",RANK(O4,$O$4:$O$27)+COUNTIF(O$4:O4,O4)-1)","v":2},{"$f":"IF(O4=\"غ\",\"غ\",IF(O4>=90%,\"ممتاز\",IF(O4>=80%,\"جيد جداً\",IF(O4>=70%,\"جيد\",IF(O4>=60%,\"فوق المتوسط\",IF(O4>=50%,\"متوسط\",IF(O4>=40%,\"دون المتوسط\",IF(O4>=30%,\"ضعيف\",\"دون الضعيف جداً\"))))))))","v":"جيد جداً"},null,"ممتاز"," ≥ 90","A+",{"$f":"COUNTIF(Q4:Q27,\"ممتاز\")","v":0},{"$f":"(V4/$V$12)","v":0},{"$f":"SUM(W4:W8)","v":0.59090909090909083}]
[2,"احمد خالد راشد يوسف المالكى",null,1,null,1,null,{"$f":"IF(AND(C5=\"\",D5=\"\",E5=\"\",F5=\"\",G5=\"\"),\"غ\",$H$3*SUM(C5:G5)/SUM($C$3:$G$3))","v":4},20,10,5,{"$f":"IF(AND(C5=\"\",D5=\"\",E5=\"\",F5=\"\",G5=\"\",I5=\"\",J5=\"\",K5=\"\"),\"غ\",SUM(H5:K5))","v":39},40,{"$f":"IF(M5=\"\",\"غ\",IF(L5=\"غ\",M5*0.2,SUM(L5*2.5/$L$3,M5*0.2)))","v":8.9749999999999996},{"$f":"IF(N5=\"غ\",\"غ\",N5*100/$N$3/100)","v":0.39888888888888885},{"$f":"IF(AND(O5=\"غ\"),\"غ\",RANK(O5,$O$4:$O$27)+COUNTIF(O$4:O5,O5)-1)","v":18},{"$f":"IF(O5=\"غ\",\"غ\",IF(O5>=90%,\"ممتاز\",IF(O5>=80%,\"جيد جداً\",IF(O5>=70%,\"جيد\",IF(O5>=60%,\"فوق المتوسط\",IF(O5>=50%,\"متوسط\",IF(O5>=40%,\"دون المتوسط\",IF(O5>=30%,\"ضعيف\",\"دون الضعيف جداً\"))))))))","v":"ضعيف"},null,"جيد جداً","≥ 80","A",{"$f":"COUNTIF(Q4:Q27,\"جيد جداً\")","v":2},9.0909090909090912E-2]
[3,"احمد عبدالله محبوب مفتاح الغانم",1.5,1,1.5,1,null,10,22,15,8,55,56.000000000000007,12.575000000000003,0.55888888888888899,{"$f":"IF(AND(O6=\"غ\"),\"غ\",RANK(O6,$O$4:$O$27)+COUNTIF(O$4:O6,O6)-1)","v":11},"متوسط",null,"جيد","≥ 70","B+",{"$f":"COUNTIF(Q4:Q27,\"جيد\")","v":3},0.13636363636363635]
[4,"تركى برهان صالح مبارك التركى",null,1,null,1,null,4,20,14,7,45,44,9.9250000000000007,0.44111111111111112,{"$f":"IF(AND(O7=\"غ\"),\"غ\",RANK(O7,$O$4:$O$27)+COUNTIF(O$4:O7,O7)-1)","v":15},"دون المتوسط",null,"فوق المتوسط","≥ 60","B",{"$f":"COUNTIF(Q4:Q27,\"فوق المتوسط\")","v":2},9.0909090909090912E-2]
[5,"ثامر محمد على محمد حميد",2.5,2,2.5,2,null,18,25,15,10,68,80,17.7,0.78666666666666674,{"$f":"IF(AND(O8=\"غ\"),\"غ\",RANK(O8,$O$4:$O$27)+COUNTIF(O$4:O8,O8)-1)","v":3},"جيد",null,"متوسط","≥ 50","C",{"$f":"COUNTIF(Q4:Q27,\"متوسط\")","v":6},0.27272727272727271]
[6,"حسين صالح الكثيرى",0,2,0,2,null,8,25,15,8,56,30,7.4,0.32888888888888884,{"$f":"IF(AND(O9=\"غ\"),\"غ\",RANK(O9,$O$4:$O$27)+COUNTIF(O$4:O9,O9)-1)","v":21},"ضعيف",null,"دون المتوسط","≥ 40","D",{"$f":"COUNTIF(Q4:Q27,\"دون المتوسط\")","v":4},0.18181818181818182,{"$f":"SUM(W9:W11)","v":0.40909090909090912}]
[7,"حمد عبدالعزيز ناصر ابوقراره الموسى",0.5,1,0.5,1,null,6,20,10,5,41,57.999999999999993,12.625,0.56111111111111112,{"$f":"IF(AND(O10=\"غ\"),\"غ\",RANK(O10,$O$4:$O$27)+COUNTIF(O$4:O10,O10)-1)","v":10},"متوسط",null,"ضعيف","≥ 30","E",{"$f":"COUNTIF(Q4:Q27,\"ضعيف\")","v":4},0.18181818181818182]
[8,"حمد ناصر المطاوعة ",2,1.5,2,1.5,null,14,25,15,10,64,38,9.2000000000000011,0.40888888888888891,{"$f":"IF(AND(O11=\"غ\"),\"غ\",RANK(O11,$O$4:$O$27)+COUNTIF(O$4:O11,O11)-1)","v":16},"دون المتوسط",null,"دون الضعيف جداً","< 30","F",{"$f":"COUNTIF(Q4:Q27,\"دون الضعيف جداً\")","v":1},4.5454545454545456E-2]
[9,"خالد عبدالله يوسف محمد عاشير",2,1,2,1,null,12,24,12,8,56,36,8.6,0.38222222222222224,{"$f":"IF(AND(O12=\"غ\"),\"غ\",RANK(O12,$O$4:$O$27)+COUNTIF(O$4:O12,O12)-1)","v":19},"ضعيف",null,"عدد الطلاب الذي تم اختبارهم",null,null,{"$f":"SUM(V4:V11)","v":22},{"$f":"V12/SUM(V12:V13)","v":1}]
[10,"خالد محمد صالح",3,1,3,1,null,16,25,12,8,61,68,15.125000000000002,0.67222222222222228,{"$f":"IF(AND(O13=\"غ\"),\"غ\",RANK(O13,$O$4:$O$27)+COUNTIF(O$4:O13,O13)-1)","v":7},"فوق المتوسط",null,"عدد الطلاب الغائبين",null,null,{"$f":"COUNTA(B4:B27)-V12","v":0},{"$f":"V13/SUM(V12:V13)","v":0}]
[11,"راشد على راشد جمعه الكبيسى",1.5,1,1.5,1,null,10,25,13,9,57,60,13.425000000000001,0.59666666666666668,{"$f":"IF(AND(O14=\"غ\"),\"غ\",RANK(O14,$O$4:$O$27)+COUNTIF(O$4:O14,O14)-1)","v":8},"متوسط"]
[12,"سالم ناصر سالم محفوظ",1,1,1,1,null,8,20,10,5,43,46,10.275,0.45666666666666667,{"$f":"IF(AND(O15=\"غ\"),\"غ\",RANK(O15,$O$4:$O$27)+COUNTIF(O$4:O15,O15)-1)","v":14},"دون المتوسط",null,"الطلاب","العدد","النسبة"]
[13,"سعيد محمد سعيد محمد العرجانى",1,3,1,3,null,16,25,13,8,62,57.999999999999993,13.15,0.58444444444444443,{"$f":"IF(AND(O16=\"غ\"),\"غ\",RANK(O16,$O$4:$O$27)+COUNTIF(O$4:O16,O16)-1)","v":9},"متوسط",null,"الناجحين",{"$f":"SUM(V4:V8)","v":13},{"$f":"X4","v":0.59090909090909083}]
[14,"طلال احمد عبدالله محمد كوليد",1.5,1,1.5,1,null,10,20,13,7,50,26,6.45,0.28666666666666668,{"$f":"IF(AND(O17=\"غ\"),\"غ\",RANK(O17,$O$4:$O$27)+COUNTIF(O$4:O17,O17)-1)","v":22},"دون الضعيف جداً",null,"الراسبين",{"$f":"SUM(V9:V11)","v":9},{"$f":"X9","v":0.40909090909090912}]
[15,"عبداللة الباز محمد السيد ابراهيم",3.5,1.5,3.5,1.5,null,20,25,15,10,70,78,17.350000000000001,0.77111111111111119,{"$f":"IF(AND(O18=\"غ\"),\"غ\",RANK(O18,$O$4:$O$27)+COUNTIF(O$4:O18,O18)-1)","v":5},"جيد",null,"المجموع",{"$f":"SUM(T16:T17)","v":22},{"$f":"SUM(U16:U17)","v":1}]
[16,"عبدالله عبدالحكيم عبدالله اليزيدى اليافعى",null,2,null,2,null,8,20,13,6,47,82,17.575000000000003,0.78111111111111109,{"$f":"IF(AND(O19=\"غ\"),\"غ\",RANK(O19,$O$4:$O$27)+COUNTIF(O$4:O19,O19)-1)","v":4},"جيد"]
[17,"فهد عبدالعزيز احمد يوسف المطاوعه",1,0,1,0,null,4,24,13,7,48,52,11.6,0.51555555555555554,{"$f":"IF(AND(O20=\"غ\"),\"غ\",RANK(O20,$O$4:$O$27)+COUNTIF(O$4:O20,O20)-1)","v":13},"متوسط",null,"التحصيل الأكاديمي",null,{"$f":"AVERAGE(M4:M30)/M$3","v":0.55272727272727273}]
[18,"قاسم زهير قاسم عطبه",4.5,2.5,4.5,2.5,null,28,25,15,10,78,84,18.75,0.83333333333333326,{"$f":"IF(AND(O21=\"غ\"),\"غ\",RANK(O21,$O$4:$O$27)+COUNTIF(O$4:O21,O21)-1)","v":1},"جيد جداً"]
[19,"محمد حمد سلطان لملوم المسيفرى",2,2,2,2,null,16,25,15,10,66,52,12.05,0.53555555555555556,{"$f":"IF(AND(O22=\"غ\"),\"غ\",RANK(O22,$O$4:$O$27)+COUNTIF(O$4:O22,O22)-1)","v":12},"متوسط"]
[20,"محمدوسام محمد نديم محمد قاسم",0.5,0,0.5,0,null,2,25,13,8,48,40,9.1999999999999993,0.40888888888888886,{"$f":"IF(AND(O23=\"غ\"),\"غ\",RANK(O23,$O$4:$O$27)+COUNTIF(O$4:O23,O23)-1)","v":18},"دون المتوسط"]
[21,"نبيل جمال عطا محمد عمر",2.5,3,2.5,3,null,22,25,15,10,72,68,15.400000000000002,0.68444444444444452,{"$f":"IF(AND(O24=\"غ\"),\"غ\",RANK(O24,$O$4:$O$27)+COUNTIF(O$4:O24,O24)-1)","v":6},"فوق المتوسط",null,"الفرع","الناجحين","الراسبين","التحصيل"]
[22,"وليد نور خالد نور",0,1,0,1,null,4,25,15,10,54,36,8.5500000000000007,0.38000000000000006,{"$f":"IF(AND(O25=\"غ\"),\"غ\",RANK(O25,$O$4:$O$27)+COUNTIF(O$4:O25,O25)-1)","v":20},"ضعيف",null,{"$f":"H2","v":"Quizzes"},{"$f":"COUNTIF(H4:H27,\">=\"&H$3/2)/COUNT(H4:H27)","v":4.5454545454545456E-2},{"$f":"IF(T25=\"\",\"\",100%-T25)","v":0.95454545454545459},{"$f":"IF($U25=\"\",\"\",AVERAGE(H4:H27)/H$3)","v":0.22545454545454546}]
[null,null,null,null,null,null,null,null,null,null,null,null,"",null,null,null,null,null,{"$f":"I2","v":"الواجب"},{"$f":"COUNTIF(I4:I27,\">=\"&I$3/2)/COUNT(I4:I27)","v":1},0,{"$f":"IF($U26=\"\",\"\",AVERAGE(I4:I27)/I$3)","v":0.9363636363636364}]
[null,null,null,null,null,null,null,null,null,null,null,null,"",null,null,null,null,null,{"$f":"J2","v":"المشاركة"},{"$f":"COUNTIF(J4:J27,\">=\"&J$3/2)/COUNT(J4:J27)","v":1},0,{"$f":"IF($U27=\"\",\"\",AVERAGE(J4:J27)/J$3)","v":0.89696969696969697}]
[null,null,null,null,null,null,null,null,null,null,null,null,"",null,null,null,null,null,{"$f":"K2","v":"المشروع"},{"$f":"COUNTIF(K4:K27,\">=\"&K$3/2)/COUNT(K4:K27)","v":1},0,{"$f":"IF($U28=\"\",\"\",AVERAGE(K4:K27)/K$3)","v":0.81363636363636371}]
[null,null,null,null,null,null,null,null,null,null,null,null,"",null,null,null,null,null,{"$f":"M2","v":"Exam"},{"$f":"COUNTIF(M4:M27,\">=\"&M$3/2)/COUNT(M4:M27)","v":0.59090909090909094},0.40909090909090906,{"$f":"IF($U29=\"\",\"\",AVERAGE(M4:M27)/M$3)","v":0.55272727272727273}]
[null,null,null,null,null,null,null,null,null,null,null,null,""]
[null,null,null,null,null,null,null,null,null,null,null,null,""]

{"sheet":"7-7","index":7,"n_rows":31,"n_cols":24,"rows_kept":31,"cut":false,"hidden":false,"merged":[[0,0,0,16],[1,0,2,0],[1,1,2,1],[1,16,2,16],[1,18,1,23],[2,19,2,20],[2,22,2,23],[19,18,20,19],[19,20,20,20],[3,23,7,23],[8,23,10,23],[11,18,11,20],[11,22,11,23],[12,18,12,20],[12,22,12,23]]}
["Grade (7-7) كشف درجات الطلاب  "]
["م","اسم الطالب","Quiz1","Quiz2","Quiz3","Quiz4","Quiz5","Quizzes","الواجب","المشاركة","المشروع","Total","Exam","Final","Percent","Rank","التقدير",null,"تحليل النتائج على حسب التقدير"]
[null,null,5,5,5,5,"درجة5",50,25,15,10,100,100,22.5,"(%)","الترتيب",null,null,"التقدير","المجال",null,"عدد الطلاب","النسبة"]
[1,"احمد سعود عبدالله ناصر الخليفى",2.5,2.5,2.5,2.5,null,{"$f":"IF(AND(C4=\"\",D4=\"\",E4=\"\",F4=\"\",G4=\"\"),\"غ\",$H$3*SUM(C4:G4)/SUM($C$3:$G$3))","v":25},20,10,10,{"$f":"IF(AND(C4=\"\",D4=\"\",E4=\"\",F4=\"\",G4=\"\",I4=\"\",J4=\"\",K4=\"\"),\"غ\",SUM(H4:K4))","v":65},74,{"$f":"IF(M4=\"\",\"غ\",IF(L4=\"غ\",M4*0.2,SUM(L4*2.5/$L$3,M4*0.2)))","v":16.425000000000001},{"$f":"IF(N4=\"غ\",\"غ\",N4*100/$N$3/100)","v":0.73},{"$f":"IF(AND(O4=\"غ\"),\"غ\",RANK(O4,$O$4:$O$30)+COUNTIF(O$4:O4,O4)-1)","v":6},{"$f":"IF(O4=\"غ\",\"غ\",IF(O4>=90%,\"ممتاز\",IF(O4>=80%,\"جيد جداً\",IF(O4>=70%,\"جيد\",IF(O4>=60%,\"فوق المتوسط\",IF(O4>=50%,\"متوسط\",IF(O4>=40%,\"دون المتوسط\",IF(O4>=30%,\"ضعيف\",\"دون الضعيف جداً\"))))))))","v":"جيد"},null,"ممتاز"," ≥ 90","A+",{"$f":"COUNTIF(Q4:Q30,\"ممتاز\")","v":0},{"$f":"(V4/$V$12)","v":0},{"$f":"SUM(W4:W8)","v":0.58333333333333337}]
[2,"تركى فواز خليل ابراهيم الرميحى",null,null,null,null,null,{"$f":"IF(AND(C5=\"\",D5=\"\",E5=\"\",F5=\"\",G5=\"\"),\"غ\",$H$3*SUM(C5:G5)/SUM($C$3:$G$3))","v":"غ"},null,null,null,{"$f":"IF(AND(C5=\"\",D5=\"\",E5=\"\",F5=\"\",G5=\"\",I5=\"\",J5=\"\",K5=\"\"),\"غ\",SUM(H5:K5))","v":"غ"},"",{"$f":"IF(M5=\"\",\"غ\",IF(L5=\"غ\",M5*0.2,SUM(L5*2.5/$L$3,M5*0.2)))","v":"غ"},{"$f":"IF(N5=\"غ\",\"غ\",N5*100/$N$3/100)","v":"غ"},{"$f":"IF(AND(O5=\"غ\"),\"غ\",RANK(O5,$O$4:$O$30)+COUNTIF(O$4:O5,O5)-1)","v":"غ"},{"$f":"IF(O5=\"غ\",\"غ\",IF(O5>=90%,\"ممتاز\",IF(O5>=80%,\"جيد جداً\",IF(O5>=70%,\"جيد\",IF(O5>=60%,\"فوق المتوسط\",IF(O5>=50%,\"متوسط\",IF(O5>=40%,\"دون المتوسط\",IF(O5>=30%,\"ضعيف\",\"دون الضعيف جداً\"))))))))","v":"غ"},null,"جيد جداً","≥ 80","A",{"$f":"COUNTIF(Q4:Q30,\"جيد جداً\")","v":2},8.3333333333333329E-2]
[3,"حسين على حسين على",2,4,2,4,null,30,25,15,10,80,78,17.600000000000001,0.78222222222222226,{"$f":"IF(AND(O6=\"غ\"),\"غ\",RANK(O6,$O$4:$O$30)+COUNTIF(O$4:O6,O6)-1)","v":3},"جيد",null,"جيد","≥ 70","B+",{"$f":"COUNTIF(Q4:Q30,\"جيد\")","v":6},0.25]
[4,"حمد سالم حمد الجبر النعيمى",2.5,2.5,4,4,null,32.5,20,10,10,72.5,74,16.612500000000001,0.73833333333333329,{"$f":"IF(AND(O7=\"غ\"),\"غ\",RANK(O7,$O$4:$O$30)+COUNTIF(O$4:O7,O7)-1)","v":5},"جيد",null,"فوق المتوسط","≥ 60","B",{"$f":"COUNTIF(Q4:Q30,\"فوق المتوسط\")","v":1},4.1666666666666664E-2]
[5,"خالد عبدالله حسن جابر الحسن",1,1,1,1,null,10,20,10,10,50,54,12.05,0.53555555555555556,{"$f":"IF(AND(O8=\"غ\"),\"غ\",RANK(O8,$O$4:$O$30)+COUNTIF(O$4:O8,O8)-1)","v":11},"متوسط",null,"متوسط","≥ 50","C",{"$f":"COUNTIF(Q4:Q30,\"متوسط\")","v":5},0.20833333333333334]
[6,"راشد محمد ضيف الله صالح الحربي",1,1,1,1,null,10,15,10,7,42,50,11.05,0.49111111111111116,{"$f":"IF(AND(O9=\"غ\"),\"غ\",RANK(O9,$O$4:$O$30)+COUNTIF(O$4:O9,O9)-1)","v":15},"دون المتوسط",null,"دون المتوسط","≥ 40","D",{"$f":"COUNTIF(Q4:Q30,\"دون المتوسط\")","v":3},0.125,{"$f":"SUM(W9:W11)","v":0.41666666666666669}]
[7,"سالم ناصر التركي ",1,1,1,1,null,10,20,10,10,50,50,11.25,0.5,{"$f":"IF(AND(O10=\"غ\"),\"غ\",RANK(O10,$O$4:$O$30)+COUNTIF(O$4:O10,O10)-1)","v":14},"متوسط",null,"ضعيف","≥ 30","E",{"$f":"COUNTIF(Q4:Q30,\"ضعيف\")","v":5},0.20833333333333334]
[8,"سعيد محمد سعيد الابراهيم المهندى",1,1,1,1,null,10,20,15,10,55,40,9.375,0.41666666666666663,{"$f":"IF(AND(O11=\"غ\"),\"غ\",RANK(O11,$O$4:$O$30)+COUNTIF(O$4:O11,O11)-1)","v":17},"دون المتوسط",null,"دون الضعيف جداً","< 30","F",{"$f":"COUNTIF(Q4:Q30,\"دون الضعيف جداً\")","v":2},8.3333333333333329E-2]
[9,"سلطان سعيد عامر صبيح الصيعرى",2.5,3,2.5,3,null,27.5,20,15,10,72.5,82,18.212500000000002,0.80944444444444452,{"$f":"IF(AND(O12=\"غ\"),\"غ\",RANK(O12,$O$4:$O$30)+COUNTIF(O$4:O12,O12)-1)","v":2},"جيد جداً",null,"عدد الطلاب الذي تم اختبارهم",null,null,{"$f":"SUM(V4:V11)","v":24},{"$f":"V12/SUM(V12:V13)","v":0.92307692307692313}]
[10,"طلال محمد صالح على الحمادى",2.5,1,2.5,1,null,17.5,20,10,10,57.5,50,11.4375,0.5083333333333333,{"$f":"IF(AND(O13=\"غ\"),\"غ\",RANK(O13,$O$4:$O$30)+COUNTIF(O$4:O13,O13)-1)","v":13},"متوسط",null,"عدد الطلاب الغائبين",null,null,{"$f":"COUNTA(B4:B30)-V12","v":2},{"$f":"V13/SUM(V12:V13)","v":7.6923076923076927E-2}]
[11,"عامر ناصر حسن الجفالى النعيمى",4.5,2,2,4.5,null,32.5,20,15,10,77.5,76,17.137500000000003,0.76166666666666671,{"$f":"IF(AND(O14=\"غ\"),\"غ\",RANK(O14,$O$4:$O$30)+COUNTIF(O$4:O14,O14)-1)","v":4},"جيد"]
[12,"عبدالرحمن كدخدا",1.5,1,1,1.5,null,12.5,20,10,10,52.5,62,13.7125,0.60944444444444446,{"$f":"IF(AND(O15=\"غ\"),\"غ\",RANK(O15,$O$4:$O$30)+COUNTIF(O$4:O15,O15)-1)","v":9},"فوق المتوسط",null,"الطلاب","العدد","النسبة"]
[13,"عبدالعزيز جاسم محمد خليل النجار",2,2,2,2,null,20,20,15,10,65,74,16.425000000000001,0.73,{"$f":"IF(AND(O16=\"غ\"),\"غ\",RANK(O16,$O$4:$O$30)+COUNTIF(O$4:O16,O16)-1)","v":7},"جيد",null,"الناجحين",{"$f":"SUM(V4:V8)","v":14},{"$f":"X4","v":0.58333333333333337}]
[14,"عبدالعزيز هلال سالم ال مرشد الكوارى",1,2,1,2,null,15,15,10,7,47,28.000000000000004,6.7750000000000012,0.30111111111111116,{"$f":"IF(AND(O17=\"غ\"),\"غ\",RANK(O17,$O$4:$O$30)+COUNTIF(O$4:O17,O17)-1)","v":22},"ضعيف",null,"الراسبين",{"$f":"SUM(V9:V11)","v":10},{"$f":"X9","v":0.41666666666666669}]
[15,"عبدالله طارق ماجد امان العبدالله",1.5,1.5,1.5,1.5,null,15,15,10,6,46,34,7.9500000000000011,0.35333333333333333,{"$f":"IF(AND(O18=\"غ\"),\"غ\",RANK(O18,$O$4:$O$30)+COUNTIF(O$4:O18,O18)-1)","v":19},"ضعيف",null,"المجموع",{"$f":"SUM(T16:T17)","v":24},{"$f":"SUM(U16:U17)","v":1}]
[16,"عبدالله محمد احمد عبدالله التميمى",3,2,2,3,null,25,20,10,10,65,56.000000000000007,12.825000000000003,0.57000000000000006,{"$f":"IF(AND(O19=\"غ\"),\"غ\",RANK(O19,$O$4:$O$30)+COUNTIF(O$4:O19,O19)-1)","v":10},"متوسط"]
[17,"عصام حسين على عبدالله الصفار",4,3,4,3,null,35,20,15,10,80,70,16,0.71111111111111114,{"$f":"IF(AND(O20=\"غ\"),\"غ\",RANK(O20,$O$4:$O$30)+COUNTIF(O$4:O20,O20)-1)","v":8},"جيد",null,"التحصيل الأكاديمي",null,{"$f":"AVERAGE(M4:M30)/M$3","v":0.53749999999999998}]
[18,"على عبدالله ابراهيم بودناش الرميحى",1,1,2,2,null,15,20,15,10,60,32,7.9,0.35111111111111115,{"$f":"IF(AND(O21=\"غ\"),\"غ\",RANK(O21,$O$4:$O$30)+COUNTIF(O$4:O21,O21)-1)","v":20},"ضعيف"]
[19,"فهد عبدالله بلال بوحلوم السويدى",1.5,1.5,1.5,1.5,null,15,20,10,10,55,38,8.9750000000000014,0.3988888888888889,{"$f":"IF(AND(O22=\"غ\"),\"غ\",RANK(O22,$O$4:$O$30)+COUNTIF(O$4:O22,O22)-1)","v":18},"ضعيف"]
[20,"فيصل خالد سعد مبارك الدوسرى",1.5,1,1,1.5,null,12.5,15,10,7,44.5,32,7.5125000000000002,0.33388888888888885,{"$f":"IF(AND(O23=\"غ\"),\"غ\",RANK(O23,$O$4:$O$30)+COUNTIF(O$4:O23,O23)-1)","v":21},"ضعيف"]
[21,"محمد الوليد عابدين عبدالكريم صالح",2.5,2,2,2.5,null,22.5,25,15,10,72.5,90,19.8125,0.88055555555555554,{"$f":"IF(AND(O24=\"غ\"),\"غ\",RANK(O24,$O$4:$O$30)+COUNTIF(O$4:O24,O24)-1)","v":1},"جيد جداً",null,"الفرع","الناجحين","الراسبين","التحصيل"]
[22,"محمد حسين خضير حسن السويدى",1,1,1,1,null,10,15,10,6,41,24,5.8250000000000011,0.25888888888888895,{"$f":"IF(AND(O25=\"غ\"),\"غ\",RANK(O25,$O$4:$O$30)+COUNTIF(O$4:O25,O25)-1)","v":24},"دون الضعيف جداً",null,{"$f":"H2","v":"Quizzes"},{"$f":"COUNTIF(H4:H30,\">=\"&H$3/2)/COUNT(H4:H30)","v":0.29166666666666669},{"$f":"IF(T25=\"\",\"\",100%-T25)","v":0.70833333333333326},{"$f":"IF($U25=\"\",\"\",AVERAGE(H4:H30)/H$3)","v":0.37291666666666662}]
[23,"محمد نبيل محمد احمد الجبنى",2,1,1,2,null,15,15,10,10,50,52,11.65,0.51777777777777778,{"$f":"IF(AND(O26=\"غ\"),\"غ\",RANK(O26,$O$4:$O$30)+COUNTIF(O$4:O26,O26)-1)","v":12},"متوسط",null,{"$f":"I2","v":"الواجب"},{"$f":"COUNTIF(I4:I30,\">=\"&I$3/2)/COUNT(I4:I30)","v":1},0,{"$f":"IF($U26=\"\",\"\",AVERAGE(I4:I30)/I$3)","v":0.752}]
[24,"ناصر عبد الرحمن أحمد عبد الرحمن جابر",1,1,1,1,null,10,15,10,5,40,44,9.8000000000000007,0.43555555555555558,{"$f":"IF(AND(O27=\"غ\"),\"غ\",RANK(O27,$O$4:$O$30)+COUNTIF(O$4:O27,O27)-1)","v":16},"دون المتوسط",null,{"$f":"J2","v":"المشاركة"},{"$f":"COUNTIF(J4:J30,\">=\"&J$3/2)/COUNT(J4:J30)","v":1},0,{"$f":"IF($U27=\"\",\"\",AVERAGE(J4:J30)/J$3)","v":0.78666666666666674}]
[25,"نعيم محمد اسدالله عبدالمتين",null,null,null,null,null,"غ",20,15,10,45,"","غ","غ",{"$f":"IF(AND(O28=\"غ\"),\"غ\",RANK(O28,$O$4:$O$30)+COUNTIF(O$4:O28,O28)-1)","v":"غ"},"غ",null,{"$f":"K2","v":"المشروع"},{"$f":"COUNTIF(K4:K30,\">=\"&K$3/2)/COUNT(K4:K30)","v":1},0,{"$f":"IF($U28=\"\",\"\",AVERAGE(K4:K30)/K$3)","v":0.89600000000000013}]
[26,"وليد فرج عبدالله فرج العبدالله",2,2,2,2,null,{"$f":"IF(AND(C29=\"\",D29=\"\",E29=\"\",F29=\"\",G29=\"\"),\"غ\",$H$3*SUM(C29:G29)/SUM($C$3:$G$3))","v":20},15,10,6,{"$f":"IF(AND(C29=\"\",D29=\"\",E29=\"\",F29=\"\",G29=\"\",I29=\"\",J29=\"\",K29=\"\"),\"غ\",SUM(H29:K29))","v":51},26,{"$f":"IF(M29=\"\",\"غ\",IF(L29=\"غ\",M29*0.2,SUM(L29*2.5/$L$3,M29*0.2)))","v":6.4749999999999996},0.2877777777777778,{"$f":"IF(AND(O29=\"غ\"),\"غ\",RANK(O29,$O$4:$O$30)+COUNTIF(O$4:O29,O29)-1)","v":23},{"$f":"IF(O29=\"غ\",\"غ\",IF(O29>=90%,\"ممتاز\",IF(O29>=80%,\"جيد جداً\",IF(O29>=70%,\"جيد\",IF(O29>=60%,\"فوق المتوسط\",IF(O29>=50%,\"متوسط\",IF(O29>=40%,\"دون المتوسط\",IF(O29>=30%,\"ضعيف\",\"دون الضعيف جداً\"))))))))","v":"دون الضعيف جداً"},null,{"$f":"M2","v":"Exam"},{"$f":"COUNTIF(M4:M30,\">=\"&M$3/2)/COUNT(M4:M30)","v":0.625},0.375,{"$f":"IF($U29=\"\",\"\",AVERAGE(M4:M30)/M$3)","v":0.53749999999999998}]
[null,null,null,null,null,null,null,null,null,null,null,null,""]
[null,null,null,null,null,null,null,null,null,null,null,null,""]

{"sheet":"7-8","index":8,"n_rows":31,"n_cols":24,"rows_kept":31,"cut":false,"hidden":false,"merged":[[0,0,0,16],[1,0,2,0],[1,1,2,1],[1,16,2,16],[1,18,1,23],[2,19,2,20],[2,22,2,23],[19,18,20,19],[19,20,20,20],[3,23,7,23],[8,23,10,23],[11,18,11,20],[11,22,11,23],[12,18,12,20],[12,22,12,23]]}
["Grade (7-8) كشف درجات الطلاب  "]
["م","اسم الطالب","Quiz1","Quiz2","Quiz3","Quiz4","Quiz5","Quizzes","الواجب","المشاركة","المشروع","Total","Exam","Final","Percent","Rank","التقدير",null,"تحليل النتائج على حسب التقدير"]
[null,null,5,5,5,5,"درجة5",50,25,15,10,100,100,22.5,"(%)","الترتيب",null,null,"التقدير","المجال",null,"عدد الطلاب","النسبة"]
[1,"ابراهيم حسن حمد جفال النعيمى",null,null,null,null,null,{"$f":"IF(AND(C4=\"\",D4=\"\",E4=\"\",F4=\"\",G4=\"\"),\"غ\",$H$3*SUM(C4:G4)/SUM($C$3:$G$3))","v":"غ"},null,null,null,{"$f":"IF(AND(C4=\"\",D4=\"\",E4=\"\",F4=\"\",G4=\"\",I4=\"\",J4=\"\",K4=\"\"),\"غ\",SUM(H4:K4))","v":"غ"},"",{"$f":"IF(M4=\"\",\"غ\",IF(L4=\"غ\",M4*0.2,SUM(L4*2.5/$L$3,M4*0.2)))","v":"غ"},{"$f":"IF(N4=\"غ\",\"غ\",N4*100/$N$3/100)","v":"غ"},{"$f":"IF(AND(O4=\"غ\"),\"غ\",RANK(O4,$O$4:$O$29)+COUNTIF(O$4:O4,O4)-1)","v":"غ"},{"$f":"IF(O4=\"غ\",\"غ\",IF(O4>=90%,\"ممتاز\",IF(O4>=80%,\"جيد جداً\",IF(O4>=70%,\"جيد\",IF(O4>=60%,\"فوق المتوسط\",IF(O4>=50%,\"متوسط\",IF(O4>=40%,\"دون المتوسط\",IF(O4>=30%,\"ضعيف\",\"دون الضعيف جداً\"))))))))","v":"غ"},null,"ممتاز"," ≥ 90","A+",{"$f":"COUNTIF(Q4:Q29,\"ممتاز\")","v":0},{"$f":"(V4/$V$12)","v":0},{"$f":"SUM(W4:W8)","v":0.63636363636363635}]
[2,"احمد راشد سعد محمد الكبيسى",3,1,1,3,null,{"$f":"IF(AND(C5=\"\",D5=\"\",E5=\"\",F5=\"\",G5=\"\"),\"غ\",$H$3*SUM(C5:G5)/SUM($C$3:$G$3))","v":20},20,13,10,{"$f":"IF(AND(C5=\"\",D5=\"\",E5=\"\",F5=\"\",G5=\"\",I5=\"\",J5=\"\",K5=\"\"),\"غ\",SUM(H5:K5))","v":63},72,{"$f":"IF(M5=\"\",\"غ\",IF(L5=\"غ\",M5*0.2,SUM(L5*2.5/$L$3,M5*0.2)))","v":15.975},{"$f":"IF(N5=\"غ\",\"غ\",N5*100/$N$3/100)","v":0.71},{"$f":"IF(AND(O5=\"غ\"),\"غ\",RANK(O5,$O$4:$O$29)+COUNTIF(O$4:O5,O5)-1)","v":5},{"$f":"IF(O5=\"غ\",\"غ\",IF(O5>=90%,\"ممتاز\",IF(O5>=80%,\"جيد جداً\",IF(O5>=70%,\"جيد\",IF(O5>=60%,\"فوق المتوسط\",IF(O5>=50%,\"متوسط\",IF(O5>=40%,\"دون المتوسط\",IF(O5>=30%,\"ضعيف\",\"دون الضعيف جداً\"))))))))","v":"جيد"},null,"جيد جداً","≥ 80","A",{"$f":"COUNTIF(Q4:Q29,\"جيد جداً\")","v":1},4.5454545454545456E-2]
[3,"أحمد محمد سيف الكواري ",null,null,null,null,null,"غ",15,10,7,32,36,8,0.35555555555555557,{"$f":"IF(AND(O6=\"غ\"),\"غ\",RANK(O6,$O$4:$O$29)+COUNTIF(O$4:O6,O6)-1)","v":22},"ضعيف",null,"جيد","≥ 70","B+",{"$f":"COUNTIF(Q4:Q29,\"جيد\")","v":4},0.18181818181818182]
[4,"تركى ناشى صالح مبارك التركى",1,1,1,1,null,10,15,10,5,40,36,8.1999999999999993,0.3644444444444444,{"$f":"IF(AND(O7=\"غ\"),\"غ\",RANK(O7,$O$4:$O$29)+COUNTIF(O$4:O7,O7)-1)","v":21},"ضعيف",null,"فوق المتوسط","≥ 60","B",{"$f":"COUNTIF(Q4:Q29,\"فوق المتوسط\")","v":4},0.18181818181818182]
[5,"تميم مبارك طالب مسعود المهندى",null,null,null,null,null,"غ",10,10,7,27,54,11.475000000000001,0.51000000000000012,{"$f":"IF(AND(O8=\"غ\"),\"غ\",RANK(O8,$O$4:$O$29)+COUNTIF(O$4:O8,O8)-1)","v":12},"متوسط",null,"متوسط","≥ 50","C",{"$f":"COUNTIF(Q4:Q29,\"متوسط\")","v":5},0.22727272727272727]
[6,"جاسم محمد سعيد الربيعه الكوارى",1,1,1,1,null,10,15,10,7,42,46,10.250000000000002,0.45555555555555566,{"$f":"IF(AND(O9=\"غ\"),\"غ\",RANK(O9,$O$4:$O$29)+COUNTIF(O$4:O9,O9)-1)","v":16},"دون المتوسط",null,"دون المتوسط","≥ 40","D",{"$f":"COUNTIF(Q4:Q29,\"دون المتوسط\")","v":5},0.22727272727272727,{"$f":"SUM(W9:W11)","v":0.36363636363636365}]
[7,"حمد حسين جمال محمد الجابر",0,0,0,0,null,0,20,13,8,41,40,9.0250000000000004,0.40111111111111114,{"$f":"IF(AND(O10=\"غ\"),\"غ\",RANK(O10,$O$4:$O$29)+COUNTIF(O$4:O10,O10)-1)","v":19},"دون المتوسط",null,"ضعيف","≥ 30","E",{"$f":"COUNTIF(Q4:Q29,\"ضعيف\")","v":3},0.13636363636363635]
[8,"خالد على عبدالله محمد العبيدلى",1.5,1.5,3,3,null,22.5,20,14,8,64.5,42,10.012500000000001,0.44500000000000006,{"$f":"IF(AND(O11=\"غ\"),\"غ\",RANK(O11,$O$4:$O$29)+COUNTIF(O$4:O11,O11)-1)","v":17},"دون المتوسط",null,"دون الضعيف جداً","< 30","F",{"$f":"COUNTIF(Q4:Q29,\"دون الضعيف جداً\")","v":0},0]
[9,"خالد مبارك مال الله مبارك الكبيسى",1.5,1.5,1.5,1.5,null,15,20,10,7,52,50,11.3,0.50222222222222224,{"$f":"IF(AND(O12=\"غ\"),\"غ\",RANK(O12,$O$4:$O$29)+COUNTIF(O$4:O12,O12)-1)","v":14},"متوسط",null,"عدد الطلاب الذي تم اختبارهم",null,null,{"$f":"SUM(V4:V11)","v":22},{"$f":"V12/SUM(V12:V13)","v":0.91666666666666663}]
[10,"خميس جمعه خميس جمعه الحميدى",1,1,1,1,null,10,18,12,8,48,54,12,0.53333333333333333,{"$f":"IF(AND(O13=\"غ\"),\"غ\",RANK(O13,$O$4:$O$29)+COUNTIF(O$4:O13,O13)-1)","v":10},"متوسط",null,"عدد الطلاب الغائبين",null,null,{"$f":"COUNTA(B4:B29)-V12","v":2},{"$f":"V13/SUM(V12:V13)","v":8.3333333333333329E-2}]
[11,"راشد محمد حسن الجفالى النعيمى",3,3,3,3,null,30,25,14,10,79,78,17.575000000000003,0.78111111111111109,{"$f":"IF(AND(O14=\"غ\"),\"غ\",RANK(O14,$O$4:$O$29)+COUNTIF(O$4:O14,O14)-1)","v":2},"جيد"]
[12,"زايد محمد زايد بوزايد المنصورى",2.5,2.5,3,3,null,27.5,22,13,10,72.5,68,15.412500000000001,0.68500000000000016,{"$f":"IF(AND(O15=\"غ\"),\"غ\",RANK(O15,$O$4:$O$29)+COUNTIF(O$4:O15,O15)-1)","v":7},"فوق المتوسط",null,"الطلاب","العدد","النسبة"]
[13,"سلطان خالد حسن جاسم بوهزاع",1.5,2,1.5,2,null,17.5,22,13,7,59.5,36,8.6875,0.38611111111111113,{"$f":"IF(AND(O16=\"غ\"),\"غ\",RANK(O16,$O$4:$O$29)+COUNTIF(O$4:O16,O16)-1)","v":20},"ضعيف",null,"الناجحين",{"$f":"SUM(V4:V8)","v":14},{"$f":"X4","v":0.63636363636363635}]
[14,"طلال ناصر مبارك جمعه السليطى",3.5,3,3,3.5,null,32.5,25,13,9,79.5,66,15.187500000000002,0.67500000000000016,{"$f":"IF(AND(O17=\"غ\"),\"غ\",RANK(O17,$O$4:$O$29)+COUNTIF(O$4:O17,O17)-1)","v":8},"فوق المتوسط",null,"الراسبين",{"$f":"SUM(V9:V11)","v":8},{"$f":"X9","v":0.36363636363636365}]
[15,"عبد العزيز ناصر الكواري ",0,0,0,0,null,0,15,10,8,33,null,"غ","غ",{"$f":"IF(AND(O18=\"غ\"),\"غ\",RANK(O18,$O$4:$O$29)+COUNTIF(O$4:O18,O18)-1)","v":"غ"},"غ",null,"المجموع",{"$f":"SUM(T16:T17)","v":22},{"$f":"SUM(U16:U17)","v":1}]
[16,"عبدالعزيز غانم عبدالرحمن ابراهيم الغانم",0,0,0,0,null,0,15,12,8,35,44,9.6750000000000007,0.43000000000000005,{"$f":"IF(AND(O19=\"غ\"),\"غ\",RANK(O19,$O$4:$O$29)+COUNTIF(O$4:O19,O19)-1)","v":18},"دون المتوسط"]
[17,"عبدالعزيز منصر محمد صالح موسى",2,1,1,2,null,15,24,14,10,63,70,15.574999999999999,0.69222222222222229,{"$f":"IF(AND(O20=\"غ\"),\"غ\",RANK(O20,$O$4:$O$29)+COUNTIF(O$4:O20,O20)-1)","v":6},"فوق المتوسط",null,"التحصيل الأكاديمي",null,{"$f":"AVERAGE(M4:M30)/M$3","v":0.56454545454545457}]
[18,"على اسماعيل عبدالله اسماعيل المالكى",4,4,4,4,null,40,24,14,9,87,84,18.975000000000001,0.84333333333333338,{"$f":"IF(AND(O21=\"غ\"),\"غ\",RANK(O21,$O$4:$O$29)+COUNTIF(O$4:O21,O21)-1)","v":1},"جيد جداً"]
[19,"على حسين رحيم داد اربابي",3,3,3,3,null,30,25,15,10,80,74,16.8,0.7466666666666667,{"$f":"IF(AND(O22=\"غ\"),\"غ\",RANK(O22,$O$4:$O$29)+COUNTIF(O$4:O22,O22)-1)","v":4},"جيد"]
[20,"فيصل ابراهيم يوسف ابراهيم الفضاله",2.5,2.5,3,3,null,27.5,22,12,8,69.5,76,16.9375,0.75277777777777777,{"$f":"IF(AND(O23=\"غ\"),\"غ\",RANK(O23,$O$4:$O$29)+COUNTIF(O$4:O23,O23)-1)","v":3},"جيد"]
[21,"فيصل عيد الهاجري ",1,1,1,1,null,10,25,12,9,56,52,11.8,0.52444444444444438,{"$f":"IF(AND(O24=\"غ\"),\"غ\",RANK(O24,$O$4:$O$29)+COUNTIF(O$4:O24,O24)-1)","v":11},"متوسط",null,"الفرع","الناجحين","الراسبين","التحصيل"]
[22,"محمد اياد محمود انعيم",1.5,1.5,0.15,0.15,null,8.25,20,13,8,49.25,50,11.231249999999999,0.49916666666666665,{"$f":"IF(AND(O25=\"غ\"),\"غ\",RANK(O25,$O$4:$O$29)+COUNTIF(O$4:O25,O25)-1)","v":15},"دون المتوسط",null,{"$f":"H2","v":"Quizzes"},{"$f":"COUNTIF(H4:H29,\">=\"&H$3/2)/COUNT(H4:H29)","v":0.33333333333333331},{"$f":"IF(T25=\"\",\"\",100%-T25)","v":0.66666666666666674},{"$f":"IF($U25=\"\",\"\",AVERAGE(H4:H29)/H$3)","v":0.36023809523809525}]
[23,"محمد ناصر صالح الرمزانى النعيمى",4.5,3,3,4.5,null,37.5,25,14,9,85.5,64,14.9375,0.66388888888888886,{"$f":"IF(AND(O26=\"غ\"),\"غ\",RANK(O26,$O$4:$O$29)+COUNTIF(O$4:O26,O26)-1)","v":9},"فوق المتوسط",null,{"$f":"I2","v":"الواجب"},{"$f":"COUNTIF(I4:I29,\">=\"&I$3/2)/COUNT(I4:I29)","v":0.95652173913043481},4.3478260869565188E-2,{"$f":"IF($U26=\"\",\"\",AVERAGE(I4:I29)/I$3)","v":0.8034782608695652}]
[24,"وليد جمعه سعيد ال حسين الكبيسى",2,1,1,2,null,15,20,13,8,56,50,11.4,0.5066666666666666,{"$f":"IF(AND(O27=\"غ\"),\"غ\",RANK(O27,$O$4:$O$29)+COUNTIF(O$4:O27,O27)-1)","v":13},"متوسط",null,{"$f":"J2","v":"المشاركة"},{"$f":"COUNTIF(J4:J29,\">=\"&J$3/2)/COUNT(J4:J29)","v":1},0,{"$f":"IF($U27=\"\",\"\",AVERAGE(J4:J29)/J$3)","v":0.8231884057971014}]
[null,null,null,null,null,null,null,null,null,null,null,null,"",null,null,null,null,null,{"$f":"K2","v":"المشروع"},{"$f":"COUNTIF(K4:K29,\">=\"&K$3/2)/COUNT(K4:K29)","v":1},0,{"$f":"IF($U28=\"\",\"\",AVERAGE(K4:K29)/K$3)","v":0.82608695652173902}]
[null,null,null,null,null,null,null,null,null,null,null,null,"",null,null,null,null,null,{"$f":"M2","v":"Exam"},{"$f":"COUNTIF(M4:M29,\">=\"&M$3/2)/COUNT(M4:M29)","v":0.68181818181818177},0.31818181818181823,{"$f":"IF($U29=\"\",\"\",AVERAGE(M4:M29)/M$3)","v":0.56454545454545457}]
[null,null,null,null,null,null,null,null,null,null,null,null,""]
[null,null,null,null,null,null,null,null,null,null,null,null,""]

{"sheet":"Grade8","index":9,"n_rows":113,"n_cols":7,"rows_kept":113,"cut":false,"hidden":false,"merged":[[109,0,109,1],[110,0,110,1],[111,0,111,1],[112,0,112,1],[90,9,90,11],[105,0,105,1],[105,2,105,3],[107,0,107,1],[108,0,108,1],[108,9,108,11],[62,9,62,11],[73,0,73,1],[73,2,73,3],[76,9,76,11],[87,0,87,1],[87,2,87,3],[34,9,34,11],[45,0,45,1],[45,2,45,3],[48,9,48,11],[59,0,59,1],[59,2,59,3],[9,6,11,6],[12,1,12,3],[12,5,12,6],[18,2,18,3],[31,0,31,1],[31,2,31,3],[4,6,8,6],[0,0,1,0],[0,1,1,1],[2,1,2,6],[3,2,3,3],[3,5,3,6]]}
["عدد الطلاب الغائبين",{"$f":"SUM('8-1'!V13,'8-2'!V13,'8-3'!V13,'8-4'!V13,'8-5'!V13,'8-6'!V13,'8-7'!V13,'8-8'!V13)","v":6}]
[]
[null,"تحليل نتائج الصف الثامن Grade-8"]
[null,"التقدير","المجال",null,"عدد الطلاب","النسبة"]
[null,"ممتاز"," ≥ 90","A+",{"$f":"SUM('8-1'!V4,'8-2'!V4,'8-3'!V4,'8-4'!V4,'8-5'!V4,'8-6'!V4,'8-7'!V4,'8-8'!V4)","v":3},{"$f":"(E5/$E$13)","v":1.5789473684210527E-2},{"$f":"SUM(F5:F9)","v":0.72105263157894739}]
[null,"جيد جداً","≥ 80","A",{"$f":"SUM('8-1'!V5,'8-2'!V5,'8-3'!V5,'8-4'!V5,'8-5'!V5,'8-6'!V5,'8-7'!V5,'8-8'!V5)","v":9},4.736842105263158E-2]
[null,"جيد","≥ 70","B+",{"$f":"SUM('8-1'!V6,'8-2'!V6,'8-3'!V6,'8-4'!V6,'8-5'!V6,'8-6'!V6,'8-7'!V6,'8-8'!V6)","v":22},0.11578947368421053]
[null,"فوق المتوسط","≥ 60","B",{"$f":"SUM('8-1'!V7,'8-2'!V7,'8-3'!V7,'8-4'!V7,'8-5'!V7,'8-6'!V7,'8-7'!V7,'8-8'!V7)","v":46},0.24210526315789474]
[null,"متوسط","≥ 50","C",{"$f":"SUM('8-1'!V8,'8-2'!V8,'8-3'!V8,'8-4'!V8,'8-5'!V8,'8-6'!V8,'8-7'!V8,'8-8'!V8)","v":57},0.3]
[null,"دون المتوسط","≥ 40","D",{"$f":"SUM('8-1'!V9,'8-2'!V9,'8-3'!V9,'8-4'!V9,'8-5'!V9,'8-6'!V9,'8-7'!V9,'8-8'!V9)","v":34},0.17894736842105263,{"$f":"SUM(F10:F12)","v":0.27894736842105261}]
[null,"ضعيف","≥ 30","E",{"$f":"SUM('8-1'!V10,'8-2'!V10,'8-3'!V10,'8-4'!V10,'8-5'!V10,'8-6'!V10,'8-7'!V10,'8-8'!V10)","v":16},8.4210526315789472E-2]
[null,"دون الضعيف جداً","< 30","F",{"$f":"SUM('8-1'!V11,'8-2'!V11,'8-3'!V11,'8-4'!V11,'8-5'!V11,'8-6'!V11,'8-7'!V11,'8-8'!V11)","v":3},1.5789473684210527E-2]
[null,"عدد طلاب الصف الثامن الذي تم اختبارهم",null,null,{"$f":"SUM(E5:E12)","v":190},{"$f":"E13/SUM(E13,B1)","v":0.96938775510204078}]
[]
[null,null,"الطلاب","العدد","النسبة"]
[null,null,"الناجحين",{"$f":"SUM(E5:E9)","v":137},{"$f":"G5","v":0.72105263157894739}]
[null,null,"الراسبين",{"$f":"SUM(E10:E12)","v":53},{"$f":"G10","v":0.27894736842105261}]
[null,null,"المجموع",{"$f":"SUM(D16:D17)","v":190},{"$f":"SUM(E16:E17)","v":1}]
[null,null,"نسبة التحصيل",null,{"$f":"AVERAGE('8-1'!U20,'8-2'!U20,'8-3'!U20,'8-4'!U20,'8-5'!U20,'8-6'!U20,'8-7'!U20,'8-8'!U20)","v":0.57883761528326749}]
[]
[null,"الصف / النسبة","الناجحين","الراسبين","التحصيل"]
[null,"8-1",{"$f":"'8-1'!$U$16","v":0.875},{"$f":"'8-1'!$U$17","v":0.125},{"$f":"'8-1'!$U$20","v":0.6333333333333333}]
[null,"8-2",{"$f":"'8-2'!$U$16","v":0.95454545454545459},{"$f":"'8-2'!$U$17","v":4.5454545454545456E-2},{"$f":"'8-2'!$U$20","v":0.59545454545454546}]
[null,"8-3",{"$f":"'8-3'!$U$16","v":1},{"$f":"'8-3'!$U$17","v":0},{"$f":"'8-3'!$U$20","v":0.79130434782608705}]
[null,"8-4",{"$f":"'8-4'!$U$16","v":0.64},{"$f":"'8-4'!$U$17","v":0.36},{"$f":"'8-4'!$U$20","v":0.52959999999999996}]
[null,"8-5",{"$f":"'8-5'!$U$16","v":0.65217391304347827},{"$f":"'8-5'!$U$17","v":0.34782608695652173},{"$f":"'8-5'!$U$20","v":0.52956521739130435}]
[null,"8-6",{"$f":"'8-6'!$U$16","v":0.65217391304347827},{"$f":"'8-6'!$U$17","v":0.34782608695652173},{"$f":"'8-6'!$U$20","v":0.55304347826086953}]
[null,"8-7",{"$f":"'8-7'!$U$16","v":0.56000000000000005},{"$f":"'8-7'!$U$17","v":0.44},{"$f":"'8-7'!$U$20","v":0.50960000000000005}]
[null,"8-8",{"$f":"'8-8'!$U$16","v":0.48},{"$f":"'8-8'!$U$17","v":0.52},{"$f":"'8-8'!$U$20","v":0.48880000000000001}]
[]
[]
["تحليل نتائج فرع",null,{"$f":"'8-1'!H2","v":"Quizzes"}]
[]
[null,"الصف","الناجحين","الراسبين","التحصيل"]
[null,"8-1",{"$f":"'8-1'!$T$25","v":0.41666666666666669},{"$f":"'8-1'!$U$25","v":0.58333333333333326},{"$f":"'8-1'!$V$25","v":0.38750000000000001}]
[null,"8-2",{"$f":"'8-2'!$T$25","v":0.56521739130434778},{"$f":"'8-2'!$U$25","v":0.43478260869565222},{"$f":"'8-2'!$V$25","v":0.42608695652173911}]
[null,"8-3",{"$f":"'8-3'!$T$25","v":1},{"$f":"'8-3'!$U$25","v":0},{"$f":"'8-3'!$V$25","v":0.65208333333333324}]
[null,"8-4",{"$f":"'8-4'!$T$25","v":0.18181818181818182},{"$f":"'8-4'!$U$25","v":0.81818181818181812},{"$f":"'8-4'!$V$25","v":0.29659090909090913}]
[null,"8-5",{"$f":"'8-5'!$T$25","v":0.47619047619047616},{"$f":"'8-5'!$U$25","v":0.52380952380952384},{"$f":"'8-5'!$V$25","v":0.49285714285714283}]
[null,"8-6",{"$f":"'8-6'!$T$25","v":0.30434782608695654},{"$f":"'8-6'!$U$25","v":0.69565217391304346},{"$f":"'8-6'!$V$25","v":0.39347826086956522}]
[null,"8-7",{"$f":"'8-7'!$T$25","v":0.56000000000000005},{"$f":"'8-7'!$U$25","v":0.43999999999999995},{"$f":"'8-7'!$V$25","v":0.46}]
[null,"8-8",{"$f":"'8-8'!$T$25","v":0.25},{"$f":"'8-8'!$U$25","v":0.75},{"$f":"'8-8'!$V$25","v":0.33958333333333335}]
[null,"المتوسط",{"$f":"AVERAGE(C35:C42)","v":0.46928006775832865},{"$f":"AVERAGE(D35:D42)","v":0.53071993224167135},0.43102249200075282]
[]
[]
["تحليل نتائج فرع",null,{"$f":"'8-1'!I2","v":"الواجب"}]
[]
[null,"الصف","الناجحين","الراسبين","التحصيل"]
[null,"8-1",{"$f":"'8-1'!$T$26","v":1},{"$f":"'8-1'!$U$26","v":0},{"$f":"'8-1'!$V$26","v":0.92666666666666675}]
[null,"8-2",{"$f":"'8-2'!$T$26","v":1},{"$f":"'8-2'!$U$26","v":0},{"$f":"'8-2'!$V$26","v":0.92833333333333323}]
[null,"8-3",{"$f":"'8-3'!$T$26","v":1},{"$f":"'8-3'!$U$26","v":0},{"$f":"'8-3'!$V$26","v":0.96333333333333326}]
[null,"8-4",{"$f":"'8-4'!$T$26","v":0.8},{"$f":"'8-4'!$U$26","v":0.19999999999999996},{"$f":"'8-4'!$V$26","v":0.6512}]
[null,"8-5",{"$f":"'8-5'!$T$26","v":0.82608695652173914},{"$f":"'8-5'!$U$26","v":0.17391304347826086},{"$f":"'8-5'!$V$26","v":0.67304347826086952}]
[null,"8-6",{"$f":"'8-6'!$T$26","v":0.56521739130434778},{"$f":"'8-6'!$U$26","v":0.43478260869565222},{"$f":"'8-6'!$V$26","v":0.53043478260869559}]
[null,"8-7",{"$f":"'8-7'!$T$26","v":0.6},{"$f":"'8-7'!$U$26","v":0.4},{"$f":"'8-7'!$V$26","v":0.54559999999999997}]
[null,"8-8",{"$f":"'8-8'!$T$26","v":0.52},{"$f":"'8-8'!$U$26","v":0.48},{"$f":"'8-8'!$V$26","v":0.50080000000000002}]
[null,"المتوسط",{"$f":"AVERAGE(C49:C56)","v":0.78891304347826074},{"$f":"AVERAGE(D49:D56)","v":0.21108695652173914},0.71492644927536242]
[]
[]
["تحليل نتائج فرع",null,{"$f":"'8-1'!J2","v":"المشاركة"}]
[]
[null,"الصف","الناجحين","الراسبين","التحصيل"]
[null,"8-1",{"$f":"'8-1'!$T$27","v":1},{"$f":"'8-1'!$U$27","v":0},{"$f":"'8-1'!$V$27","v":0.89722222222222225}]
[null,"8-2",{"$f":"'8-2'!$T$27","v":1},{"$f":"'8-2'!$U$27","v":0},{"$f":"'8-2'!$V$27","v":0.88611111111111107}]
[null,"8-3",{"$f":"'8-3'!$T$27","v":1},{"$f":"'8-3'!$U$27","v":0},{"$f":"'8-3'!$V$27","v":0.9}]
[null,"8-4",{"$f":"'8-4'!$T$27","v":0.88},{"$f":"'8-4'!$U$27","v":0.12},{"$f":"'8-4'!$V$27","v":0.66666666666666663}]
[null,"8-5",{"$f":"'8-5'!$T$27","v":0.82608695652173914},{"$f":"'8-5'!$U$27","v":0.17391304347826086},{"$f":"'8-5'!$V$27","v":0.64057971014492743}]
[null,"8-6",{"$f":"'8-6'!$T$27","v":0.56521739130434778},{"$f":"'8-6'!$U$27","v":0.43478260869565222},{"$f":"'8-6'!$V$27","v":0.53043478260869559}]
[null,"8-7",{"$f":"'8-7'!$T$27","v":0.64},{"$f":"'8-7'!$U$27","v":0.36},{"$f":"'8-7'!$V$27","v":0.59733333333333338}]
[null,"8-8",{"$f":"'8-8'!$T$27","v":0.68},{"$f":"'8-8'!$U$27","v":0.31999999999999995},{"$f":"'8-8'!$V$27","v":0.56266666666666665}]
[null,"المتوسط",{"$f":"AVERAGE(C63:C70)","v":0.82391304347826078},{"$f":"AVERAGE(D63:D70)","v":0.17608695652173911},0.71012681159420288]
[]
[]
["تحليل نتائج فرع",null,{"$f":"'8-1'!K2","v":"المشروع"}]
[]
[null,"الصف","الناجحين","الراسبين","التحصيل"]
[null,"8-1",{"$f":"'8-1'!$T$28","v":1},{"$f":"'8-1'!$U$28","v":0},{"$f":"'8-1'!$V$28","v":0.84583333333333344}]
[null,"8-2",{"$f":"'8-2'!$T$28","v":1},{"$f":"'8-2'!$U$28","v":0},{"$f":"'8-2'!$V$28","v":0.82916666666666661}]
[null,"8-3",{"$f":"'8-3'!$T$28","v":1},{"$f":"'8-3'!$U$28","v":0},{"$f":"'8-3'!$V$28","v":0.85}]
[null,"8-4",{"$f":"'8-4'!$T$28","v":0.92},{"$f":"'8-4'!$U$28","v":7.999999999999996E-2},{"$f":"'8-4'!$V$28","v":0.66799999999999993}]
[null,"8-5",{"$f":"'8-5'!$T$28","v":0.86956521739130432},{"$f":"'8-5'!$U$28","v":0.13043478260869568},{"$f":"'8-5'!$V$28","v":0.61304347826086958}]
[null,"8-6",{"$f":"'8-6'!$T$28","v":0.65217391304347827},{"$f":"'8-6'!$U$28","v":0.34782608695652173},{"$f":"'8-6'!$V$28","v":0.5260869565217392}]
[null,"8-7",{"$f":"'8-7'!$T$28","v":0.76},{"$f":"'8-7'!$U$28","v":0.24},{"$f":"'8-7'!$V$28","v":0.59599999999999997}]
[null,"8-8",{"$f":"'8-8'!$T$28","v":0.48},{"$f":"'8-8'!$U$28","v":0.52},{"$f":"'8-8'!$V$28","v":0.5}]
[null,"المتوسط",{"$f":"AVERAGE(C77:C84)","v":0.83521739130434791},{"$f":"AVERAGE(D77:D84)","v":0.16478260869565217},0.67851630434782606]
[]
[]
["تحليل نتائج فرع",null,{"$f":"'8-1'!M2","v":"Exam"}]
[]
[null,"الصف","الناجحين","الراسبين","التحصيل"]
[null,"8-1",{"$f":"'8-1'!$T$29","v":0.875},{"$f":"'8-1'!$U$29","v":0.125},{"$f":"'8-1'!$V$29","v":0.6333333333333333}]
[null,"8-2",{"$f":"'8-2'!$T$29","v":0.95454545454545459},{"$f":"'8-2'!$U$29","v":4.5454545454545414E-2},{"$f":"'8-2'!$V$29","v":0.59545454545454546}]
[null,"8-3",{"$f":"'8-3'!$T$29","v":1},{"$f":"'8-3'!$U$29","v":0},{"$f":"'8-3'!$V$29","v":0.79130434782608705}]
[null,"8-4",{"$f":"'8-4'!$T$29","v":0.72},{"$f":"'8-4'!$U$29","v":0.28000000000000003},{"$f":"'8-4'!$V$29","v":0.52959999999999996}]
[null,"8-5",{"$f":"'8-5'!$T$29","v":0.65217391304347827},{"$f":"'8-5'!$U$29","v":0.34782608695652173},{"$f":"'8-5'!$V$29","v":0.52956521739130435}]
[null,"8-6",{"$f":"'8-6'!$T$29","v":0.73913043478260865},{"$f":"'8-6'!$U$29","v":0.26086956521739135},{"$f":"'8-6'!$V$29","v":0.55304347826086953}]
[null,"8-7",{"$f":"'8-7'!$T$29","v":0.64},{"$f":"'8-7'!$U$29","v":0.36},{"$f":"'8-7'!$V$29","v":0.50960000000000005}]
[null,"8-8",{"$f":"'8-8'!$T$29","v":0.52},{"$f":"'8-8'!$U$29","v":0.48},{"$f":"'8-8'!$V$29","v":0.48880000000000001}]
[null,"المتوسط",{"$f":"AVERAGE(C91:C98)","v":0.76260622529644273},{"$f":"AVERAGE(D91:D98)","v":0.23739377470355733},0.57883761528326749]
[]
[]
[]
[]
[]
[]
["مقارنة تحليل نتائج",null,"جميع  الفروع"]
[]
["الفرع",null,"الناجحين","الراسبين","التحصيل"]
[{"$f":"C32","v":"Quizzes"},null,{"$f":"C43","v":0.46928006775832865},{"$f":"D43","v":0.53071993224167135},{"$f":"E43","v":0.43102249200075282}]
[{"$f":"C46","v":"الواجب"},null,{"$f":"C57","v":0.78891304347826074},{"$f":"D57","v":0.21108695652173914},{"$f":"E57","v":0.71492644927536242}]
[{"$f":"C60","v":"المشاركة"},null,{"$f":"C71","v":0.82391304347826078},{"$f":"D71","v":0.17608695652173911},{"$f":"E71","v":0.71012681159420288}]
[{"$f":"C74","v":"المشروع"},null,{"$f":"C85","v":0.83521739130434791},{"$f":"D85","v":0.16478260869565217},0.67851630434782606]
[{"$f":"C88","v":"Exam"},null,{"$f":"C99","v":0.76260622529644273},{"$f":"D99","v":0.23739377470355733},{"$f":"E99","v":0.57883761528326749}]

{"sheet":"8-1","index":10,"n_rows":31,"n_cols":24,"rows_kept":31,"cut":false,"hidden":false,"merged":[[0,0,0,16],[1,0,2,0],[1,1,2,1],[1,16,2,16],[1,18,1,23],[2,19,2,20],[2,22,2,23],[19,18,20,19],[19,20,20,20],[3,23,7,23],[8,23,10,23],[11,18,11,20],[11,22,11,23],[12,18,12,20],[12,22,12,23]]}
["Grade (8-1) كشف درجات الطلاب  "]
["م","اسم الطالب","Quiz1","Quiz2","Quiz3","Quiz4","Quiz5","Quizzes","الواجب","المشاركة","المشروع","Total","Exam","Final","Percent","Rank","التقدير",null,"تحليل النتائج على حسب التقدير"]
[null,null,5,5,5,5,"درجة5",50,25,15,10,100,100,22.5,"(%)","الترتيب",null,null,"التقدير","المجال",null,"عدد الطلاب","النسبة"]
[1,"ابراهيم احمد سالم  بن حيدره",2,2,2,2,null,{"$f":"IF(AND(C4=\"\",D4=\"\",E4=\"\",F4=\"\",G4=\"\"),\"غ\",$H$3*SUM(C4:G4)/SUM($C$3:$G$3))","v":20},22,13,8,{"$f":"IF(AND(C4=\"\",D4=\"\",E4=\"\",F4=\"\",G4=\"\",I4=\"\",J4=\"\",K4=\"\"),\"غ\",SUM(H4:K4))","v":63},68,{"$f":"IF(M4=\"\",\"غ\",IF(L4=\"غ\",M4*0.2,SUM(L4*2.5/$L$3,M4*0.2)))","v":15.175000000000001},{"$f":"IF(N4=\"غ\",\"غ\",N4*100/$N$3/100)","v":0.6744444444444444},{"$f":"IF(AND(O4=\"غ\"),\"غ\",RANK(O4,$O$4:$O$30)+COUNTIF(O$4:O4,O4)-1)","v":10},{"$f":"IF(O4=\"غ\",\"غ\",IF(O4>=90%,\"ممتاز\",IF(O4>=80%,\"جيد جداً\",IF(O4>=70%,\"جيد\",IF(O4>=60%,\"فوق المتوسط\",IF(O4>=50%,\"متوسط\",IF(O4>=40%,\"دون المتوسط\",IF(O4>=30%,\"ضعيف\",\"دون الضعيف جداً\"))))))))","v":"فوق المتوسط"},null,"ممتاز"," ≥ 90","A+",{"$f":"COUNTIF(Q4:Q30,\"ممتاز\")","v":0},{"$f":"(V4/$V$12)","v":0},{"$f":"SUM(W4:W8)","v":0.875}]
[2,"ابراهيم عبدالمجيد ابراهيم عبدالمجيد التميمى",2,3,2,3,null,{"$f":"IF(AND(C5=\"\",D5=\"\",E5=\"\",F5=\"\",G5=\"\"),\"غ\",$H$3*SUM(C5:G5)/SUM($C$3:$G$3))","v":25},24,14,9,{"$f":"IF(AND(C5=\"\",D5=\"\",E5=\"\",F5=\"\",G5=\"\",I5=\"\",J5=\"\",K5=\"\"),\"غ\",SUM(H5:K5))","v":72},50,{"$f":"IF(M5=\"\",\"غ\",IF(L5=\"غ\",M5*0.2,SUM(L5*2.5/$L$3,M5*0.2)))","v":11.8},{"$f":"IF(N5=\"غ\",\"غ\",N5*100/$N$3/100)","v":0.52444444444444438},{"$f":"IF(AND(O5=\"غ\"),\"غ\",RANK(O5,$O$4:$O$30)+COUNTIF(O$4:O5,O5)-1)","v":20},{"$f":"IF(O5=\"غ\",\"غ\",IF(O5>=90%,\"ممتاز\",IF(O5>=80%,\"جيد جداً\",IF(O5>=70%,\"جيد\",IF(O5>=60%,\"فوق المتوسط\",IF(O5>=50%,\"متوسط\",IF(O5>=40%,\"دون المتوسط\",IF(O5>=30%,\"ضعيف\",\"دون الضعيف جداً\"))))))))","v":"متوسط"},null,"جيد جداً","≥ 80","A",{"$f":"COUNTIF(Q4:Q30,\"جيد جداً\")","v":2},8.3333333333333329E-2]
[3,"احمد عبدالله احمد حسن الجابر",0,3,0,3,null,15,23,13,8,59,57.999999999999993,13.074999999999999,0.58111111111111113,{"$f":"IF(AND(O6=\"غ\"),\"غ\",RANK(O6,$O$4:$O$30)+COUNTIF(O$4:O6,O6)-1)","v":15},"متوسط",null,"جيد","≥ 70","B+",{"$f":"COUNTIF(Q4:Q30,\"جيد\")","v":4},0.16666666666666666]
[4,"امجد عادل المهدي عبدالدائم علي",3,5,3,5,null,40,24,14,9,87,82,18.575000000000003,0.82555555555555571,{"$f":"IF(AND(O7=\"غ\"),\"غ\",RANK(O7,$O$4:$O$30)+COUNTIF(O$4:O7,O7)-1)","v":2},"جيد جداً",null,"فوق المتوسط","≥ 60","B",{"$f":"COUNTIF(Q4:Q30,\"فوق المتوسط\")","v":8},0.33333333333333331]
[5,"جاسم محمد جاسم الربيعه الكوارى",4,4,4,4,null,40,24,14,9,87,76,17.375,0.77222222222222225,{"$f":"IF(AND(O8=\"غ\"),\"غ\",RANK(O8,$O$4:$O$30)+COUNTIF(O$4:O8,O8)-1)","v":4},"جيد",null,"متوسط","≥ 50","C",{"$f":"COUNTIF(Q4:Q30,\"متوسط\")","v":7},0.29166666666666669]
[6,"خالد ابراهيم جمعه ناصر الشريم",0,1,0,1,null,5,23,13,8,49,64,14.025,0.62333333333333341,{"$f":"IF(AND(O9=\"غ\"),\"غ\",RANK(O9,$O$4:$O$30)+COUNTIF(O$4:O9,O9)-1)","v":14},"فوق المتوسط",null,"دون المتوسط","≥ 40","D",{"$f":"COUNTIF(Q4:Q30,\"دون المتوسط\")","v":3},0.125,{"$f":"SUM(W9:W11)","v":0.125}]
[7,"راشد خالد محمد على المطوع",0,1,0,1,null,5,22,13,8,48,56.000000000000007,12.400000000000002,0.55111111111111122,{"$f":"IF(AND(O10=\"غ\"),\"غ\",RANK(O10,$O$4:$O$30)+COUNTIF(O$4:O10,O10)-1)","v":18},"متوسط",null,"ضعيف","≥ 30","E",{"$f":"COUNTIF(Q4:Q30,\"ضعيف\")","v":0},0]
[8,"طلال خالد مزعل قمر عزازى",1,2,1,2,null,15,23,14,8,60,54,12.3,0.54666666666666663,{"$f":"IF(AND(O11=\"غ\"),\"غ\",RANK(O11,$O$4:$O$30)+COUNTIF(O$4:O11,O11)-1)","v":19},"متوسط",null,"دون الضعيف جداً","< 30","F",{"$f":"COUNTIF(Q4:Q30,\"دون الضعيف جداً\")","v":0},0]
[9,"عبدالرحمن محمد بشير عبدالله العبدالله",3,3,3,3,null,30,24,14,9,77,80,17.925000000000001,0.79666666666666675,{"$f":"IF(AND(O12=\"غ\"),\"غ\",RANK(O12,$O$4:$O$30)+COUNTIF(O$4:O12,O12)-1)","v":3},"جيد",null,"عدد الطلاب الذي تم اختبارهم",null,null,{"$f":"SUM(V4:V11)","v":24},{"$f":"V12/SUM(V12:V13)","v":0.96}]
[10,"عبدالرحمن محمد زيد الهجن النعيمى",3,3,3,3,null,30,24,13,9,76,64,14.700000000000001,0.65333333333333332,{"$f":"IF(AND(O13=\"غ\"),\"غ\",RANK(O13,$O$4:$O$30)+COUNTIF(O$4:O13,O13)-1)","v":12},"فوق المتوسط",null,"عدد الطلاب الغائبين",null,null,{"$f":"COUNTA(B4:B30)-V12","v":1},{"$f":"V13/SUM(V12:V13)","v":0.04}]
[11,"عبدالعزيز عبدالله حسين هلال عبدالله",2,3,2,3,null,25,22,13,8,68,68,15.3,0.68,{"$f":"IF(AND(O14=\"غ\"),\"غ\",RANK(O14,$O$4:$O$30)+COUNTIF(O$4:O14,O14)-1)","v":9},"فوق المتوسط"]
[12,"عبدالعزيز على احمد عبدالحميد الملا",2,4,2,4,null,30,24,14,9,77,66,15.125000000000002,0.67222222222222228,{"$f":"IF(AND(O15=\"غ\"),\"غ\",RANK(O15,$O$4:$O$30)+COUNTIF(O$4:O15,O15)-1)","v":11},"فوق المتوسط",null,"الطلاب","العدد","النسبة"]
[13,"عبدالعزيز محمود يوسف محمد المرزوقى",1,1,1,1,null,10,24,14,9,57,42,9.8250000000000011,0.4366666666666667,{"$f":"IF(AND(O16=\"غ\"),\"غ\",RANK(O16,$O$4:$O$30)+COUNTIF(O$4:O16,O16)-1)","v":24},"دون المتوسط",null,"الناجحين",{"$f":"SUM(V4:V8)","v":21},{"$f":"X4","v":0.875}]
[14,"عبدالله حسن مفتاح مبارك الكوارى",3,1,3,1,null,20,24,14,9,67,78,17.275000000000002,0.76777777777777789,{"$f":"IF(AND(O17=\"غ\"),\"غ\",RANK(O17,$O$4:$O$30)+COUNTIF(O$4:O17,O17)-1)","v":5},"جيد",null,"الراسبين",{"$f":"SUM(V9:V11)","v":3},{"$f":"X9","v":0.125}]
[15,"عبدالله عيسى محمد صندح النعيمى",1,3,1,3,null,20,23,13,8,64,70,15.6,0.69333333333333325,{"$f":"IF(AND(O18=\"غ\"),\"غ\",RANK(O18,$O$4:$O$30)+COUNTIF(O$4:O18,O18)-1)","v":7},"فوق المتوسط",null,"المجموع",{"$f":"SUM(T16:T17)","v":24},{"$f":"SUM(U16:U17)","v":1}]
[16,"عبدالله محمد جاسم حسن الجابر",2,3,2,3,null,25,24,14,9,72,86,19,0.84444444444444444,{"$f":"IF(AND(O19=\"غ\"),\"غ\",RANK(O19,$O$4:$O$30)+COUNTIF(O$4:O19,O19)-1)","v":1},"جيد جداً"]
[17,"على بدر على خميس عبدالله",1,null,1,null,null,5,23,13,8,49,57.999999999999993,12.824999999999999,0.56999999999999995,{"$f":"IF(AND(O20=\"غ\"),\"غ\",RANK(O20,$O$4:$O$30)+COUNTIF(O$4:O20,O20)-1)","v":16},"متوسط",null,"التحصيل الأكاديمي",null,{"$f":"AVERAGE(M4:M30)/M$3","v":0.6333333333333333}]
[18,"عيسى إبراهيم الذوادي",3,1,3,1,null,20,24,14,9,67,64,14.475000000000001,0.64333333333333342,{"$f":"IF(AND(O21=\"غ\"),\"غ\",RANK(O21,$O$4:$O$30)+COUNTIF(O$4:O21,O21)-1)","v":13},"فوق المتوسط"]
[19,"غانم على محمد عبدالله الماس",2,3,2,3,null,25,24,14,9,72,68,15.400000000000002,0.68444444444444452,{"$f":"IF(AND(O22=\"غ\"),\"غ\",RANK(O22,$O$4:$O$30)+COUNTIF(O$4:O22,O22)-1)","v":8},"فوق المتوسط"]
[20,"محمد عبدالله مبارك رومى النعيمى",2,3,2,3,null,25,22,13,8,68,74,16.5,0.73333333333333328,{"$f":"IF(AND(O23=\"غ\"),\"غ\",RANK(O23,$O$4:$O$30)+COUNTIF(O$4:O23,O23)-1)","v":6},"جيد"]
[21,"محمد عبدالله ناصر عمران القبيسى",2,1,2,1,null,15,23,13,8,59,50,11.475,0.51,{"$f":"IF(AND(O24=\"غ\"),\"غ\",RANK(O24,$O$4:$O$30)+COUNTIF(O$4:O24,O24)-1)","v":21},"متوسط",null,"الفرع","الناجحين","الراسبين","التحصيل"]
[22,"محمد فرج سالم فرج المناعى",1,2,1,2,null,15,22,13,8,58,42,9.85,0.43777777777777777,{"$f":"IF(AND(O25=\"غ\"),\"غ\",RANK(O25,$O$4:$O$30)+COUNTIF(O$4:O25,O25)-1)","v":23},"دون المتوسط",null,{"$f":"H2","v":"Quizzes"},{"$f":"COUNTIF(H4:H30,\">=\"&H$3/2)/COUNT(H4:H30)","v":0.41666666666666669},{"$f":"IF(T25=\"\",\"\",100%-T25)","v":0.58333333333333326},{"$f":"IF($U25=\"\",\"\",AVERAGE(H4:H30)/H$3)","v":0.38750000000000001}]
[23,"محمد مهنا محمد مهنا النعيمى",null,null,null,null,null,"غ",null,null,null,"غ","","غ","غ",{"$f":"IF(AND(O26=\"غ\"),\"غ\",RANK(O26,$O$4:$O$30)+COUNTIF(O$4:O26,O26)-1)","v":"غ"},"غ",null,{"$f":"I2","v":"الواجب"},{"$f":"COUNTIF(I4:I30,\">=\"&I$3/2)/COUNT(I4:I30)","v":1},0,{"$f":"IF($U26=\"\",\"\",AVERAGE(I4:I30)/I$3)","v":0.92666666666666675}]
[24,"محمد ناصر خليفه الضاعن العجمى",0,0,0,0,null,0,22,13,8,43,44,9.875,0.43888888888888888,{"$f":"IF(AND(O27=\"غ\"),\"غ\",RANK(O27,$O$4:$O$30)+COUNTIF(O$4:O27,O27)-1)","v":22},"دون المتوسط",null,{"$f":"J2","v":"المشاركة"},{"$f":"COUNTIF(J4:J30,\">=\"&J$3/2)/COUNT(J4:J30)","v":1},0,{"$f":"IF($U27=\"\",\"\",AVERAGE(J4:J30)/J$3)","v":0.89722222222222225}]
[25,"ناصر احمد اسماعيل مندنى عشار",1,null,1,null,null,5,22,13,8,48,57.999999999999993,12.799999999999999,0.56888888888888889,{"$f":"IF(AND(O28=\"غ\"),\"غ\",RANK(O28,$O$4:$O$30)+COUNTIF(O$4:O28,O28)-1)","v":17},"متوسط",null,{"$f":"K2","v":"المشروع"},{"$f":"COUNTIF(K4:K30,\">=\"&K$3/2)/COUNT(K4:K30)","v":1},0,{"$f":"IF($U28=\"\",\"\",AVERAGE(K4:K30)/K$3)","v":0.84583333333333344}]
[null,null,null,null,null,null,null,null,null,null,null,null,"",null,null,null,null,null,{"$f":"M2","v":"Exam"},{"$f":"COUNTIF(M4:M30,\">=\"&M$3/2)/COUNT(M4:M30)","v":0.875},0.125,{"$f":"IF($U29=\"\",\"\",AVERAGE(M4:M30)/M$3)","v":0.6333333333333333}]
[null,null,null,null,null,null,null,null,null,null,null,null,""]
[null,null,null,null,null,null,null,null,null,null,null,null,""]

{"sheet":"8-2","index":11,"n_rows":31,"n_cols":24,"rows_kept":31,"cut":false,"hidden":false,"merged":[[0,0,0,16],[1,0,2,0],[1,1,2,1],[1,16,2,16],[1,18,1,23],[2,19,2,20],[2,22,2,23],[19,18,20,19],[19,20,20,20],[3,23,7,23],[8,23,10,23],[11,18,11,20],[11,22,11,23],[12,18,12,20],[12,22,12,23]]}
["Grade (8-2) كشف درجات الطلاب  "]
["م","اسم الطالب","Quiz1","Quiz2","Quiz3","Quiz4","Quiz5","Quizzes","الواجب","المشاركة","المشروع","Total","Exam","Final","Percent","Rank","التقدير",null,"تحليل النتائج على حسب التقدير"]
[null,null,5,5,5,5,"درجة5",50,25,15,10,100,100,22.5,"(%)","الترتيب",null,null,"التقدير","المجال",null,"عدد الطلاب","النسبة"]
[1,"احمد خالد احمد اليوسف الكوارى",null,null,null,null,null,{"$f":"IF(AND(C4=\"\",D4=\"\",E4=\"\",F4=\"\",G4=\"\"),\"غ\",$H$3*SUM(C4:G4)/SUM($C$3:$G$3))","v":"غ"},23,13,8,{"$f":"IF(AND(C4=\"\",D4=\"\",E4=\"\",F4=\"\",G4=\"\",I4=\"\",J4=\"\",K4=\"\"),\"غ\",SUM(H4:K4))","v":44},null,{"$f":"IF(M4=\"\",\"غ\",IF(L4=\"غ\",M4*0.2,SUM(L4*2.5/$L$3,M4*0.2)))","v":"غ"},{"$f":"IF(N4=\"غ\",\"غ\",N4*100/$N$3/100)","v":"غ"},{"$f":"IF(AND(O4=\"غ\"),\"غ\",RANK(O4,$O$4:$O$30)+COUNTIF(O$4:O4,O4)-1)","v":"غ"},{"$f":"IF(O4=\"غ\",\"غ\",IF(O4>=90%,\"ممتاز\",IF(O4>=80%,\"جيد جداً\",IF(O4>=70%,\"جيد\",IF(O4>=60%,\"فوق المتوسط\",IF(O4>=50%,\"متوسط\",IF(O4>=40%,\"دون المتوسط\",IF(O4>=30%,\"ضعيف\",\"دون الضعيف جداً\"))))))))","v":"غ"},null,"ممتاز"," ≥ 90","A+",{"$f":"COUNTIF(Q4:Q30,\"ممتاز\")","v":0},{"$f":"(V4/$V$12)","v":0},{"$f":"SUM(W4:W8)","v":0.95454545454545459}]
[2,"احمد عبدالله على سلطان الكوارى",1,2,1,2,null,{"$f":"IF(AND(C5=\"\",D5=\"\",E5=\"\",F5=\"\",G5=\"\"),\"غ\",$H$3*SUM(C5:G5)/SUM($C$3:$G$3))","v":15},22,13,8,{"$f":"IF(AND(C5=\"\",D5=\"\",E5=\"\",F5=\"\",G5=\"\",I5=\"\",J5=\"\",K5=\"\"),\"غ\",SUM(H5:K5))","v":58},50,{"$f":"IF(M5=\"\",\"غ\",IF(L5=\"غ\",M5*0.2,SUM(L5*2.5/$L$3,M5*0.2)))","v":11.45},{"$f":"IF(N5=\"غ\",\"غ\",N5*100/$N$3/100)","v":0.50888888888888884},{"$f":"IF(AND(O5=\"غ\"),\"غ\",RANK(O5,$O$4:$O$30)+COUNTIF(O$4:O5,O5)-1)","v":20},{"$f":"IF(O5=\"غ\",\"غ\",IF(O5>=90%,\"ممتاز\",IF(O5>=80%,\"جيد جداً\",IF(O5>=70%,\"جيد\",IF(O5>=60%,\"فوق المتوسط\",IF(O5>=50%,\"متوسط\",IF(O5>=40%,\"دون المتوسط\",IF(O5>=30%,\"ضعيف\",\"دون الضعيف جداً\"))))))))","v":"متوسط"},null,"جيد جداً","≥ 80","A",{"$f":"COUNTIF(Q4:Q30,\"جيد جداً\")","v":0},0]
[3,"حسن محمد حسن عبدالله المهيزع",3,3,3,3,null,30,22,13,8,73,52,12.225,0.54333333333333333,{"$f":"IF(AND(O6=\"غ\"),\"غ\",RANK(O6,$O$4:$O$30)+COUNTIF(O$4:O6,O6)-1)","v":14},"متوسط",null,"جيد","≥ 70","B+",{"$f":"COUNTIF(Q4:Q30,\"جيد\")","v":4},0.18181818181818182]
[4,"حمزه احمد حسن عبدالله تركتر",null,3,null,3,null,15,24,14,9,62,76,16.75,0.74444444444444446,{"$f":"IF(AND(O7=\"غ\"),\"غ\",RANK(O7,$O$4:$O$30)+COUNTIF(O$4:O7,O7)-1)","v":2},"جيد",null,"فوق المتوسط","≥ 60","B",{"$f":"COUNTIF(Q4:Q30,\"فوق المتوسط\")","v":8},0.36363636363636365]
[5,"خالد عادل حسين  عسكر",3,2,3,2,null,25,24,14,8,71,70,15.775,0.70111111111111113,{"$f":"IF(AND(O8=\"غ\"),\"غ\",RANK(O8,$O$4:$O$30)+COUNTIF(O$4:O8,O8)-1)","v":4},"جيد",null,"متوسط","≥ 50","C",{"$f":"COUNTIF(Q4:Q30,\"متوسط\")","v":9},0.40909090909090912]
[6,"راشد خالد عيد الالشيخ الكوارى",0,1,0,1,null,5,23,13,8,49,62,13.625,0.60555555555555562,{"$f":"IF(AND(O9=\"غ\"),\"غ\",RANK(O9,$O$4:$O$30)+COUNTIF(O$4:O9,O9)-1)","v":12},"فوق المتوسط",null,"دون المتوسط","≥ 40","D",{"$f":"COUNTIF(Q4:Q30,\"دون المتوسط\")","v":1},4.5454545454545456E-2,{"$f":"SUM(W9:W11)","v":4.5454545454545456E-2}]
[7,"راشد سعد سالم صقر الكوارى",3,2,3,2,null,25,23,13,8,69,50,11.725,0.52111111111111119,{"$f":"IF(AND(O10=\"غ\"),\"غ\",RANK(O10,$O$4:$O$30)+COUNTIF(O$4:O10,O10)-1)","v":16},"متوسط",null,"ضعيف","≥ 30","E",{"$f":"COUNTIF(Q4:Q30,\"ضعيف\")","v":0},0]
[8,"سالم محمد سالم محمد العبيدلى",3,2,3,2,null,25,24,14,9,72,66,15.000000000000002,0.66666666666666674,{"$f":"IF(AND(O11=\"غ\"),\"غ\",RANK(O11,$O$4:$O$30)+COUNTIF(O$4:O11,O11)-1)","v":6},"فوق المتوسط",null,"دون الضعيف جداً","< 30","F",{"$f":"COUNTIF(Q4:Q30,\"دون الضعيف جداً\")","v":0},0]
[9,"سعود جمعه خميس جمعه الحميدى",2,null,2,null,null,10,23,13,8,54,50,11.35,0.50444444444444447,{"$f":"IF(AND(O12=\"غ\"),\"غ\",RANK(O12,$O$4:$O$30)+COUNTIF(O$4:O12,O12)-1)","v":21},"متوسط",null,"عدد الطلاب الذي تم اختبارهم",null,null,{"$f":"SUM(V4:V11)","v":22},{"$f":"V12/SUM(V12:V13)","v":0.88}]
[10,"صالح محمد نوبى زايد الخليفى",2,5,2,5,null,35,24,14,9,82,60,14.05,0.62444444444444447,{"$f":"IF(AND(O13=\"غ\"),\"غ\",RANK(O13,$O$4:$O$30)+COUNTIF(O$4:O13,O13)-1)","v":11},"فوق المتوسط",null,"عدد الطلاب الغائبين",null,null,{"$f":"COUNTA(B4:B30)-V12","v":3},{"$f":"V13/SUM(V12:V13)","v":0.12}]
[11,"طلال عبدالعزيز عبدالرحيم  اليافعى",3,2,3,2,null,25,23,13,8,69,50,11.725,0.52111111111111119,{"$f":"IF(AND(O14=\"غ\"),\"غ\",RANK(O14,$O$4:$O$30)+COUNTIF(O$4:O14,O14)-1)","v":17},"متوسط"]
[12,"عبدالعزيز عبدالله فيصل لسود الكبيسى",1,2,1,2,null,15,23,13,8,59,56.000000000000007,12.675000000000002,0.56333333333333346,{"$f":"IF(AND(O15=\"غ\"),\"غ\",RANK(O15,$O$4:$O$30)+COUNTIF(O$4:O15,O15)-1)","v":13},"متوسط",null,"الطلاب","العدد","النسبة"]
[13,"عبدالله عتيق عبدالله محمد ابوهميل",null,3,null,3,null,15,23,13,9,60,52,11.9,0.52888888888888885,{"$f":"IF(AND(O16=\"غ\"),\"غ\",RANK(O16,$O$4:$O$30)+COUNTIF(O$4:O16,O16)-1)","v":15},"متوسط",null,"الناجحين",{"$f":"SUM(V4:V8)","v":21},{"$f":"X4","v":0.95454545454545459}]
[14,"عبدالله عفيف عبدالله محمد غزو",null,null,null,null,null,"غ",null,null,null,"غ","","غ","غ",{"$f":"IF(AND(O17=\"غ\"),\"غ\",RANK(O17,$O$4:$O$30)+COUNTIF(O$4:O17,O17)-1)","v":"غ"},"غ",null,"الراسبين",{"$f":"SUM(V9:V11)","v":1},{"$f":"X9","v":4.5454545454545456E-2}]
[15,"علي محمد جابر بوشوارب",3,4,3,4,null,35,24,14,9,82,78,17.650000000000002,0.78444444444444461,{"$f":"IF(AND(O18=\"غ\"),\"غ\",RANK(O18,$O$4:$O$30)+COUNTIF(O$4:O18,O18)-1)","v":1},"جيد",null,"المجموع",{"$f":"SUM(T16:T17)","v":22},{"$f":"SUM(U16:U17)","v":1}]
[16,"عيسى محمد عيسى عبدالله النعيمى",2,1,2,1,null,15,24,13,8,60,68,15.100000000000001,0.6711111111111111,{"$f":"IF(AND(O19=\"غ\"),\"غ\",RANK(O19,$O$4:$O$30)+COUNTIF(O$4:O19,O19)-1)","v":5},"فوق المتوسط"]
[17,"فهد عبدالله جبر محمد المسلم",3,4,3,4,null,35,23,13,8,79,70,15.975,0.71,{"$f":"IF(AND(O20=\"غ\"),\"غ\",RANK(O20,$O$4:$O$30)+COUNTIF(O$4:O20,O20)-1)","v":3},"جيد",null,"التحصيل الأكاديمي",null,{"$f":"AVERAGE(M4:M30)/M$3","v":0.59545454545454546}]
[18,"فهد ناصر عبدالهادى ال فهيد الهاجرى",2,3,2,3,null,25,24,14,9,72,62,14.200000000000001,0.63111111111111118,{"$f":"IF(AND(O21=\"غ\"),\"غ\",RANK(O21,$O$4:$O$30)+COUNTIF(O$4:O21,O21)-1)","v":9},"فوق المتوسط"]
[19,"فيصل محمد عبدالله جمعه الكبيسى",3,3,3,3,null,30,23,14,9,76,62,14.3,0.63555555555555554,{"$f":"IF(AND(O22=\"غ\"),\"غ\",RANK(O22,$O$4:$O$30)+COUNTIF(O$4:O22,O22)-1)","v":8},"فوق المتوسط"]
[20,"مبارك عيسى خليفه عبدالله المسلمانى",3,2,3,2,null,25,23,13,8,69,50,11.725,0.52111111111111119,{"$f":"IF(AND(O23=\"غ\"),\"غ\",RANK(O23,$O$4:$O$30)+COUNTIF(O$4:O23,O23)-1)","v":18},"متوسط"]
[21,"محمد احمد غلوم امان الله لارى",1,1,1,1,null,10,23,13,8,54,64,14.15,0.62888888888888883,{"$f":"IF(AND(O24=\"غ\"),\"غ\",RANK(O24,$O$4:$O$30)+COUNTIF(O$4:O24,O24)-1)","v":10},"فوق المتوسط",null,"الفرع","الناجحين","الراسبين","التحصيل"]
[22,"محمد بن ابراهيم   العقربي",0,1,0,1,null,5,23,13,8,49,52,11.625,0.51666666666666661,{"$f":"IF(AND(O25=\"غ\"),\"غ\",RANK(O25,$O$4:$O$30)+COUNTIF(O$4:O25,O25)-1)","v":19},"متوسط",null,{"$f":"H2","v":"Quizzes"},{"$f":"COUNTIF(H4:H30,\">=\"&H$3/2)/COUNT(H4:H30)","v":0.56521739130434778},{"$f":"IF(T25=\"\",\"\",100%-T25)","v":0.43478260869565222},{"$f":"IF($U25=\"\",\"\",AVERAGE(H4:H30)/H$3)","v":0.42608695652173911}]
[23,"محمد عيسى على محمد الحمر",3,2,3,2,null,25,23,13,8,69,44,10.525,0.46777777777777779,{"$f":"IF(AND(O26=\"غ\"),\"غ\",RANK(O26,$O$4:$O$30)+COUNTIF(O$4:O26,O26)-1)","v":22},"دون المتوسط",null,{"$f":"I2","v":"الواجب"},{"$f":"COUNTIF(I4:I30,\">=\"&I$3/2)/COUNT(I4:I30)","v":1},0,{"$f":"IF($U26=\"\",\"\",AVERAGE(I4:I30)/I$3)","v":0.92833333333333323}]
[24,"ناصر نجيب مبارك سالم العبدالله",2,2,2,2,null,20,23,13,8,64,66,14.8,0.65777777777777768,{"$f":"IF(AND(O27=\"غ\"),\"غ\",RANK(O27,$O$4:$O$30)+COUNTIF(O$4:O27,O27)-1)","v":7},"فوق المتوسط",null,{"$f":"J2","v":"المشاركة"},{"$f":"COUNTIF(J4:J30,\">=\"&J$3/2)/COUNT(J4:J30)","v":1},0,{"$f":"IF($U27=\"\",\"\",AVERAGE(J4:J30)/J$3)","v":0.88611111111111107}]
[25,"يوسف محمد يوسف محمد الاسحاق",2,3,2,3,null,25,23,13,8,69,"","غ","غ",{"$f":"IF(AND(O28=\"غ\"),\"غ\",RANK(O28,$O$4:$O$30)+COUNTIF(O$4:O28,O28)-1)","v":"غ"},"غ",null,{"$f":"K2","v":"المشروع"},{"$f":"COUNTIF(K4:K30,\">=\"&K$3/2)/COUNT(K4:K30)","v":1},0,{"$f":"IF($U28=\"\",\"\",AVERAGE(K4:K30)/K$3)","v":0.82916666666666661}]
[null,null,null,null,null,null,null,null,null,null,null,null,"",null,null,null,null,null,{"$f":"M2","v":"Exam"},{"$f":"COUNTIF(M4:M30,\">=\"&M$3/2)/COUNT(M4:M30)","v":0.95454545454545459},4.5454545454545414E-2,{"$f":"IF($U29=\"\",\"\",AVERAGE(M4:M30)/M$3)","v":0.59545454545454546}]
[null,null,null,null,null,null,null,null,null,null,null,null,""]
[null,null,null,null,null,null,null,null,null,null,null,null,""]

{"sheet":"8-3","index":12,"n_rows":31,"n_cols":24,"rows_kept":31,"cut":false,"hidden":false,"merged":[[0,0,0,16],[1,0,2,0],[1,1,2,1],[1,16,2,16],[1,18,1,23],[2,19,2,20],[2,22,2,23],[19,18,20,19],[19,20,20,20],[3,23,7,23],[8,23,10,23],[11,18,11,20],[11,22,11,23],[12,18,12,20],[12,22,12,23]]}
["Grade (8-3) كشف درجات الطلاب  "]
["م","اسم الطالب","Quiz1","Quiz2","Quiz3","Quiz4","Quiz5","Quizzes","الواجب","المشاركة","المشروع","Total","Exam","Final","Percent","Rank","التقدير",null,"تحليل النتائج على حسب التقدير"]
[null,null,5,5,5,5,"درجة5",50,25,15,10,100,100,22.5,"(%)","الترتيب",null,null,"التقدير","المجال",null,"عدد الطلاب","النسبة"]
[1,"ابراهيم عبدالله ابراهيم خليل السيد",3.5,3,3.5,3,null,{"$f":"IF(AND(C4=\"\",D4=\"\",E4=\"\",F4=\"\",G4=\"\"),\"غ\",$H$3*SUM(C4:G4)/SUM($C$3:$G$3))","v":32.5},25,15,9,{"$f":"IF(AND(C4=\"\",D4=\"\",E4=\"\",F4=\"\",G4=\"\",I4=\"\",J4=\"\",K4=\"\"),\"غ\",SUM(H4:K4))","v":81.5},62,{"$f":"IF(M4=\"\",\"غ\",IF(L4=\"غ\",M4*0.2,SUM(L4*2.5/$L$3,M4*0.2)))","v":14.4375},{"$f":"IF(N4=\"غ\",\"غ\",N4*100/$N$3/100)","v":0.64166666666666672},{"$f":"IF(AND(O4=\"غ\"),\"غ\",RANK(O4,$O$4:$O$29)+COUNTIF(O$4:O4,O4)-1)","v":23},{"$f":"IF(O4=\"غ\",\"غ\",IF(O4>=90%,\"ممتاز\",IF(O4>=80%,\"جيد جداً\",IF(O4>=70%,\"جيد\",IF(O4>=60%,\"فوق المتوسط\",IF(O4>=50%,\"متوسط\",IF(O4>=40%,\"دون المتوسط\",IF(O4>=30%,\"ضعيف\",\"دون الضعيف جداً\"))))))))","v":"فوق المتوسط"},null,"ممتاز"," ≥ 90","A+",{"$f":"COUNTIF(Q4:Q29,\"ممتاز\")","v":3},{"$f":"(V4/$V$12)","v":0.13043478260869565},{"$f":"SUM(W4:W8)","v":1}]
[2,"ابوبكر يحيى بشرى",3.5,3,3.5,3,null,{"$f":"IF(AND(C5=\"\",D5=\"\",E5=\"\",F5=\"\",G5=\"\"),\"غ\",$H$3*SUM(C5:G5)/SUM($C$3:$G$3))","v":32.5},23,11,9,{"$f":"IF(AND(C5=\"\",D5=\"\",E5=\"\",F5=\"\",G5=\"\",I5=\"\",J5=\"\",K5=\"\"),\"غ\",SUM(H5:K5))","v":75.5},70,{"$f":"IF(M5=\"\",\"غ\",IF(L5=\"غ\",M5*0.2,SUM(L5*2.5/$L$3,M5*0.2)))","v":15.887499999999999},{"$f":"IF(N5=\"غ\",\"غ\",N5*100/$N$3/100)","v":0.70611111111111113},{"$f":"IF(AND(O5=\"غ\"),\"غ\",RANK(O5,$O$4:$O$29)+COUNTIF(O$4:O5,O5)-1)","v":21},{"$f":"IF(O5=\"غ\",\"غ\",IF(O5>=90%,\"ممتاز\",IF(O5>=80%,\"جيد جداً\",IF(O5>=70%,\"جيد\",IF(O5>=60%,\"فوق المتوسط\",IF(O5>=50%,\"متوسط\",IF(O5>=40%,\"دون المتوسط\",IF(O5>=30%,\"ضعيف\",\"دون الضعيف جداً\"))))))))","v":"جيد"},null,"جيد جداً","≥ 80","A",{"$f":"COUNTIF(Q4:Q29,\"جيد جداً\")","v":7},0.30434782608695654]
[3,"احمد سعيد السيد احمد موسى",4,2,4,2,null,30,24,11,7,72,74,16.600000000000001,0.73777777777777787,{"$f":"IF(AND(O6=\"غ\"),\"غ\",RANK(O6,$O$4:$O$29)+COUNTIF(O$4:O6,O6)-1)","v":17},"جيد",null,"جيد","≥ 70","B+",{"$f":"COUNTIF(Q4:Q29,\"جيد\")","v":11},0.47826086956521741]
[4,"احمد ولد محمد ولد ميناط",4,3,4,3,null,35,25,15,9,84,80,18.100000000000001,0.80444444444444452,{"$f":"IF(AND(O7=\"غ\"),\"غ\",RANK(O7,$O$4:$O$29)+COUNTIF(O$4:O7,O7)-1)","v":9},"جيد جداً",null,"فوق المتوسط","≥ 60","B",{"$f":"COUNTIF(Q4:Q29,\"فوق المتوسط\")","v":2},8.6956521739130432E-2]
[5,"اسماعيل حافظ محمد الياس سراج الحق",3.5,2,3.5,2,null,27.5,25,15,9,76.5,72,16.3125,0.72499999999999998,{"$f":"IF(AND(O8=\"غ\"),\"غ\",RANK(O8,$O$4:$O$29)+COUNTIF(O$4:O8,O8)-1)","v":20},"جيد",null,"متوسط","≥ 50","C",{"$f":"COUNTIF(Q4:Q29,\"متوسط\")","v":0},0]
[6,"المعز نجم الدين احمد",4.5,3,4.5,3,null,37.5,25,15,9,86.5,86,19.362500000000001,0.86055555555555552,{"$f":"IF(AND(O9=\"غ\"),\"غ\",RANK(O9,$O$4:$O$29)+COUNTIF(O$4:O9,O9)-1)","v":4},"جيد جداً",null,"دون المتوسط","≥ 40","D",{"$f":"COUNTIF(Q4:Q29,\"دون المتوسط\")","v":0},0,{"$f":"SUM(W9:W11)","v":0}]
[7,"حمد عزالدين محمد البشير محمد",3,2,3,2,null,25,24,13,9,71,74,16.574999999999999,0.73666666666666669,{"$f":"IF(AND(O10=\"غ\"),\"غ\",RANK(O10,$O$4:$O$29)+COUNTIF(O$4:O10,O10)-1)","v":18},"جيد",null,"ضعيف","≥ 30","E",{"$f":"COUNTIF(Q4:Q29,\"ضعيف\")","v":0},0]
[8,"خالد محمد السر",3,3,3,3,null,30,25,11,7,73,76,17.025000000000002,0.75666666666666671,{"$f":"IF(AND(O11=\"غ\"),\"غ\",RANK(O11,$O$4:$O$29)+COUNTIF(O$4:O11,O11)-1)","v":14},"جيد",null,"دون الضعيف جداً","< 30","F",{"$f":"COUNTIF(Q4:Q29,\"دون الضعيف جداً\")","v":0},0]
[9,"سلطان مسفر عبدالله السند المسيفرى",2.5,3,2.5,3,null,27.5,24,13,8,72.5,68,15.412500000000001,0.68500000000000016,{"$f":"IF(AND(O12=\"غ\"),\"غ\",RANK(O12,$O$4:$O$29)+COUNTIF(O$4:O12,O12)-1)","v":22},"فوق المتوسط",null,"عدد الطلاب الذي تم اختبارهم",null,null,{"$f":"SUM(V4:V11)","v":23},{"$f":"V12/SUM(V12:V13)","v":0.95833333333333337}]
[10,"شهاب ممدوح عبدالفاضل الليثي سالم",3.5,3,3.5,3,null,32.5,25,15,9,81.5,84,18.837500000000002,0.83722222222222231,{"$f":"IF(AND(O13=\"غ\"),\"غ\",RANK(O13,$O$4:$O$29)+COUNTIF(O$4:O13,O13)-1)","v":6},"جيد جداً",null,"عدد الطلاب الغائبين",null,null,{"$f":"COUNTA(B4:B29)-V12","v":1},{"$f":"V13/SUM(V12:V13)","v":4.1666666666666664E-2}]
[11,"عبدالرحمن احمد حسين",4,2,4,2,null,30,23,11,8,72,null,"غ","غ",{"$f":"IF(AND(O14=\"غ\"),\"غ\",RANK(O14,$O$4:$O$29)+COUNTIF(O$4:O14,O14)-1)","v":"غ"},"غ"]
[12,"عبدالرحمن خليفه ابراهيم محمد الهاجرى",4,3,4,3,null,35,24,15,9,83,96,21.275000000000002,0.94555555555555559,{"$f":"IF(AND(O15=\"غ\"),\"غ\",RANK(O15,$O$4:$O$29)+COUNTIF(O$4:O15,O15)-1)","v":2},"ممتاز",null,"الطلاب","العدد","النسبة"]
[13,"عبدالعزيز أيمن عزيز سليم الصفدي",4,3,4,3,null,35,25,15,9,84,86,19.3,0.85777777777777775,{"$f":"IF(AND(O16=\"غ\"),\"غ\",RANK(O16,$O$4:$O$29)+COUNTIF(O$4:O16,O16)-1)","v":5},"جيد جداً",null,"الناجحين",{"$f":"SUM(V4:V8)","v":23},{"$f":"X4","v":1}]
[14,"على حسن على الرمزانى النعيمى",4,3,4,3,null,35,22,11,8,76,82,18.3,0.81333333333333324,{"$f":"IF(AND(O17=\"غ\"),\"غ\",RANK(O17,$O$4:$O$29)+COUNTIF(O$4:O17,O17)-1)","v":7},"جيد جداً",null,"الراسبين",{"$f":"SUM(V9:V11)","v":0},{"$f":"X9","v":0}]
[15,"على عبدالله على عيسى الكوارى",3.5,4,3.5,4,null,37.5,22,11,8,78.5,80,17.962499999999999,0.79833333333333334,{"$f":"IF(AND(O18=\"غ\"),\"غ\",RANK(O18,$O$4:$O$29)+COUNTIF(O$4:O18,O18)-1)","v":11},"جيد",null,"المجموع",{"$f":"SUM(T16:T17)","v":23},{"$f":"SUM(U16:U17)","v":1}]
[16,"فهد اظهر خان",3.5,3,3.5,3,null,32.5,25,14,9,80.5,74,16.8125,0.74722222222222223,{"$f":"IF(AND(O19=\"غ\"),\"غ\",RANK(O19,$O$4:$O$29)+COUNTIF(O$4:O19,O19)-1)","v":15},"جيد"]
[17,"فهد عبدالله عبدالرحيم عبدالله العبادى",2.5,3,2.5,3,null,27.5,25,15,9,76.5,74,16.712500000000002,0.74277777777777787,{"$f":"IF(AND(O20=\"غ\"),\"غ\",RANK(O20,$O$4:$O$29)+COUNTIF(O$4:O20,O20)-1)","v":16},"جيد",null,"التحصيل الأكاديمي",null,{"$f":"AVERAGE(M4:M30)/M$3","v":0.79130434782608705}]
[18,"مبارك سلطان مبارك الهديفى الكوارى",4,3,4,3,null,35,25,15,9,84,80,18.100000000000001,0.80444444444444452,{"$f":"IF(AND(O21=\"غ\"),\"غ\",RANK(O21,$O$4:$O$29)+COUNTIF(O$4:O21,O21)-1)","v":10},"جيد جداً"]
[19,"محمد رياض",4,3,4,3,null,35,25,15,9,84,78,17.700000000000003,0.78666666666666674,{"$f":"IF(AND(O22=\"غ\"),\"غ\",RANK(O22,$O$4:$O$29)+COUNTIF(O$4:O22,O22)-1)","v":12},"جيد"]
[20,"محمد حسن عبدالرحمن احمد المطوع",3.5,3,3.5,3,null,32.5,25,15,9,81.5,78,17.637500000000003,0.78388888888888897,{"$f":"IF(AND(O23=\"غ\"),\"غ\",RANK(O23,$O$4:$O$29)+COUNTIF(O$4:O23,O23)-1)","v":13},"جيد"]
[21,"محمد على عبدالله الطعان الخليفى",3,3,3,3,null,30,22,11,7,70,74,16.55,0.73555555555555552,{"$f":"IF(AND(O24=\"غ\"),\"غ\",RANK(O24,$O$4:$O$29)+COUNTIF(O$4:O24,O24)-1)","v":19},"جيد",null,"الفرع","الناجحين","الراسبين","التحصيل"]
[22,"ناصر خالد عمر  سالم",3.5,2,3.5,2,null,27.5,23,13,8,71.5,82,18.187500000000004,0.80833333333333357,{"$f":"IF(AND(O25=\"غ\"),\"غ\",RANK(O25,$O$4:$O$29)+COUNTIF(O$4:O25,O25)-1)","v":8},"جيد جداً",null,{"$f":"H2","v":"Quizzes"},{"$f":"COUNTIF(H4:H29,\">=\"&H$3/2)/COUNT(H4:H29)","v":1},{"$f":"IF(T25=\"\",\"\",100%-T25)","v":0},{"$f":"IF($U25=\"\",\"\",AVERAGE(H4:H29)/H$3)","v":0.65208333333333324}]
[23,"يوسف احمد جمالى",3.5,4,3.5,4,null,37.5,23,15,9,84.5,94,20.912500000000001,0.92944444444444441,{"$f":"IF(AND(O26=\"غ\"),\"غ\",RANK(O26,$O$4:$O$29)+COUNTIF(O$4:O26,O26)-1)","v":3},"ممتاز",null,{"$f":"I2","v":"الواجب"},{"$f":"COUNTIF(I4:I29,\">=\"&I$3/2)/COUNT(I4:I29)","v":1},0,{"$f":"IF($U26=\"\",\"\",AVERAGE(I4:I29)/I$3)","v":0.96333333333333326}]
[24,"يونس يحيى علي  سالم",4.5,4,4.5,4,null,42.5,24,14,8,88.5,96,21.412500000000001,0.95166666666666666,{"$f":"IF(AND(O27=\"غ\"),\"غ\",RANK(O27,$O$4:$O$29)+COUNTIF(O$4:O27,O27)-1)","v":1},"ممتاز",null,{"$f":"J2","v":"المشاركة"},{"$f":"COUNTIF(J4:J29,\">=\"&J$3/2)/COUNT(J4:J29)","v":1},0,{"$f":"IF($U27=\"\",\"\",AVERAGE(J4:J29)/J$3)","v":0.9}]
[null,null,null,null,null,null,null,null,null,null,null,null,"",null,null,null,null,null,{"$f":"K2","v":"المشروع"},{"$f":"COUNTIF(K4:K29,\">=\"&K$3/2)/COUNT(K4:K29)","v":1},0,{"$f":"IF($U28=\"\",\"\",AVERAGE(K4:K29)/K$3)","v":0.85}]
[null,null,null,null,null,null,null,null,null,null,null,null,"",null,null,null,null,null,{"$f":"M2","v":"Exam"},{"$f":"COUNTIF(M4:M29,\">=\"&M$3/2)/COUNT(M4:M29)","v":1},0,{"$f":"IF($U29=\"\",\"\",AVERAGE(M4:M29)/M$3)","v":0.79130434782608705}]
[null,null,null,null,null,null,null,null,null,null,null,null,""]
[null,null,null,null,null,null,null,null,null,null,null,null,""]

{"sheet":"8-4","index":13,"n_rows":31,"n_cols":24,"rows_kept":31,"cut":false,"hidden":false,"merged":[[0,0,0,16],[1,0,2,0],[1,1,2,1],[1,16,2,16],[1,18,1,23],[2,19,2,20],[2,22,2,23],[19,18,20,19],[19,20,20,20],[3,23,7,23],[8,23,10,23],[11,18,11,20],[11,22,11,23],[12,18,12,20],[12,22,12,23]]}
["Grade (8-4) كشف درجات الطلاب  "]
["م","اسم الطالب","Quiz1","Quiz2","Quiz3","Quiz4","Quiz5","Quizzes","الواجب","المشاركة","المشروع","Total","Exam","Final","Percent","Rank","التقدير",null,"تحليل النتائج على حسب التقدير"]
[null,null,5,5,5,5,"درجة5",50,25,15,10,100,100,22.5,"(%)","الترتيب",null,null,"التقدير","المجال",null,"عدد الطلاب","النسبة"]
[1,"احمد جمال سالم محمد هلال",1,0,1,0,null,{"$f":"IF(AND(C4=\"\",D4=\"\",E4=\"\",F4=\"\",G4=\"\"),\"غ\",$H$3*SUM(C4:G4)/SUM($C$3:$G$3))","v":5},14,10,7,{"$f":"IF(AND(C4=\"\",D4=\"\",E4=\"\",F4=\"\",G4=\"\",I4=\"\",J4=\"\",K4=\"\"),\"غ\",SUM(H4:K4))","v":36},54,{"$f":"IF(M4=\"\",\"غ\",IF(L4=\"غ\",M4*0.2,SUM(L4*2.5/$L$3,M4*0.2)))","v":11.700000000000001},{"$f":"IF(N4=\"غ\",\"غ\",N4*100/$N$3/100)","v":0.52},{"$f":"IF(AND(O4=\"غ\"),\"غ\",RANK(O4,$O$4:$O$30)+COUNTIF(O$4:O4,O4)-1)","v":14},{"$f":"IF(O4=\"غ\",\"غ\",IF(O4>=90%,\"ممتاز\",IF(O4>=80%,\"جيد جداً\",IF(O4>=70%,\"جيد\",IF(O4>=60%,\"فوق المتوسط\",IF(O4>=50%,\"متوسط\",IF(O4>=40%,\"دون المتوسط\",IF(O4>=30%,\"ضعيف\",\"دون الضعيف جداً\"))))))))","v":"متوسط"},null,"ممتاز"," ≥ 90","A+",{"$f":"COUNTIF(Q4:Q30,\"ممتاز\")","v":0},{"$f":"(V4/$V$12)","v":0},{"$f":"SUM(W4:W8)","v":0.64}]
[2,"تركي صالح مفتاح العلي",2,2,2,2,null,{"$f":"IF(AND(C5=\"\",D5=\"\",E5=\"\",F5=\"\",G5=\"\"),\"غ\",$H$3*SUM(C5:G5)/SUM($C$3:$G$3))","v":20},20,12,7,{"$f":"IF(AND(C5=\"\",D5=\"\",E5=\"\",F5=\"\",G5=\"\",I5=\"\",J5=\"\",K5=\"\"),\"غ\",SUM(H5:K5))","v":59},50,{"$f":"IF(M5=\"\",\"غ\",IF(L5=\"غ\",M5*0.2,SUM(L5*2.5/$L$3,M5*0.2)))","v":11.475},{"$f":"IF(N5=\"غ\",\"غ\",N5*100/$N$3/100)","v":0.51},{"$f":"IF(AND(O5=\"غ\"),\"غ\",RANK(O5,$O$4:$O$30)+COUNTIF(O$4:O5,O5)-1)","v":15},{"$f":"IF(O5=\"غ\",\"غ\",IF(O5>=90%,\"ممتاز\",IF(O5>=80%,\"جيد جداً\",IF(O5>=70%,\"جيد\",IF(O5>=60%,\"فوق المتوسط\",IF(O5>=50%,\"متوسط\",IF(O5>=40%,\"دون المتوسط\",IF(O5>=30%,\"ضعيف\",\"دون الضعيف جداً\"))))))))","v":"متوسط"},null,"جيد جداً","≥ 80","A",{"$f":"COUNTIF(Q4:Q30,\"جيد جداً\")","v":0},0]
[3,"ثانى سالم خالد سالم الدوسرى",1.5,null,1.5,null,null,7.5,12,10,5,34.5,62,13.262500000000001,0.58944444444444444,{"$f":"IF(AND(O6=\"غ\"),\"غ\",RANK(O6,$O$4:$O$30)+COUNTIF(O$4:O6,O6)-1)","v":8},"متوسط",null,"جيد","≥ 70","B+",{"$f":"COUNTIF(Q4:Q30,\"جيد\")","v":0},0]
[4,"جاسم محمد على احمد السندى",2.5,0,2.5,0,null,12.5,10,11,4,37.5,50,10.9375,0.48611111111111116,{"$f":"IF(AND(O7=\"غ\"),\"غ\",RANK(O7,$O$4:$O$30)+COUNTIF(O$4:O7,O7)-1)","v":18},"دون المتوسط",null,"فوق المتوسط","≥ 60","B",{"$f":"COUNTIF(Q4:Q30,\"فوق المتوسط\")","v":6},0.24]
[5,"حسن حسين غريب غلوم ابوالفين",null,null,null,null,null,"غ",22,14,9,45,56.000000000000007,12.325000000000003,0.54777777777777781,{"$f":"IF(AND(O8=\"غ\"),\"غ\",RANK(O8,$O$4:$O$30)+COUNTIF(O$4:O8,O8)-1)","v":9},"متوسط",null,"متوسط","≥ 50","C",{"$f":"COUNTIF(Q4:Q30,\"متوسط\")","v":10},0.4]
[6,"خالد سلطان مبارك خميس الخليفى",1.5,2,1.5,2.5,null,18.75,16,12,5,51.75,70,15.293749999999999,0.67972222222222234,{"$f":"IF(AND(O9=\"غ\"),\"غ\",RANK(O9,$O$4:$O$30)+COUNTIF(O$4:O9,O9)-1)","v":2},"فوق المتوسط",null,"دون المتوسط","≥ 40","D",{"$f":"COUNTIF(Q4:Q30,\"دون المتوسط\")","v":6},0.24,{"$f":"SUM(W9:W11)","v":0.36}]
[7,"خليفه ناصر ابراهيم احمد المالكى",0,3,0,3,null,15,20,13,8,56,50,11.4,0.5066666666666666,{"$f":"IF(AND(O10=\"غ\"),\"غ\",RANK(O10,$O$4:$O$30)+COUNTIF(O$4:O10,O10)-1)","v":16},"متوسط",null,"ضعيف","≥ 30","E",{"$f":"COUNTIF(Q4:Q30,\"ضعيف\")","v":2},0.08]
[8,"سعد مبارك جمعه البكر الكوارى",null,null,null,null,null,"غ",20,12,9,41,54,11.825000000000001,0.52555555555555555,{"$f":"IF(AND(O11=\"غ\"),\"غ\",RANK(O11,$O$4:$O$30)+COUNTIF(O$4:O11,O11)-1)","v":13},"متوسط",null,"دون الضعيف جداً","< 30","F",{"$f":"COUNTIF(Q4:Q30,\"دون الضعيف جداً\")","v":1},0.04]
[9,"سلطان سالم سلطان الكشاشى المهندى",1,1,1,1,null,10,20,11,8,49,22,5.625,0.25,{"$f":"IF(AND(O12=\"غ\"),\"غ\",RANK(O12,$O$4:$O$30)+COUNTIF(O$4:O12,O12)-1)","v":25},"دون الضعيف جداً",null,"عدد الطلاب الذي تم اختبارهم",null,null,{"$f":"SUM(V4:V11)","v":25},{"$f":"V12/SUM(V12:V13)","v":1}]
[10,"صالح عبدالله صالح حسن الجابر",null,null,null,null,null,"غ",7,5,4,16,44,9.2000000000000011,0.40888888888888891,{"$f":"IF(AND(O13=\"غ\"),\"غ\",RANK(O13,$O$4:$O$30)+COUNTIF(O$4:O13,O13)-1)","v":22},"دون المتوسط",null,"عدد الطلاب الغائبين",null,null,{"$f":"COUNTA(B4:B30)-V12","v":0},{"$f":"V13/SUM(V12:V13)","v":0}]
[11,"عبدالرحمن على عبدالله حمد الادهم",2.5,0,2.5,0,null,12.5,6,5,5,28.5,44,9.5125000000000011,0.42277777777777786,{"$f":"IF(AND(O14=\"غ\"),\"غ\",RANK(O14,$O$4:$O$30)+COUNTIF(O$4:O14,O14)-1)","v":21},"دون المتوسط"]
[12,"عبدالله احمد محمد عبدالرحمن المنصور",1.5,2,1.5,2,null,17.5,23,13,8,61.5,64,14.3375,0.63722222222222225,{"$f":"IF(AND(O15=\"غ\"),\"غ\",RANK(O15,$O$4:$O$30)+COUNTIF(O$4:O15,O15)-1)","v":5},"فوق المتوسط",null,"الطلاب","العدد","النسبة"]
[13,"عبدالله محمد يوسف البكر الكوارى",2.5,4,2.5,4,null,32.5,13,11,7,63.5,70,15.5875,0.69277777777777771,{"$f":"IF(AND(O16=\"غ\"),\"غ\",RANK(O16,$O$4:$O$30)+COUNTIF(O$4:O16,O16)-1)","v":1},"فوق المتوسط",null,"الناجحين",{"$f":"SUM(V4:V8)","v":16},{"$f":"X4","v":0.64}]
[14,"عبدالله محمود ارحمه محمود الكعبى",1,2,1,2,null,15,13,9,8,45,50,11.125,0.49444444444444441,{"$f":"IF(AND(O17=\"غ\"),\"غ\",RANK(O17,$O$4:$O$30)+COUNTIF(O$4:O17,O17)-1)","v":17},"دون المتوسط",null,"الراسبين",{"$f":"SUM(V9:V11)","v":9},{"$f":"X9","v":0.36}]
[15,"على ماجد خاطر الخويطر العجمى",1,0,1,0,null,5,13,8,7,33,56.000000000000007,12.025000000000002,0.53444444444444461,{"$f":"IF(AND(O18=\"غ\"),\"غ\",RANK(O18,$O$4:$O$30)+COUNTIF(O$4:O18,O18)-1)","v":11},"متوسط",null,"المجموع",{"$f":"SUM(T16:T17)","v":25},{"$f":"SUM(U16:U17)","v":1}]
[16,"عمر محمد حسين محمدين",1.5,1,1.5,1,null,12.5,14,9,6,41.5,56.000000000000007,12.237500000000002,0.54388888888888898,{"$f":"IF(AND(O19=\"غ\"),\"غ\",RANK(O19,$O$4:$O$30)+COUNTIF(O$4:O19,O19)-1)","v":10},"متوسط"]
[17,"عيسى عبدالله عيسى محمد الذوادى",2,3,2,3,null,25,22,10,6,63,64,14.375,0.63888888888888884,{"$f":"IF(AND(O20=\"غ\"),\"غ\",RANK(O20,$O$4:$O$30)+COUNTIF(O$4:O20,O20)-1)","v":4},"فوق المتوسط",null,"التحصيل الأكاديمي",null,{"$f":"AVERAGE(M4:M30)/M$3","v":0.52959999999999996}]
[18,"غانم حسن شكرالله على العمادى",1.5,0,1.5,0,null,7.5,22,11,9,49.5,44,10.037500000000001,0.44611111111111112,{"$f":"IF(AND(O21=\"غ\"),\"غ\",RANK(O21,$O$4:$O$30)+COUNTIF(O$4:O21,O21)-1)","v":19},"دون المتوسط"]
[19,"فهد محمد امعبد العبادي",1,0,1,0,null,5,11,5,5,26,38,8.25,0.36666666666666664,{"$f":"IF(AND(O22=\"غ\"),\"غ\",RANK(O22,$O$4:$O$30)+COUNTIF(O$4:O22,O22)-1)","v":24},"ضعيف"]
[20,"محمد جمعان بشير على الاحمد",2.5,3,2.5,3,null,27.5,18,9,5,59.5,36,8.6875,0.38611111111111113,{"$f":"IF(AND(O23=\"غ\"),\"غ\",RANK(O23,$O$4:$O$30)+COUNTIF(O$4:O23,O23)-1)","v":23},"ضعيف"]
[21,"محمد راشد على راشد المهندى",1,3,1,3,null,20,14,8,7,49,70,15.225,0.67666666666666675,{"$f":"IF(AND(O24=\"غ\"),\"غ\",RANK(O24,$O$4:$O$30)+COUNTIF(O$4:O24,O24)-1)","v":3},"فوق المتوسط",null,"الفرع","الناجحين","الراسبين","التحصيل"]
[22,"محمد كمال ابوندا",null,0,null,0,null,0,14,8,6,28,46,9.9,0.44,{"$f":"IF(AND(O25=\"غ\"),\"غ\",RANK(O25,$O$4:$O$30)+COUNTIF(O$4:O25,O25)-1)","v":20},"دون المتوسط",null,{"$f":"H2","v":"Quizzes"},{"$f":"COUNTIF(H4:H30,\">=\"&H$3/2)/COUNT(H4:H30)","v":0.18181818181818182},{"$f":"IF(T25=\"\",\"\",100%-T25)","v":0.81818181818181812},{"$f":"IF($U25=\"\",\"\",AVERAGE(H4:H30)/H$3)","v":0.29659090909090913}]
[23,"معتصم طاهر النظيف  خاطر",2.5,4,2.5,4,null,32.5,23,11,9,75.5,57.999999999999993,13.487499999999999,0.59944444444444445,{"$f":"IF(AND(O26=\"غ\"),\"غ\",RANK(O26,$O$4:$O$30)+COUNTIF(O$4:O26,O26)-1)","v":7},"متوسط",null,{"$f":"I2","v":"الواجب"},{"$f":"COUNTIF(I4:I30,\">=\"&I$3/2)/COUNT(I4:I30)","v":0.8},0.19999999999999996,{"$f":"IF($U26=\"\",\"\",AVERAGE(I4:I30)/I$3)","v":0.6512}]
[24,"ناصر راشد عيد الخويطر العجمى",1,1,1,1,null,10,17,11,5,43,64,13.875,0.6166666666666667,{"$f":"IF(AND(O27=\"غ\"),\"غ\",RANK(O27,$O$4:$O$30)+COUNTIF(O$4:O27,O27)-1)","v":6},"فوق المتوسط",null,{"$f":"J2","v":"المشاركة"},{"$f":"COUNTIF(J4:J30,\">=\"&J$3/2)/COUNT(J4:J30)","v":0.88},0.12,{"$f":"IF($U27=\"\",\"\",AVERAGE(J4:J30)/J$3)","v":0.66666666666666663}]
[25,"ناصر سرور عنبر المالكى الجهنى",0,3,0,3,null,15,23,12,8,58,52,11.85,0.52666666666666662,{"$f":"IF(AND(O28=\"غ\"),\"غ\",RANK(O28,$O$4:$O$30)+COUNTIF(O$4:O28,O28)-1)","v":12},"متوسط",null,{"$f":"K2","v":"المشروع"},{"$f":"COUNTIF(K4:K30,\">=\"&K$3/2)/COUNT(K4:K30)","v":0.92},7.999999999999996E-2,{"$f":"IF($U28=\"\",\"\",AVERAGE(K4:K30)/K$3)","v":0.66799999999999993}]
[null,null,null,null,null,null,null,null,null,null,null,null,"",null,null,null,null,null,{"$f":"M2","v":"Exam"},{"$f":"COUNTIF(M4:M30,\">=\"&M$3/2)/COUNT(M4:M30)","v":0.72},0.28000000000000003,{"$f":"IF($U29=\"\",\"\",AVERAGE(M4:M30)/M$3)","v":0.52959999999999996}]
[null,null,null,null,null,null,null,null,null,null,null,null,""]
[null,null,null,null,null,null,null,null,null,null,null,null,""]

{"sheet":"8-5","index":14,"n_rows":31,"n_cols":24,"rows_kept":31,"cut":false,"hidden":false,"merged":[[0,0,0,16],[1,0,2,0],[1,1,2,1],[1,16,2,16],[1,18,1,23],[2,19,2,20],[2,22,2,23],[19,18,20,19],[19,20,20,20],[3,23,7,23],[8,23,10,23],[11,18,11,20],[11,22,11,23],[12,18,12,20],[12,22,12,23]]}
["Grade (8-5) كشف درجات الطلاب  "]
["م","اسم الطالب","Quiz1","Quiz2","Quiz3","Quiz4","Quiz5","Quizzes","الواجب","المشاركة","المشروع","Total","Exam","Final","Percent","Rank","التقدير",null,"تحليل النتائج على حسب التقدير"]
[null,null,5,5,5,5,"درجة5",50,25,15,10,100,100,22.5,"(%)","الترتيب",null,null,"التقدير","المجال",null,"عدد الطلاب","النسبة"]
[1,"احمد محمد على محمد البلوشى",1.5,4,1.5,4,null,{"$f":"IF(AND(C4=\"\",D4=\"\",E4=\"\",F4=\"\",G4=\"\"),\"غ\",$H$3*SUM(C4:G4)/SUM($C$3:$G$3))","v":27.5},23,13,9,{"$f":"IF(AND(C4=\"\",D4=\"\",E4=\"\",F4=\"\",G4=\"\",I4=\"\",J4=\"\",K4=\"\"),\"غ\",SUM(H4:K4))","v":72.5},46,{"$f":"IF(M4=\"\",\"غ\",IF(L4=\"غ\",M4*0.2,SUM(L4*2.5/$L$3,M4*0.2)))","v":11.012500000000001},{"$f":"IF(N4=\"غ\",\"غ\",N4*100/$N$3/100)","v":0.4894444444444444},{"$f":"IF(AND(O4=\"غ\"),\"غ\",RANK(O4,$O$4:$O$28)+COUNTIF(O$4:O4,O4)-1)","v":16},{"$f":"IF(O4=\"غ\",\"غ\",IF(O4>=90%,\"ممتاز\",IF(O4>=80%,\"جيد جداً\",IF(O4>=70%,\"جيد\",IF(O4>=60%,\"فوق المتوسط\",IF(O4>=50%,\"متوسط\",IF(O4>=40%,\"دون المتوسط\",IF(O4>=30%,\"ضعيف\",\"دون الضعيف جداً\"))))))))","v":"دون المتوسط"},null,"ممتاز"," ≥ 90","A+",{"$f":"COUNTIF(Q4:Q28,\"ممتاز\")","v":0},{"$f":"(V4/$V$12)","v":0},{"$f":"SUM(W4:W8)","v":0.65217391304347827}]
[2,"جبر راشد مبارك دعفوس المناعى",1.5,3,1.5,3,null,{"$f":"IF(AND(C5=\"\",D5=\"\",E5=\"\",F5=\"\",G5=\"\"),\"غ\",$H$3*SUM(C5:G5)/SUM($C$3:$G$3))","v":22.5},22,12,8,{"$f":"IF(AND(C5=\"\",D5=\"\",E5=\"\",F5=\"\",G5=\"\",I5=\"\",J5=\"\",K5=\"\"),\"غ\",SUM(H5:K5))","v":64.5},54,{"$f":"IF(M5=\"\",\"غ\",IF(L5=\"غ\",M5*0.2,SUM(L5*2.5/$L$3,M5*0.2)))","v":12.412500000000001},{"$f":"IF(N5=\"غ\",\"غ\",N5*100/$N$3/100)","v":0.55166666666666675},{"$f":"IF(AND(O5=\"غ\"),\"غ\",RANK(O5,$O$4:$O$28)+COUNTIF(O$4:O5,O5)-1)","v":11},{"$f":"IF(O5=\"غ\",\"غ\",IF(O5>=90%,\"ممتاز\",IF(O5>=80%,\"جيد جداً\",IF(O5>=70%,\"جيد\",IF(O5>=60%,\"فوق المتوسط\",IF(O5>=50%,\"متوسط\",IF(O5>=40%,\"دون المتوسط\",IF(O5>=30%,\"ضعيف\",\"دون الضعيف جداً\"))))))))","v":"متوسط"},null,"جيد جداً","≥ 80","A",{"$f":"COUNTIF(Q4:Q28,\"جيد جداً\")","v":0},0]
[3,"حمد مطر امان مبارك الخاطر",1.5,2,1.5,2,null,17.5,13,11,5,46.5,32,7.5625,0.33611111111111114,{"$f":"IF(AND(O6=\"غ\"),\"غ\",RANK(O6,$O$4:$O$28)+COUNTIF(O$4:O6,O6)-1)","v":22},"ضعيف",null,"جيد","≥ 70","B+",{"$f":"COUNTIF(Q4:Q28,\"جيد\")","v":1},4.3478260869565216E-2]
[4,"خليفه محمد عبدالله خليفه المطاوعه",2.5,3,2.5,3,null,27.5,15,11,7,60.5,30,7.5125000000000002,0.33388888888888885,{"$f":"IF(AND(O7=\"غ\"),\"غ\",RANK(O7,$O$4:$O$28)+COUNTIF(O$4:O7,O7)-1)","v":23},"ضعيف",null,"فوق المتوسط","≥ 60","B",{"$f":"COUNTIF(Q4:Q28,\"فوق المتوسط\")","v":7},0.30434782608695654]
[5,"راشد خليفه احمد محمد المهندى",null,4,null,4,null,20,13,10,5,48,36,8.4,0.37333333333333335,{"$f":"IF(AND(O8=\"غ\"),\"غ\",RANK(O8,$O$4:$O$28)+COUNTIF(O$4:O8,O8)-1)","v":21},"ضعيف",null,"متوسط","≥ 50","C",{"$f":"COUNTIF(Q4:Q28,\"متوسط\")","v":7},0.30434782608695654]
[6,"سعيد عبدالكريم صالح  محسن",3.5,3,3.5,3,null,32.5,24,13,9,78.5,70,15.9625,0.70944444444444443,{"$f":"IF(AND(O9=\"غ\"),\"غ\",RANK(O9,$O$4:$O$28)+COUNTIF(O$4:O9,O9)-1)","v":1},"جيد",null,"دون المتوسط","≥ 40","D",{"$f":"COUNTIF(Q4:Q28,\"دون المتوسط\")","v":5},0.21739130434782608,{"$f":"SUM(W9:W11)","v":0.34782608695652173}]
[7,"عبدالعزيز فهد عبدالعزيز جاسم الخنجى",0,3,null,3,null,15,13,7,4,39,52,11.375,0.50555555555555554,{"$f":"IF(AND(O10=\"غ\"),\"غ\",RANK(O10,$O$4:$O$28)+COUNTIF(O$4:O10,O10)-1)","v":15},"متوسط",null,"ضعيف","≥ 30","E",{"$f":"COUNTIF(Q4:Q28,\"ضعيف\")","v":3},0.13043478260869565]
[8,"عبدالعزيز مسعد عبدالله ناجى العجى",2.5,3,2.5,3,null,27.5,12,7,5,51.5,64,14.0875,0.62611111111111117,{"$f":"IF(AND(O11=\"غ\"),\"غ\",RANK(O11,$O$4:$O$28)+COUNTIF(O$4:O11,O11)-1)","v":7},"فوق المتوسط",null,"دون الضعيف جداً","< 30","F",{"$f":"COUNTIF(Q4:Q28,\"دون الضعيف جداً\")","v":0},0]
[9,"عبدالله ابراهيم عبدالله الجاتى الرميحى",2.5,4,2.5,4,null,32.5,18,12,6,68.5,64,14.512500000000001,0.64500000000000002,{"$f":"IF(AND(O12=\"غ\"),\"غ\",RANK(O12,$O$4:$O$28)+COUNTIF(O$4:O12,O12)-1)","v":6},"فوق المتوسط",null,"عدد الطلاب الذي تم اختبارهم",null,null,{"$f":"SUM(V4:V11)","v":23},{"$f":"V12/SUM(V12:V13)","v":1}]
[10,"عبدالله مهدى راشد مهدى الكعبى",2.5,4,2.5,4,null,32.5,17,11,7,67.5,66,14.887500000000001,0.66166666666666674,{"$f":"IF(AND(O13=\"غ\"),\"غ\",RANK(O13,$O$4:$O$28)+COUNTIF(O$4:O13,O13)-1)","v":4},"فوق المتوسط",null,"عدد الطلاب الغائبين",null,null,{"$f":"COUNTA(B4:B28)-V12","v":0},{"$f":"V13/SUM(V12:V13)","v":0}]
[11,"عبدالمجيد محمد محمد الحبابى",2.5,null,2.5,null,null,12.5,22,11,6,51.5,52,11.6875,0.51944444444444438,{"$f":"IF(AND(O14=\"غ\"),\"غ\",RANK(O14,$O$4:$O$28)+COUNTIF(O$4:O14,O14)-1)","v":13},"متوسط"]
[12,"على خالد دهام دهام النعيمى",2.5,3,2.5,3,null,27.5,18,9,7,61.5,50,11.5375,0.51277777777777778,{"$f":"IF(AND(O15=\"غ\"),\"غ\",RANK(O15,$O$4:$O$28)+COUNTIF(O$4:O15,O15)-1)","v":14},"متوسط",null,"الطلاب","العدد","النسبة"]
[13,"على عبدالله محمد ناصر حسن",2.5,4,2.5,4,null,32.5,17,8,5,62.5,46,10.762500000000001,0.47833333333333333,{"$f":"IF(AND(O16=\"غ\"),\"غ\",RANK(O16,$O$4:$O$28)+COUNTIF(O$4:O16,O16)-1)","v":17},"دون المتوسط",null,"الناجحين",{"$f":"SUM(V4:V8)","v":15},{"$f":"X4","v":0.65217391304347827}]
[14,"عمير محمد حمد ادغام النعيمى",3,4,3,4,null,35,22,11,9,77,64,14.725000000000001,0.65444444444444461,{"$f":"IF(AND(O17=\"غ\"),\"غ\",RANK(O17,$O$4:$O$28)+COUNTIF(O$4:O17,O17)-1)","v":5},"فوق المتوسط",null,"الراسبين",{"$f":"SUM(V9:V11)","v":8},{"$f":"X9","v":0.34782608695652173}]
[15,"فهد عبدالله محمد بوعيسى العبيدلى",2.5,2,2.5,2,null,22.5,18,9,6,55.5,70,15.387499999999999,0.68388888888888888,{"$f":"IF(AND(O18=\"غ\"),\"غ\",RANK(O18,$O$4:$O$28)+COUNTIF(O$4:O18,O18)-1)","v":2},"فوق المتوسط",null,"المجموع",{"$f":"SUM(T16:T17)","v":23},{"$f":"SUM(U16:U17)","v":1}]
[16,"فواز صلاح احمد ابوبكر",1,4,1,4,null,25,23,12,8,68,66,14.9,0.66222222222222227,{"$f":"IF(AND(O19=\"غ\"),\"غ\",RANK(O19,$O$4:$O$28)+COUNTIF(O$4:O19,O19)-1)","v":3},"فوق المتوسط"]
[17,"مبارك عبدالله يوسف الاحمد البوعينين",1,3,1,3,null,20,17,11,6,54,56.000000000000007,12.550000000000002,0.55777777777777782,{"$f":"IF(AND(O20=\"غ\"),\"غ\",RANK(O20,$O$4:$O$28)+COUNTIF(O$4:O20,O20)-1)","v":9},"متوسط",null,"التحصيل الأكاديمي",null,{"$f":"AVERAGE(M4:M30)/M$3","v":0.52956521739130435}]
[18,"مبارك محمد مبارك زايد الكبيسى",2.5,2,2.5,2,null,22.5,16,9,5,52.5,54,12.112500000000001,0.53833333333333333,{"$f":"IF(AND(O21=\"غ\"),\"غ\",RANK(O21,$O$4:$O$28)+COUNTIF(O$4:O21,O21)-1)","v":12},"متوسط"]
[19,"محمد حسن محمد سليمان الشيخ",0,4,null,4,null,20,16,8,6,50,62,13.65,0.60666666666666669,{"$f":"IF(AND(O22=\"غ\"),\"غ\",RANK(O22,$O$4:$O$28)+COUNTIF(O$4:O22,O22)-1)","v":8},"فوق المتوسط"]
[20,"محمد سرور عيد وليد الاحمد",2.5,2,2.5,2,null,22.5,11,7,4,44.5,42,9.5125000000000011,0.42277777777777786,{"$f":"IF(AND(O23=\"غ\"),\"غ\",RANK(O23,$O$4:$O$28)+COUNTIF(O$4:O23,O23)-1)","v":18},"دون المتوسط"]
[21,"محمد نورالدين جلال الدين حسين",2.5,2,2.5,2,null,22.5,15,8,5,50.5,56.000000000000007,12.462500000000002,0.55388888888888899,{"$f":"IF(AND(O24=\"غ\"),\"غ\",RANK(O24,$O$4:$O$28)+COUNTIF(O$4:O24,O24)-1)","v":10},"متوسط",null,"الفرع","الناجحين","الراسبين","التحصيل"]
[22,"منصور عبدالله ناصر جابر الحبابى",null,null,null,null,null,"غ",10,3,3,16,44,9.2000000000000011,0.40888888888888891,{"$f":"IF(AND(O25=\"غ\"),\"غ\",RANK(O25,$O$4:$O$28)+COUNTIF(O$4:O25,O25)-1)","v":19},"دون المتوسط",null,{"$f":"H2","v":"Quizzes"},{"$f":"COUNTIF(H4:H28,\">=\"&H$3/2)/COUNT(H4:H28)","v":0.47619047619047616},{"$f":"IF(T25=\"\",\"\",100%-T25)","v":0.52380952380952384},{"$f":"IF($U25=\"\",\"\",AVERAGE(H4:H28)/H$3)","v":0.49285714285714283}]
[23,"هلال راشد جمعه مبارك الخويطر",null,null,null,null,null,"غ",12,8,6,26,42,9.0500000000000007,0.40222222222222226,{"$f":"IF(AND(O26=\"غ\"),\"غ\",RANK(O26,$O$4:$O$28)+COUNTIF(O$4:O26,O26)-1)","v":20},"دون المتوسط",null,{"$f":"I2","v":"الواجب"},{"$f":"COUNTIF(I4:I28,\">=\"&I$3/2)/COUNT(I4:I28)","v":0.82608695652173914},0.17391304347826086,{"$f":"IF($U26=\"\",\"\",AVERAGE(I4:I28)/I$3)","v":0.67304347826086952}]
[null,null,null,null,null,null,null,null,null,null,null,null,"",null,null,null,null,null,{"$f":"J2","v":"المشاركة"},{"$f":"COUNTIF(J4:J28,\">=\"&J$3/2)/COUNT(J4:J28)","v":0.82608695652173914},0.17391304347826086,{"$f":"IF($U27=\"\",\"\",AVERAGE(J4:J28)/J$3)","v":0.64057971014492743}]
[null,null,null,null,null,null,null,null,null,null,null,null,"",null,null,null,null,null,{"$f":"K2","v":"المشروع"},{"$f":"COUNTIF(K4:K28,\">=\"&K$3/2)/COUNT(K4:K28)","v":0.86956521739130432},0.13043478260869568,{"$f":"IF($U28=\"\",\"\",AVERAGE(K4:K28)/K$3)","v":0.61304347826086958}]
[null,null,null,null,null,null,null,null,null,null,null,null,"",null,null,null,null,null,{"$f":"M2","v":"Exam"},{"$f":"COUNTIF(M4:M28,\">=\"&M$3/2)/COUNT(M4:M28)","v":0.65217391304347827},0.34782608695652173,{"$f":"IF($U29=\"\",\"\",AVERAGE(M4:M28)/M$3)","v":0.52956521739130435}]
[null,null,null,null,null,null,null,null,null,null,null,null,""]
[null,null,null,null,null,null,null,null,null,null,null,null,""]

{"sheet":"8-6","index":15,"n_rows":31,"n_cols":24,"rows_kept":31,"cut":false,"hidden":false,"merged":[[0,0,0,16],[1,0,2,0],[1,1,2,1],[1,16,2,16],[1,18,1,23],[2,19,2,20],[2,22,2,23],[19,18,20,19],[19,20,20,20],[3,23,7,23],[8,23,10,23],[11,18,11,20],[11,22,11,23],[12,18,12,20],[12,22,12,23]]}
["Grade (8-6) كشف درجات الطلاب  "]
["م","اسم الطالب","Quiz1","Quiz2","Quiz3","Quiz4","Quiz5","Quizzes","الواجب","المشاركة","المشروع","Total","Exam","Final","Percent","Rank","التقدير",null,"تحليل النتائج على حسب التقدير"]
[null,null,5,5,5,5,"درجة5",50,25,15,10,100,100,22.5,"(%)","الترتيب",null,null,"التقدير","المجال",null,"عدد الطلاب","النسبة"]
[1,"ابراهيم عبدالرحمن",3,4,3,4,null,{"$f":"IF(AND(C4=\"\",D4=\"\",E4=\"\",F4=\"\",G4=\"\"),\"غ\",$H$3*SUM(C4:G4)/SUM($C$3:$G$3))","v":35},15,5,5,{"$f":"IF(AND(C4=\"\",D4=\"\",E4=\"\",F4=\"\",G4=\"\",I4=\"\",J4=\"\",K4=\"\"),\"غ\",SUM(H4:K4))","v":60},72,{"$f":"IF(M4=\"\",\"غ\",IF(L4=\"غ\",M4*0.2,SUM(L4*2.5/$L$3,M4*0.2)))","v":15.9},{"$f":"IF(N4=\"غ\",\"غ\",N4*100/$N$3/100)","v":0.70666666666666667},{"$f":"IF(AND(O4=\"غ\"),\"غ\",RANK(O4,$O$4:$O$27)+COUNTIF(O$4:O4,O4)-1)","v":1},{"$f":"IF(O4=\"غ\",\"غ\",IF(O4>=90%,\"ممتاز\",IF(O4>=80%,\"جيد جداً\",IF(O4>=70%,\"جيد\",IF(O4>=60%,\"فوق المتوسط\",IF(O4>=50%,\"متوسط\",IF(O4>=40%,\"دون المتوسط\",IF(O4>=30%,\"ضعيف\",\"دون الضعيف جداً\"))))))))","v":"جيد"},null,"ممتاز"," ≥ 90","A+",{"$f":"COUNTIF(Q4:Q27,\"ممتاز\")","v":0},{"$f":"(V4/$V$12)","v":0},{"$f":"SUM(W4:W8)","v":0.65217391304347827}]
[2,"احمد إبراهيم أحمد إبراهيم المناعي",null,1,null,1,null,{"$f":"IF(AND(C5=\"\",D5=\"\",E5=\"\",F5=\"\",G5=\"\"),\"غ\",$H$3*SUM(C5:G5)/SUM($C$3:$G$3))","v":5},5,5,5,{"$f":"IF(AND(C5=\"\",D5=\"\",E5=\"\",F5=\"\",G5=\"\",I5=\"\",J5=\"\",K5=\"\"),\"غ\",SUM(H5:K5))","v":20},40,{"$f":"IF(M5=\"\",\"غ\",IF(L5=\"غ\",M5*0.2,SUM(L5*2.5/$L$3,M5*0.2)))","v":8.5},{"$f":"IF(N5=\"غ\",\"غ\",N5*100/$N$3/100)","v":0.37777777777777777},{"$f":"IF(AND(O5=\"غ\"),\"غ\",RANK(O5,$O$4:$O$27)+COUNTIF(O$4:O5,O5)-1)","v":21},{"$f":"IF(O5=\"غ\",\"غ\",IF(O5>=90%,\"ممتاز\",IF(O5>=80%,\"جيد جداً\",IF(O5>=70%,\"جيد\",IF(O5>=60%,\"فوق المتوسط\",IF(O5>=50%,\"متوسط\",IF(O5>=40%,\"دون المتوسط\",IF(O5>=30%,\"ضعيف\",\"دون الضعيف جداً\"))))))))","v":"ضعيف"},null,"جيد جداً","≥ 80","A",{"$f":"COUNTIF(Q4:Q27,\"جيد جداً\")","v":0},0]
[3,"احمد عبدالله راشد صالح فارس",2.5,1,2.5,1,null,17.5,20,9,6,52.5,70,15.3125,0.68055555555555558,{"$f":"IF(AND(O6=\"غ\"),\"غ\",RANK(O6,$O$4:$O$27)+COUNTIF(O$4:O6,O6)-1)","v":4},"فوق المتوسط",null,"جيد","≥ 70","B+",{"$f":"COUNTIF(Q4:Q27,\"جيد\")","v":1},4.3478260869565216E-2]
[4,"الوليد خالد عبدالله نصف السليطى",3.5,2,3.5,2,null,27.5,22,10,7,66.5,66,14.862500000000001,0.66055555555555556,{"$f":"IF(AND(O7=\"غ\"),\"غ\",RANK(O7,$O$4:$O$27)+COUNTIF(O$4:O7,O7)-1)","v":5},"فوق المتوسط",null,"فوق المتوسط","≥ 60","B",{"$f":"COUNTIF(Q4:Q27,\"فوق المتوسط\")","v":6},0.2608695652173913]
[5,"أحمد أسامه أحمد الأسمر",3.5,3,3.5,3,null,32.5,5,3,2,42.5,50,11.0625,0.49166666666666664,{"$f":"IF(AND(O8=\"غ\"),\"غ\",RANK(O8,$O$4:$O$27)+COUNTIF(O$4:O8,O8)-1)","v":16},"دون المتوسط",null,"متوسط","≥ 50","C",{"$f":"COUNTIF(Q4:Q27,\"متوسط\")","v":8},0.34782608695652173]
[6,"تركى مبارك راشد ابوغارب النعيمى",null,3,null,3,null,15,5,3,2,25,36,7.8250000000000002,0.3477777777777778,{"$f":"IF(AND(O9=\"غ\"),\"غ\",RANK(O9,$O$4:$O$27)+COUNTIF(O$4:O9,O9)-1)","v":22},"ضعيف",null,"دون المتوسط","≥ 40","D",{"$f":"COUNTIF(Q4:Q27,\"دون المتوسط\")","v":5},0.21739130434782608,{"$f":"SUM(W9:W11)","v":0.34782608695652173}]
[7,"جاسم ابراهيم عبدالرحيم",2.5,4,2.5,4,null,32.5,15,12,5,64.5,62,14.012500000000001,0.62277777777777776,{"$f":"IF(AND(O10=\"غ\"),\"غ\",RANK(O10,$O$4:$O$27)+COUNTIF(O$4:O10,O10)-1)","v":7},"فوق المتوسط",null,"ضعيف","≥ 30","E",{"$f":"COUNTIF(Q4:Q27,\"ضعيف\")","v":3},0.13043478260869565]
[8,"حمد شبيب محمد شبيب الهاجرى",0,2,0,2,null,10,5,2,2,19,57.999999999999993,12.074999999999999,0.53666666666666663,{"$f":"IF(AND(O11=\"غ\"),\"غ\",RANK(O11,$O$4:$O$27)+COUNTIF(O$4:O11,O11)-1)","v":14},"متوسط",null,"دون الضعيف جداً","< 30","F",{"$f":"COUNTIF(Q4:Q27,\"دون الضعيف جداً\")","v":0},0]
[9,"خالد جمال عبدالله العثمان الخليفى",null,4,null,4,null,20,3,3,2,28,57.999999999999993,12.299999999999999,0.54666666666666663,{"$f":"IF(AND(O12=\"غ\"),\"غ\",RANK(O12,$O$4:$O$27)+COUNTIF(O$4:O12,O12)-1)","v":11},"متوسط",null,"عدد الطلاب الذي تم اختبارهم",null,null,{"$f":"SUM(V4:V11)","v":23},{"$f":"V12/SUM(V12:V13)","v":1}]
[10,"راشد عيسى احمد ال سيف الكوارى",1,2,1,2,null,15,5,5,3,28,34,7.5000000000000009,0.33333333333333337,{"$f":"IF(AND(O13=\"غ\"),\"غ\",RANK(O13,$O$4:$O$27)+COUNTIF(O$4:O13,O13)-1)","v":23},"ضعيف",null,"عدد الطلاب الغائبين",null,null,{"$f":"COUNTA(B4:B27)-V12","v":0},{"$f":"V13/SUM(V12:V13)","v":0}]
[11,"زايد مبارك زايد مبارك المريخى",2,2,2,2,null,20,20,12,8,60,66,14.700000000000001,0.65333333333333332,{"$f":"IF(AND(O14=\"غ\"),\"غ\",RANK(O14,$O$4:$O$27)+COUNTIF(O$4:O14,O14)-1)","v":6},"فوق المتوسط"]
[12,"عبد الله حسام حسني الكردي",1.5,1,1.5,1,null,12.5,23,13,6,54.5,54,12.162500000000001,0.54055555555555568,{"$f":"IF(AND(O15=\"غ\"),\"غ\",RANK(O15,$O$4:$O$27)+COUNTIF(O$4:O15,O15)-1)","v":13},"متوسط",null,"الطلاب","العدد","النسبة"]
[13,"عبدالرحمن على ابراهيم باكر الهيدوس",1.5,2,1.5,2,null,17.5,10,6,4,37.5,46,10.137500000000001,0.4505555555555556,{"$f":"IF(AND(O16=\"غ\"),\"غ\",RANK(O16,$O$4:$O$27)+COUNTIF(O$4:O16,O16)-1)","v":20},"دون المتوسط",null,"الناجحين",{"$f":"SUM(V4:V8)","v":15},{"$f":"X4","v":0.65217391304347827}]
[14,"عبداللة طاهر محمد باحكم",1.5,1,1.5,1,null,12.5,23,13,8,56.5,56.000000000000007,12.612500000000002,0.5605555555555557,{"$f":"IF(AND(O17=\"غ\"),\"غ\",RANK(O17,$O$4:$O$27)+COUNTIF(O$4:O17,O17)-1)","v":10},"متوسط",null,"الراسبين",{"$f":"SUM(V9:V11)","v":8},{"$f":"X9","v":0.34782608695652173}]
[15,"عبدالله راشد سعد همام العبدالله",3.5,1,3.5,1,null,22.5,15,10,8,55.5,54,12.1875,0.54166666666666663,{"$f":"IF(AND(O18=\"غ\"),\"غ\",RANK(O18,$O$4:$O$27)+COUNTIF(O$4:O18,O18)-1)","v":12},"متوسط",null,"المجموع",{"$f":"SUM(T16:T17)","v":23},{"$f":"SUM(U16:U17)","v":1}]
[16,"عمر ناصر عبدالله العطشان السليطى",3,4,3,4,null,35,5,3,4,47,46,10.375000000000002,0.46111111111111119,{"$f":"IF(AND(O19=\"غ\"),\"غ\",RANK(O19,$O$4:$O$27)+COUNTIF(O$4:O19,O19)-1)","v":18},"دون المتوسط"]
[17,"عيسى زايد نوبى زايد الخليفى",2.5,1,2.5,1,null,17.5,15,10,7,49.5,57.999999999999993,12.8375,0.57055555555555559,{"$f":"IF(AND(O20=\"غ\"),\"غ\",RANK(O20,$O$4:$O$27)+COUNTIF(O$4:O20,O20)-1)","v":8},"متوسط",null,"التحصيل الأكاديمي",null,{"$f":"AVERAGE(M4:M30)/M$3","v":0.55304347826086953}]
[18,"عيسى عبدالله عيسى الخويطر العجمى",1.5,1,1.5,1,null,12.5,15,11,8,46.5,46,10.362500000000001,0.46055555555555555,{"$f":"IF(AND(O21=\"غ\"),\"غ\",RANK(O21,$O$4:$O$27)+COUNTIF(O$4:O21,O21)-1)","v":19},"دون المتوسط"]
[19,"مبارك بدر مبارك سالم العبدالله",2.5,4,2.5,4,null,32.5,20,10,6,68.5,70,15.7125,0.69833333333333325,{"$f":"IF(AND(O22=\"غ\"),\"غ\",RANK(O22,$O$4:$O$27)+COUNTIF(O$4:O22,O22)-1)","v":2},"فوق المتوسط"]
[20,"محمد حسن محمد احمد العبدالله",1.5,1,1.5,1,null,12.5,24,13,9,58.5,56.000000000000007,12.662500000000003,0.56277777777777782,{"$f":"IF(AND(O23=\"غ\"),\"غ\",RANK(O23,$O$4:$O$27)+COUNTIF(O$4:O23,O23)-1)","v":9},"متوسط"]
[21,"محمد عبدالله جاسم الربيعه الكوارى",1.5,"غ",1.5,"غ",null,7.5,10,8,6,31.5,50,10.7875,0.47944444444444445,{"$f":"IF(AND(O24=\"غ\"),\"غ\",RANK(O24,$O$4:$O$27)+COUNTIF(O$4:O24,O24)-1)","v":17},"دون المتوسط",null,"الفرع","الناجحين","الراسبين","التحصيل"]
[22,"محمد عبدالله غانم عبدالله الخليفى",1.5,0,1.5,0,null,7.5,5,4,3,19.5,56.000000000000007,11.687500000000004,0.5194444444444446,{"$f":"IF(AND(O25=\"غ\"),\"غ\",RANK(O25,$O$4:$O$27)+COUNTIF(O$4:O25,O25)-1)","v":15},"متوسط",null,{"$f":"H2","v":"Quizzes"},{"$f":"COUNTIF(H4:H27,\">=\"&H$3/2)/COUNT(H4:H27)","v":0.30434782608695654},{"$f":"IF(T25=\"\",\"\",100%-T25)","v":0.69565217391304346},{"$f":"IF($U25=\"\",\"\",AVERAGE(H4:H27)/H$3)","v":0.39347826086956522}]
[23,"همام الامين",2.5,4,2.5,4,null,32.5,20,13,5,70.5,68,15.362500000000001,0.68277777777777771,{"$f":"IF(AND(O26=\"غ\"),\"غ\",RANK(O26,$O$4:$O$27)+COUNTIF(O$4:O26,O26)-1)","v":3},"فوق المتوسط",null,{"$f":"I2","v":"الواجب"},{"$f":"COUNTIF(I4:I27,\">=\"&I$3/2)/COUNT(I4:I27)","v":0.56521739130434778},0.43478260869565222,{"$f":"IF($U26=\"\",\"\",AVERAGE(I4:I27)/I$3)","v":0.53043478260869559}]
[null,null,null,null,null,null,null,null,null,null,null,null,"",null,null,null,null,null,{"$f":"J2","v":"المشاركة"},{"$f":"COUNTIF(J4:J27,\">=\"&J$3/2)/COUNT(J4:J27)","v":0.56521739130434778},0.43478260869565222,{"$f":"IF($U27=\"\",\"\",AVERAGE(J4:J27)/J$3)","v":0.53043478260869559}]
[null,null,null,null,null,null,null,null,null,null,null,null,"",null,null,null,null,null,{"$f":"K2","v":"المشروع"},{"$f":"COUNTIF(K4:K27,\">=\"&K$3/2)/COUNT(K4:K27)","v":0.65217391304347827},0.34782608695652173,{"$f":"IF($U28=\"\",\"\",AVERAGE(K4:K27)/K$3)","v":0.5260869565217392}]
[null,null,null,null,null,null,null,null,null,null,null,null,"",null,null,null,null,null,{"$f":"M2","v":"Exam"},{"$f":"COUNTIF(M4:M27,\">=\"&M$3/2)/COUNT(M4:M27)","v":0.73913043478260865},0.26086956521739135,{"$f":"IF($U29=\"\",\"\",AVERAGE(M4:M27)/M$3)","v":0.55304347826086953}]
[null,null,null,null,null,null,null,null,null,null,null,null,""]
[null,null,null,null,null,null,null,null,null,null,null,null,""]

{"sheet":"8-7","index":16,"n_rows":31,"n_cols":24,"rows_kept":31,"cut":false,"hidden":false,"merged":[[0,0,0,16],[1,0,2,0],[1,1,2,1],[1,16,2,16],[1,18,1,23],[2,19,2,20],[2,22,2,23],[19,18,20,19],[19,20,20,20],[3,23,7,23],[8,23,10,23],[11,18,11,20],[11,22,11,23],[12,18,12,20],[12,22,12,23]]}
["Grade (8-7) كشف درجات الطلاب  "]
["م","اسم الطالب","Quiz1","Quiz2","Quiz3","Quiz4","Quiz5","Quizzes","الواجب","المشاركة","المشروع","Total","Exam","Final","Percent","Rank","التقدير",null,"تحليل النتائج على حسب التقدير"]
[null,null,5,5,5,5,"درجة5",50,25,15,10,100,100,22.5,"(%)","الترتيب",null,null,"التقدير","المجال",null,"عدد الطلاب","النسبة"]
[1,"ابراهيم مصطفى طاهر عبدالله الصفار",2.5,null,2.5,null,null,{"$f":"IF(AND(C4=\"\",D4=\"\",E4=\"\",F4=\"\",G4=\"\"),\"غ\",$H$3*SUM(C4:G4)/SUM($C$3:$G$3))","v":12.5},5,5,5,{"$f":"IF(AND(C4=\"\",D4=\"\",E4=\"\",F4=\"\",G4=\"\",I4=\"\",J4=\"\",K4=\"\"),\"غ\",SUM(H4:K4))","v":27.5},30,{"$f":"IF(M4=\"\",\"غ\",IF(L4=\"غ\",M4*0.2,SUM(L4*2.5/$L$3,M4*0.2)))","v":6.6875},{"$f":"IF(N4=\"غ\",\"غ\",N4*100/$N$3/100)","v":0.29722222222222222},{"$f":"IF(AND(O4=\"غ\"),\"غ\",RANK(O4,$O$4:$O$30)+COUNTIF(O$4:O4,O4)-1)","v":25},{"$f":"IF(O4=\"غ\",\"غ\",IF(O4>=90%,\"ممتاز\",IF(O4>=80%,\"جيد جداً\",IF(O4>=70%,\"جيد\",IF(O4>=60%,\"فوق المتوسط\",IF(O4>=50%,\"متوسط\",IF(O4>=40%,\"دون المتوسط\",IF(O4>=30%,\"ضعيف\",\"دون الضعيف جداً\"))))))))","v":"دون الضعيف جداً"},null,"ممتاز"," ≥ 90","A+",{"$f":"COUNTIF(Q4:Q30,\"ممتاز\")","v":0},{"$f":"(V4/$V$12)","v":0},{"$f":"SUM(W4:W8)","v":0.56000000000000005}]
[2,"احمد ابراهيم عبدالله عبداللطيف الساده",1.5,4,1.5,4,null,{"$f":"IF(AND(C5=\"\",D5=\"\",E5=\"\",F5=\"\",G5=\"\"),\"غ\",$H$3*SUM(C5:G5)/SUM($C$3:$G$3))","v":27.5},7,6,5,{"$f":"IF(AND(C5=\"\",D5=\"\",E5=\"\",F5=\"\",G5=\"\",I5=\"\",J5=\"\",K5=\"\"),\"غ\",SUM(H5:K5))","v":45.5},42,{"$f":"IF(M5=\"\",\"غ\",IF(L5=\"غ\",M5*0.2,SUM(L5*2.5/$L$3,M5*0.2)))","v":9.5374999999999996},{"$f":"IF(N5=\"غ\",\"غ\",N5*100/$N$3/100)","v":0.42388888888888887},{"$f":"IF(AND(O5=\"غ\"),\"غ\",RANK(O5,$O$4:$O$30)+COUNTIF(O$4:O5,O5)-1)","v":19},{"$f":"IF(O5=\"غ\",\"غ\",IF(O5>=90%,\"ممتاز\",IF(O5>=80%,\"جيد جداً\",IF(O5>=70%,\"جيد\",IF(O5>=60%,\"فوق المتوسط\",IF(O5>=50%,\"متوسط\",IF(O5>=40%,\"دون المتوسط\",IF(O5>=30%,\"ضعيف\",\"دون الضعيف جداً\"))))))))","v":"دون المتوسط"},null,"جيد جداً","≥ 80","A",{"$f":"COUNTIF(Q4:Q30,\"جيد جداً\")","v":0},0]
[3,"احمد راشد يوسف البوعفره الكوارى",1,4,1,4,null,25,5,5,5,40,56.000000000000007,12.200000000000003,0.54222222222222238,{"$f":"IF(AND(O6=\"غ\"),\"غ\",RANK(O6,$O$4:$O$30)+COUNTIF(O$4:O6,O6)-1)","v":10},"متوسط",null,"جيد","≥ 70","B+",{"$f":"COUNTIF(Q4:Q30,\"جيد\")","v":1},0.04]
[4,"احمد ماهر احمد",2.5,4,2.5,4,null,32.5,20,12,7,71.5,62,14.1875,0.63055555555555554,{"$f":"IF(AND(O7=\"غ\"),\"غ\",RANK(O7,$O$4:$O$30)+COUNTIF(O$4:O7,O7)-1)","v":4},"فوق المتوسط",null,"فوق المتوسط","≥ 60","B",{"$f":"COUNTIF(Q4:Q30,\"فوق المتوسط\")","v":5},0.2]
[5,"تميم عبدالحميد صالح الحميرى اليافعى",2.5,4,2.5,4,null,32.5,15,10,6,63.5,50,11.5875,0.51500000000000001,{"$f":"IF(AND(O8=\"غ\"),\"غ\",RANK(O8,$O$4:$O$30)+COUNTIF(O$4:O8,O8)-1)","v":12},"متوسط",null,"متوسط","≥ 50","C",{"$f":"COUNTIF(Q4:Q30,\"متوسط\")","v":8},0.32]
[6,"ثانى سعد ثانى المسيفرى الهاجرى",1.5,2,1.5,2,null,17.5,10,6,4,37.5,50,10.9375,0.48611111111111116,{"$f":"IF(AND(O9=\"غ\"),\"غ\",RANK(O9,$O$4:$O$30)+COUNTIF(O$4:O9,O9)-1)","v":16},"دون المتوسط",null,"دون المتوسط","≥ 40","D",{"$f":"COUNTIF(Q4:Q30,\"دون المتوسط\")","v":7},0.28000000000000003,{"$f":"SUM(W9:W11)","v":0.44}]
[7,"حسن نعمه على احمد النعمه",1.5,null,1.5,null,null,7.5,20,10,5,42.5,44,9.8625000000000007,0.43833333333333335,{"$f":"IF(AND(O10=\"غ\"),\"غ\",RANK(O10,$O$4:$O$30)+COUNTIF(O$4:O10,O10)-1)","v":18},"دون المتوسط",null,"ضعيف","≥ 30","E",{"$f":"COUNTIF(Q4:Q30,\"ضعيف\")","v":3},0.12]
[8,"حمد نصف عبدالله نصف السليطى",2.5,4,2.5,4,null,32.5,20,10,8,70.5,56.000000000000007,12.962500000000002,0.57611111111111124,{"$f":"IF(AND(O11=\"غ\"),\"غ\",RANK(O11,$O$4:$O$30)+COUNTIF(O$4:O11,O11)-1)","v":8},"متوسط",null,"دون الضعيف جداً","< 30","F",{"$f":"COUNTIF(Q4:Q30,\"دون الضعيف جداً\")","v":1},0.04]
[9,"خالد صالح حسن عوض بوجلوف",null,4,null,4,null,20,20,10,8,58,66,14.65,0.6511111111111112,{"$f":"IF(AND(O12=\"غ\"),\"غ\",RANK(O12,$O$4:$O$30)+COUNTIF(O$4:O12,O12)-1)","v":2},"فوق المتوسط",null,"عدد الطلاب الذي تم اختبارهم",null,null,{"$f":"SUM(V4:V11)","v":25},{"$f":"V12/SUM(V12:V13)","v":0.96153846153846156}]
[10,"خالد فياض جاسم الفياض الخالدى",1.5,3,1.5,3,null,22.5,20,12,8,62.5,60,13.5625,0.60277777777777775,{"$f":"IF(AND(O13=\"غ\"),\"غ\",RANK(O13,$O$4:$O$30)+COUNTIF(O$4:O13,O13)-1)","v":6},"فوق المتوسط",null,"عدد الطلاب الغائبين",null,null,{"$f":"COUNTA(B4:B30)-V12","v":1},{"$f":"V13/SUM(V12:V13)","v":3.8461538461538464E-2}]
[11,"خليفه حمد عبدالله راشد السبيعى",1,4,1,4,null,25,15,10,6,56,52,11.8,0.52444444444444438,{"$f":"IF(AND(O14=\"غ\"),\"غ\",RANK(O14,$O$4:$O$30)+COUNTIF(O$4:O14,O14)-1)","v":11},"متوسط"]
[12,"راشد احمد حسين محمد الفائق",null,null,null,null,null,"غ",null,null,null,"غ",null,"غ","غ",{"$f":"IF(AND(O15=\"غ\"),\"غ\",RANK(O15,$O$4:$O$30)+COUNTIF(O$4:O15,O15)-1)","v":"غ"},"غ",null,"الطلاب","العدد","النسبة"]
[13,"سعد عبدالله احمد الشيخ اللنقاوى",1.5,4,1.5,4,null,27.5,22,12,8,69.5,38,9.3375000000000004,0.41499999999999998,{"$f":"IF(AND(O16=\"غ\"),\"غ\",RANK(O16,$O$4:$O$30)+COUNTIF(O$4:O16,O16)-1)","v":20},"دون المتوسط",null,"الناجحين",{"$f":"SUM(V4:V8)","v":14},{"$f":"X4","v":0.56000000000000005}]
[14,"سعيد محمد كليب الربيعه الكوارى",1.5,1,1.5,1,null,12.5,5,5,4,26.5,64,13.4625,0.59833333333333338,{"$f":"IF(AND(O17=\"غ\"),\"غ\",RANK(O17,$O$4:$O$30)+COUNTIF(O$4:O17,O17)-1)","v":7},"متوسط",null,"الراسبين",{"$f":"SUM(V9:V11)","v":11},{"$f":"X9","v":0.44}]
[15,"عبدالرحمن عبدالله محمد عبدالرحمن عبدالله",2.5,4,2.5,4,null,32.5,24,13,9,78.5,78,17.5625,0.78055555555555556,{"$f":"IF(AND(O18=\"غ\"),\"غ\",RANK(O18,$O$4:$O$30)+COUNTIF(O$4:O18,O18)-1)","v":1},"جيد",null,"المجموع",{"$f":"SUM(T16:T17)","v":25},{"$f":"SUM(U16:U17)","v":1}]
[16,"عبدالعزيز عبدالرحمن صالح خالد الخليفى",null,4,null,4,null,20,15,10,8,53,62,13.725,0.61,{"$f":"IF(AND(O19=\"غ\"),\"غ\",RANK(O19,$O$4:$O$30)+COUNTIF(O$4:O19,O19)-1)","v":5},"فوق المتوسط"]
[17,"عبدالعزيز محمد عبدالله محمد الخليفى",null,4,null,4,null,20,15,12,8,55,50,11.375,0.50555555555555554,{"$f":"IF(AND(O20=\"غ\"),\"غ\",RANK(O20,$O$4:$O$30)+COUNTIF(O$4:O20,O20)-1)","v":14},"متوسط",null,"التحصيل الأكاديمي",null,{"$f":"AVERAGE(M4:M30)/M$3","v":0.50960000000000005}]
[18,"عبداللطيف خالد عبداللطيف راشد المهندى",2.5,null,2.5,null,null,12.5,15,10,6,43.5,44,9.8875000000000011,0.43944444444444453,{"$f":"IF(AND(O21=\"غ\"),\"غ\",RANK(O21,$O$4:$O$30)+COUNTIF(O$4:O21,O21)-1)","v":17},"دون المتوسط"]
[19,"على المال سالم المال المناعى",2.5,3,2.5,3,null,27.5,10,6,5,48.5,38,8.8125,0.39166666666666666,{"$f":"IF(AND(O22=\"غ\"),\"غ\",RANK(O22,$O$4:$O$30)+COUNTIF(O$4:O22,O22)-1)","v":23},"ضعيف"]
[20,"على شاهين راشد على النعيمى",0,2,0,2,null,10,5,5,3,23,42,8.9749999999999996,0.39888888888888885,{"$f":"IF(AND(O23=\"غ\"),\"غ\",RANK(O23,$O$4:$O$30)+COUNTIF(O$4:O23,O23)-1)","v":22},"ضعيف"]
[21,"عمران عتيق نوبى زايد الخليفى",1,4,1,4,null,25,5,4,3,37,30,6.9249999999999998,0.30777777777777776,{"$f":"IF(AND(O24=\"غ\"),\"غ\",RANK(O24,$O$4:$O$30)+COUNTIF(O$4:O24,O24)-1)","v":24},"ضعيف",null,"الفرع","الناجحين","الراسبين","التحصيل"]
[22,"غيث محمد غيث الربيعه الكوارى",2.5,4,2.5,4,null,32.5,15,13,6,66.5,56.000000000000007,12.862500000000002,0.57166666666666677,{"$f":"IF(AND(O25=\"غ\"),\"غ\",RANK(O25,$O$4:$O$30)+COUNTIF(O$4:O25,O25)-1)","v":9},"متوسط",null,{"$f":"H2","v":"Quizzes"},{"$f":"COUNTIF(H4:H30,\">=\"&H$3/2)/COUNT(H4:H30)","v":0.56000000000000005},{"$f":"IF(T25=\"\",\"\",100%-T25)","v":0.43999999999999995},{"$f":"IF($U25=\"\",\"\",AVERAGE(H4:H30)/H$3)","v":0.46}]
[23,"محمد سعيد سالم سعيد هلابى",1.5,4,1.5,4,null,27.5,24,13,9,73.5,64,14.637500000000001,0.65055555555555555,{"$f":"IF(AND(O26=\"غ\"),\"غ\",RANK(O26,$O$4:$O$30)+COUNTIF(O$4:O26,O26)-1)","v":3},"فوق المتوسط",null,{"$f":"I2","v":"الواجب"},{"$f":"COUNTIF(I4:I30,\">=\"&I$3/2)/COUNT(I4:I30)","v":0.6},0.4,{"$f":"IF($U26=\"\",\"\",AVERAGE(I4:I30)/I$3)","v":0.54559999999999997}]
[24,"محمد سعيد سيف سعيد العلوى",1,3,1,3,null,20,9,8,2,39,50,10.975,0.48777777777777781,{"$f":"IF(AND(O27=\"غ\"),\"غ\",RANK(O27,$O$4:$O$30)+COUNTIF(O$4:O27,O27)-1)","v":15},"دون المتوسط",null,{"$f":"J2","v":"المشاركة"},{"$f":"COUNTIF(J4:J30,\">=\"&J$3/2)/COUNT(J4:J30)","v":0.64},0.36,{"$f":"IF($U27=\"\",\"\",AVERAGE(J4:J30)/J$3)","v":0.59733333333333338}]
[25,"محمد عبدالعزيز حسن محمد فلامرزى",1,4,1,4,null,25,15,12,8,60,38,9.1000000000000014,0.4044444444444445,{"$f":"IF(AND(O28=\"غ\"),\"غ\",RANK(O28,$O$4:$O$30)+COUNTIF(O$4:O28,O28)-1)","v":21},"دون المتوسط",null,{"$f":"K2","v":"المشروع"},{"$f":"COUNTIF(K4:K30,\">=\"&K$3/2)/COUNT(K4:K30)","v":0.76},0.24,{"$f":"IF($U28=\"\",\"\",AVERAGE(K4:K30)/K$3)","v":0.59599999999999997}]
[26,"مسعود سالم مصبح الربيعى",1.5,4,1.5,4,null,{"$f":"IF(AND(C29=\"\",D29=\"\",E29=\"\",F29=\"\",G29=\"\"),\"غ\",$H$3*SUM(C29:G29)/SUM($C$3:$G$3))","v":27.5},5,5,3,{"$f":"IF(AND(C29=\"\",D29=\"\",E29=\"\",F29=\"\",G29=\"\",I29=\"\",J29=\"\",K29=\"\"),\"غ\",SUM(H29:K29))","v":40.5},52,{"$f":"IF(M29=\"\",\"غ\",IF(L29=\"غ\",M29*0.2,SUM(L29*2.5/$L$3,M29*0.2)))","v":11.4125},{"$f":"IF(N29=\"غ\",\"غ\",N29*100/$N$3/100)","v":0.50722222222222224},{"$f":"IF(AND(O29=\"غ\"),\"غ\",RANK(O29,$O$4:$O$30)+COUNTIF(O$4:O29,O29)-1)","v":13},{"$f":"IF(O29=\"غ\",\"غ\",IF(O29>=90%,\"ممتاز\",IF(O29>=80%,\"جيد جداً\",IF(O29>=70%,\"جيد\",IF(O29>=60%,\"فوق المتوسط\",IF(O29>=50%,\"متوسط\",IF(O29>=40%,\"دون المتوسط\",IF(O29>=30%,\"ضعيف\",\"دون الضعيف جداً\"))))))))","v":"متوسط"},null,{"$f":"M2","v":"Exam"},{"$f":"COUNTIF(M4:M30,\">=\"&M$3/2)/COUNT(M4:M30)","v":0.64},0.36,{"$f":"IF($U29=\"\",\"\",AVERAGE(M4:M30)/M$3)","v":0.50960000000000005}]
[null,null,null,null,null,null,null,null,null,null,null,null,""]
[null,null,null,null,null,null,null,null,null,null,null,null,""]

{"sheet":"8-8","index":17,"n_rows":31,"n_cols":24,"rows_kept":31,"cut":false,"hidden":false,"merged":[[0,0,0,16],[1,0,2,0],[1,1,2,1],[1,16,2,16],[1,18,1,23],[2,19,2,20],[2,22,2,23],[19,18,20,19],[19,20,20,20],[3,23,7,23],[8,23,10,23],[11,18,11,20],[11,22,11,23],[12,18,12,20],[12,22,12,23]]}
["Grade (8-8) كشف درجات الطلاب  "]
["م","اسم الطالب","Quiz1","Quiz2","Quiz3","Quiz4","Quiz5","Quizzes","الواجب","المشاركة","المشروع","Total","Exam","Final","Percent","Rank","التقدير",null,"تحليل النتائج على حسب التقدير"]
[null,null,5,5,5,5,"درجة5",50,25,15,10,100,100,22.5,"(%)","الترتيب",null,null,"التقدير","المجال",null,"عدد الطلاب","النسبة"]
[1,"ابراهيم محمد هاشم الشمسان الساده",1,1,1,1,null,{"$f":"IF(AND(C4=\"\",D4=\"\",E4=\"\",F4=\"\",G4=\"\"),\"غ\",$H$3*SUM(C4:G4)/SUM($C$3:$G$3))","v":10},15,10,5,{"$f":"IF(AND(C4=\"\",D4=\"\",E4=\"\",F4=\"\",G4=\"\",I4=\"\",J4=\"\",K4=\"\"),\"غ\",SUM(H4:K4))","v":40},34,{"$f":"IF(M4=\"\",\"غ\",IF(L4=\"غ\",M4*0.2,SUM(L4*2.5/$L$3,M4*0.2)))","v":7.8000000000000007},{"$f":"IF(N4=\"غ\",\"غ\",N4*100/$N$3/100)","v":0.34666666666666673},{"$f":"IF(AND(O4=\"غ\"),\"غ\",RANK(O4,$O$4:$O$30)+COUNTIF(O$4:O4,O4)-1)","v":24},{"$f":"IF(O4=\"غ\",\"غ\",IF(O4>=90%,\"ممتاز\",IF(O4>=80%,\"جيد جداً\",IF(O4>=70%,\"جيد\",IF(O4>=60%,\"فوق المتوسط\",IF(O4>=50%,\"متوسط\",IF(O4>=40%,\"دون المتوسط\",IF(O4>=30%,\"ضعيف\",\"دون الضعيف جداً\"))))))))","v":"ضعيف"},null,"ممتاز"," ≥ 90","A+",{"$f":"COUNTIF(Q4:Q30,\"ممتاز\")","v":0},{"$f":"(V4/$V$12)","v":0},{"$f":"SUM(W4:W8)","v":0.48}]
[2,"احمد مبارك خلفان احمد الخلفان",2.5,4,2.5,4,null,{"$f":"IF(AND(C5=\"\",D5=\"\",E5=\"\",F5=\"\",G5=\"\"),\"غ\",$H$3*SUM(C5:G5)/SUM($C$3:$G$3))","v":32.5},15,12,6,{"$f":"IF(AND(C5=\"\",D5=\"\",E5=\"\",F5=\"\",G5=\"\",I5=\"\",J5=\"\",K5=\"\"),\"غ\",SUM(H5:K5))","v":65.5},66,{"$f":"IF(M5=\"\",\"غ\",IF(L5=\"غ\",M5*0.2,SUM(L5*2.5/$L$3,M5*0.2)))","v":14.8375},{"$f":"IF(N5=\"غ\",\"غ\",N5*100/$N$3/100)","v":0.65944444444444439},{"$f":"IF(AND(O5=\"غ\"),\"غ\",RANK(O5,$O$4:$O$30)+COUNTIF(O$4:O5,O5)-1)","v":2},{"$f":"IF(O5=\"غ\",\"غ\",IF(O5>=90%,\"ممتاز\",IF(O5>=80%,\"جيد جداً\",IF(O5>=70%,\"جيد\",IF(O5>=60%,\"فوق المتوسط\",IF(O5>=50%,\"متوسط\",IF(O5>=40%,\"دون المتوسط\",IF(O5>=30%,\"ضعيف\",\"دون الضعيف جداً\"))))))))","v":"فوق المتوسط"},null,"جيد جداً","≥ 80","A",{"$f":"COUNTIF(Q4:Q30,\"جيد جداً\")","v":0},0]
[3,"احمد مبارك صقر عبدالكريم الجاسم",2.5,1,2.5,1,null,17.5,5,5,3,30.5,40,8.7624999999999993,0.38944444444444443,{"$f":"IF(AND(O6=\"غ\"),\"غ\",RANK(O6,$O$4:$O$30)+COUNTIF(O$4:O6,O6)-1)","v":21},"ضعيف",null,"جيد","≥ 70","B+",{"$f":"COUNTIF(Q4:Q30,\"جيد\")","v":0},0]
[4,"حمد سعيد سعيد مبارك العبدالله",null,4,null,4,null,20,20,10,7,57,70,15.425000000000001,0.68555555555555558,{"$f":"IF(AND(O7=\"غ\"),\"غ\",RANK(O7,$O$4:$O$30)+COUNTIF(O$4:O7,O7)-1)","v":1},"فوق المتوسط",null,"فوق المتوسط","≥ 60","B",{"$f":"COUNTIF(Q4:Q30,\"فوق المتوسط\")","v":4},0.16]
[5,"حمد عبدالله سعد الزمامى الدوسرى",1,null,1,null,null,5,5,5,3,18,54,11.25,0.5,{"$f":"IF(AND(O8=\"غ\"),\"غ\",RANK(O8,$O$4:$O$30)+COUNTIF(O$4:O8,O8)-1)","v":12},"متوسط",null,"متوسط","≥ 50","C",{"$f":"COUNTIF(Q4:Q30,\"متوسط\")","v":8},0.32]
[6,"راشد عبدالرحمن يوسف احمد السليطى",1,4,1,4,null,25,9,9,6,49,54,12.025,0.53444444444444439,{"$f":"IF(AND(O9=\"غ\"),\"غ\",RANK(O9,$O$4:$O$30)+COUNTIF(O$4:O9,O9)-1)","v":7},"متوسط",null,"دون المتوسط","≥ 40","D",{"$f":"COUNTIF(Q4:Q30,\"دون المتوسط\")","v":7},0.28000000000000003,{"$f":"SUM(W9:W11)","v":0.52}]
[7,"راشد محمد على احمد العبيدلى",1.5,2,1.5,2,null,17.5,20,10,7,54.5,38,8.9625000000000004,0.39833333333333337,{"$f":"IF(AND(O10=\"غ\"),\"غ\",RANK(O10,$O$4:$O$30)+COUNTIF(O$4:O10,O10)-1)","v":20},"ضعيف",null,"ضعيف","≥ 30","E",{"$f":"COUNTIF(Q4:Q30,\"ضعيف\")","v":5},0.2]
[8,"سالم احمد سالم مبارك الهتمى",0,1,0,1,null,5,5,5,3,18,38,8.0500000000000007,0.35777777777777786,{"$f":"IF(AND(O11=\"غ\"),\"غ\",RANK(O11,$O$4:$O$30)+COUNTIF(O$4:O11,O11)-1)","v":23},"ضعيف",null,"دون الضعيف جداً","< 30","F",{"$f":"COUNTIF(Q4:Q30,\"دون الضعيف جداً\")","v":1},0.04]
[9,"سالم محمد عبدالرحمن عبدالله الدسم",1.5,2,1.5,2,null,17.5,22,12,8,59.5,56.000000000000007,12.687500000000004,0.56388888888888911,{"$f":"IF(AND(O12=\"غ\"),\"غ\",RANK(O12,$O$4:$O$30)+COUNTIF(O$4:O12,O12)-1)","v":5},"متوسط",null,"عدد الطلاب الذي تم اختبارهم",null,null,{"$f":"SUM(V4:V11)","v":25},{"$f":"V12/SUM(V12:V13)","v":1}]
[10,"سعد همام سعد همام العبدالله",1,2,1,2,null,15,15,10,4,44,64,13.9,0.61777777777777776,{"$f":"IF(AND(O13=\"غ\"),\"غ\",RANK(O13,$O$4:$O$30)+COUNTIF(O$4:O13,O13)-1)","v":4},"فوق المتوسط",null,"عدد الطلاب الغائبين",null,null,{"$f":"COUNTA(B4:B30)-V12","v":0},{"$f":"V13/SUM(V12:V13)","v":0}]
[11,"سعود حسين جمال محمد الجابر",1.5,3,1.5,3,null,22.5,16,9,6,53.5,50,11.3375,0.50388888888888883,{"$f":"IF(AND(O14=\"غ\"),\"غ\",RANK(O14,$O$4:$O$30)+COUNTIF(O$4:O14,O14)-1)","v":11},"متوسط"]
[12,"سعود يوسف عبدالعزيز دراج الدوسرى",0,null,0,null,null,0,10,8,4,22,28.000000000000004,6.1500000000000012,0.27333333333333337,{"$f":"IF(AND(O15=\"غ\"),\"غ\",RANK(O15,$O$4:$O$30)+COUNTIF(O$4:O15,O15)-1)","v":25},"دون الضعيف جداً",null,"الطلاب","العدد","النسبة"]
[13,"سيف عبدالعزيز محمد راشد السميح",null,null,null,null,null,"غ",5,4,2,11,44,9.0750000000000011,0.40333333333333338,{"$f":"IF(AND(O16=\"غ\"),\"غ\",RANK(O16,$O$4:$O$30)+COUNTIF(O$4:O16,O16)-1)","v":19},"دون المتوسط",null,"الناجحين",{"$f":"SUM(V4:V8)","v":12},{"$f":"X4","v":0.48}]
[14,"عبدالرحمن احمد على هاشم الساده",2.5,3,2.5,3,null,27.5,5,5,4,41.5,52,11.4375,0.5083333333333333,{"$f":"IF(AND(O17=\"غ\"),\"غ\",RANK(O17,$O$4:$O$30)+COUNTIF(O$4:O17,O17)-1)","v":10},"متوسط",null,"الراسبين",{"$f":"SUM(V9:V11)","v":13},{"$f":"X9","v":0.52}]
[15,"عبدالرحمن فهد محمد الفهد النعيمى",1,2,1,2,null,15,6,4,4,29,56.000000000000007,11.925000000000002,0.53,{"$f":"IF(AND(O18=\"غ\"),\"غ\",RANK(O18,$O$4:$O$30)+COUNTIF(O$4:O18,O18)-1)","v":8},"متوسط",null,"المجموع",{"$f":"SUM(T16:T17)","v":25},{"$f":"SUM(U16:U17)","v":1}]
[16,"عبدالعزيز محسن",1.5,2,1.5,2,null,17.5,23,12,9,61.5,62,13.9375,0.61944444444444446,{"$f":"IF(AND(O19=\"غ\"),\"غ\",RANK(O19,$O$4:$O$30)+COUNTIF(O$4:O19,O19)-1)","v":3},"فوق المتوسط"]
[17,"عبدالعزيز على محمد ال الشيخ الكوارى",0,1,0,1,null,5,19,12,9,45,42,9.5250000000000004,0.42333333333333334,{"$f":"IF(AND(O20=\"غ\"),\"غ\",RANK(O20,$O$4:$O$30)+COUNTIF(O$4:O20,O20)-1)","v":17},"دون المتوسط",null,"التحصيل الأكاديمي",null,{"$f":"AVERAGE(M4:M30)/M$3","v":0.48880000000000001}]
[18,"عبدالله احمد عبدالله حمد عبدالله",1.5,0,1.5,0,null,7.5,16,11,4,38.5,46,10.162500000000001,0.45166666666666672,{"$f":"IF(AND(O21=\"غ\"),\"غ\",RANK(O21,$O$4:$O$30)+COUNTIF(O$4:O21,O21)-1)","v":15},"دون المتوسط"]
[19,"عبدالله عبدالوهاب عبدالله عبدالوهاب الشيب",3,4,3,4,null,35,18,11,3,67,54,12.475000000000001,0.55444444444444452,{"$f":"IF(AND(O22=\"غ\"),\"غ\",RANK(O22,$O$4:$O$30)+COUNTIF(O$4:O22,O22)-1)","v":6},"متوسط"]
[20,"عمر مبارك عمر الحمد المناعى",1.5,null,1.5,null,null,7.5,10,9,4,30.5,40,8.7624999999999993,0.38944444444444443,{"$f":"IF(AND(O23=\"غ\"),\"غ\",RANK(O23,$O$4:$O$30)+COUNTIF(O$4:O23,O23)-1)","v":22},"ضعيف"]
[21,"محبوب عبدالله محبوب مفتاح الغانم",0,3,0,3,null,15,4,3,3,25,44,9.4250000000000007,0.41888888888888892,{"$f":"IF(AND(O24=\"غ\"),\"غ\",RANK(O24,$O$4:$O$30)+COUNTIF(O$4:O24,O24)-1)","v":18},"دون المتوسط",null,"الفرع","الناجحين","الراسبين","التحصيل"]
[22,"محمد غانم على حسن النعيمى",1,1,1,1,null,10,9,8,6,33,52,11.225,0.49888888888888888,{"$f":"IF(AND(O25=\"غ\"),\"غ\",RANK(O25,$O$4:$O$30)+COUNTIF(O$4:O25,O25)-1)","v":13},"دون المتوسط",null,{"$f":"H2","v":"Quizzes"},{"$f":"COUNTIF(H4:H30,\">=\"&H$3/2)/COUNT(H4:H30)","v":0.25},{"$f":"IF(T25=\"\",\"\",100%-T25)","v":0.75},{"$f":"IF($U25=\"\",\"\",AVERAGE(H4:H30)/H$3)","v":0.33958333333333335}]
[23,"ناصر محمد سالم فرج السويدى",null,4,null,4,null,20,5,4,2,31,44,9.5750000000000011,0.42555555555555558,{"$f":"IF(AND(O26=\"غ\"),\"غ\",RANK(O26,$O$4:$O$30)+COUNTIF(O$4:O26,O26)-1)","v":16},"دون المتوسط",null,{"$f":"I2","v":"الواجب"},{"$f":"COUNTIF(I4:I30,\">=\"&I$3/2)/COUNT(I4:I30)","v":0.52},0.48,{"$f":"IF($U26=\"\",\"\",AVERAGE(I4:I30)/I$3)","v":0.50080000000000002}]
[24,"نايف حسين جمال محمد الجابر",1.5,4,1.5,4,null,27.5,18,12,6,63.5,50,11.5875,0.51500000000000001,{"$f":"IF(AND(O27=\"غ\"),\"غ\",RANK(O27,$O$4:$O$30)+COUNTIF(O$4:O27,O27)-1)","v":9},"متوسط",null,{"$f":"J2","v":"المشاركة"},{"$f":"COUNTIF(J4:J30,\">=\"&J$3/2)/COUNT(J4:J30)","v":0.68},0.31999999999999995,{"$f":"IF($U27=\"\",\"\",AVERAGE(J4:J30)/J$3)","v":0.56266666666666665}]
[25,"يوسف محمد ناصر راشد البدر",2.5,4,2.5,4,null,32.5,18,11,7,68.5,44,10.512500000000001,0.46722222222222221,{"$f":"IF(AND(O28=\"غ\"),\"غ\",RANK(O28,$O$4:$O$30)+COUNTIF(O$4:O28,O28)-1)","v":14},"دون المتوسط",null,{"$f":"K2","v":"المشروع"},{"$f":"COUNTIF(K4:K30,\">=\"&K$3/2)/COUNT(K4:K30)","v":0.48},0.52,{"$f":"IF($U28=\"\",\"\",AVERAGE(K4:K30)/K$3)","v":0.5}]
[null,null,null,null,null,null,null,null,null,null,null,null,"",null,null,null,null,null,{"$f":"M2","v":"Exam"},{"$f":"COUNTIF(M4:M30,\">=\"&M$3/2)/COUNT(M4:M30)","v":0.52},0.48,{"$f":"IF($U29=\"\",\"\",AVERAGE(M4:M30)/M$3)","v":0.48880000000000001}]
[null,null,null,null,null,null,null,null,null,null,null,null,""]
[null,null,null,null,null,null,null,null,null,null,null,null,""]

{"sheet":"Grade9","index":18,"n_rows":113,"n_cols":7,"rows_kept":113,"cut":false,"hidden":false,"merged":[[109,0,109,1],[110,0,110,1],[111,0,111,1],[112,0,112,1],[105,0,105,1],[105,2,105,3],[107,0,107,1],[108,0,108,1],[103,9,103,11],[60,9,60,11],[74,0,74,1],[74,2,74,3],[74,9,74,11],[87,0,87,1],[87,2,87,3],[34,9,34,11],[46,0,46,1],[46,2,46,3],[48,9,48,11],[59,0,59,1],[59,2,59,3],[9,6,11,6],[12,1,12,3],[12,5,12,6],[18,2,18,3],[31,0,31,1],[31,2,31,3],[4,6,8,6],[0,0,1,0],[0,1,1,1],[2,1,2,6],[3,2,3,3],[3,5,3,6]]}
["عدد الطلاب الغائبين",{"$f":"SUM('9-1'!V13,'9-2'!V13,'9-3'!V13,'9-4'!V13,'9-5'!V13,'9-6'!V13,'9-7'!V13,'9-8'!V13,'9-9'!V13)","v":7}]
[]
[null,"تحليل نتائج الصف التاسع Grade-9"]
[null,"التقدير","المجال",null,"عدد الطلاب","النسبة"]
[null,"ممتاز"," ≥ 90","A+",{"$f":"SUM('9-1'!V4,'9-2'!V4,'9-3'!V4,'9-4'!V4,'9-5'!V4,'9-6'!V4,'9-7'!V4,'9-8'!V4,'9-9'!V4)","v":0},{"$f":"(E5/$E$13)","v":0},{"$f":"SUM(F5:F9)","v":0.8355555555555555}]
[null,"جيد جداً","≥ 80","A",{"$f":"SUM('9-1'!V5,'9-2'!V5,'9-3'!V5,'9-4'!V5,'9-5'!V5,'9-6'!V5,'9-7'!V5,'9-8'!V5,'9-9'!V5)","v":24},0.10666666666666667]
[null,"جيد","≥ 70","B+",{"$f":"SUM('9-1'!V6,'9-2'!V6,'9-3'!V6,'9-4'!V6,'9-5'!V6,'9-6'!V6,'9-7'!V6,'9-8'!V6,'9-9'!V6)","v":39},0.17333333333333334]
[null,"فوق المتوسط","≥ 60","B",{"$f":"SUM('9-1'!V7,'9-2'!V7,'9-3'!V7,'9-4'!V7,'9-5'!V7,'9-6'!V7,'9-7'!V7,'9-8'!V7,'9-9'!V7)","v":52},0.2311111111111111]
[null,"متوسط","≥ 50","C",{"$f":"SUM('9-1'!V8,'9-2'!V8,'9-3'!V8,'9-4'!V8,'9-5'!V8,'9-6'!V8,'9-7'!V8,'9-8'!V8,'9-9'!V8)","v":73},0.32444444444444442]
[null,"دون المتوسط","≥ 40","D",{"$f":"SUM('9-1'!V9,'9-2'!V9,'9-3'!V9,'9-4'!V9,'9-5'!V9,'9-6'!V9,'9-7'!V9,'9-8'!V9,'9-9'!V9)","v":31},0.13777777777777778,{"$f":"SUM(F10:F12)","v":0.16444444444444445}]
[null,"ضعيف","≥ 30","E",{"$f":"SUM('9-1'!V10,'9-2'!V10,'9-3'!V10,'9-4'!V10,'9-5'!V10,'9-6'!V10,'9-7'!V10,'9-8'!V10,'9-9'!V10)","v":6},2.6666666666666668E-2]
[null,"دون الضعيف جداً","< 30","F",{"$f":"SUM('9-1'!V11,'9-2'!V11,'9-3'!V11,'9-4'!V11,'9-5'!V11,'9-6'!V11,'9-7'!V11,'9-8'!V11,'9-9'!V11)","v":0},0]
[null,"عدد طلاب الصف التاسع الذي تم اختبارهم",null,null,{"$f":"SUM(E5:E12)","v":225},{"$f":"E13/SUM(E13,B1)","v":0.96982758620689657}]
[]
[null,null,"الطلاب","العدد","النسبة"]
[null,null,"الناجحين",{"$f":"SUM(E5:E9)","v":188},{"$f":"G5","v":0.8355555555555555}]
[null,null,"الراسبين",{"$f":"SUM(E10:E12)","v":37},{"$f":"G10","v":0.16444444444444445}]
[null,null,"المجموع",{"$f":"SUM(D16:D17)","v":225},{"$f":"SUM(E16:E17)","v":1}]
[null,null,"نسبة التحصيل",null,{"$f":"AVERAGE('9-1'!U20,'9-2'!U20,'9-3'!U20,'9-4'!U20,'9-5'!U20,'9-6'!U20,'9-7'!U20,'9-8'!U20)","v":0.61638240093240082}]
[]
[null,"الصف / النسبة","الناجحين","الراسبين","التحصيل"]
[null,"9-1",{"$f":"'9-1'!$U$16","v":0.63636363636363635},{"$f":"'9-1'!$U$17","v":0.36363636363636365},{"$f":"'9-1'!$U$20","v":0.55681818181818177}]
[null,"9-2",{"$f":"'9-2'!$U$16","v":0.88000000000000012},{"$f":"'9-2'!$U$17","v":0.12},{"$f":"'9-2'!$U$20","v":0.62159999999999993}]
[null,"9-3",{"$f":"'9-3'!$U$16","v":1},{"$f":"'9-3'!$U$17","v":0},{"$f":"'9-3'!$U$20","v":0.81961538461538463}]
[null,"9-4",{"$f":"'9-4'!$U$16","v":0.84000000000000008},{"$f":"'9-4'!$U$17","v":0.16},{"$f":"'9-4'!$U$20","v":0.62319999999999998}]
[null,"9-5",{"$f":"'9-5'!$U$16","v":0.85185185185185186},{"$f":"'9-5'!$U$17","v":0.14814814814814814},{"$f":"'9-5'!$U$20","v":0.60666666666666669}]
[null,"9-6",{"$f":"'9-6'!$U$16","v":0.76},{"$f":"'9-6'!$U$17","v":0.24},{"$f":"'9-6'!$U$20","v":0.54880000000000007}]
[null,"9-7",{"$f":"'9-7'!$U$16","v":0.80769230769230771},{"$f":"'9-7'!$U$17","v":0.19230769230769232},{"$f":"'9-7'!$U$20","v":0.55769230769230771}]
[null,"9-8",{"$f":"'9-8'!$U$16","v":0.875},{"$f":"'9-8'!$U$17","v":0.125},{"$f":"'9-8'!$U$20","v":0.59666666666666668}]
[null,"9-9",{"$f":"'9-9'!$U$16","v":0.84},{"$f":"'9-9'!$U$17","v":0.16},{"$f":"'9-9'!$U$20","v":0.55679999999999996}]
[]
["تحليل نتائج فرع",null,{"$f":"'9-1'!H2","v":"Quizzes"}]
[]
[null,"الصف","الناجحين","الراسبين","التحصيل"]
[null,"9-1",{"$f":"'9-1'!$T$25","v":0.36842105263157893},{"$f":"'9-1'!$U$25","v":0.63157894736842102},{"$f":"'9-1'!$V$25","v":0.44473684210526315}]
[null,"9-2",{"$f":"'9-2'!$T$25","v":0.34782608695652173},{"$f":"'9-2'!$U$25","v":0.65217391304347827},{"$f":"'9-2'!$V$25","v":0.45217391304347826}]
[null,"9-3",{"$f":"'9-3'!$T$25","v":1},{"$f":"'9-3'!$U$25","v":0},{"$f":"'9-3'!$V$25","v":0.89}]
[null,"9-4",{"$f":"'9-4'!$T$25","v":0.8},{"$f":"'9-4'!$U$25","v":0.19999999999999996},{"$f":"'9-4'!$V$25","v":0.57600000000000007}]
[null,"9-5",{"$f":"'9-5'!$T$25","v":0.66666666666666663},{"$f":"'9-5'!$U$25","v":0.33333333333333337},{"$f":"'9-5'!$V$25","v":0.55555555555555558}]
[null,"9-6",{"$f":"'9-6'!$T$25","v":0.56000000000000005},{"$f":"'9-6'!$U$25","v":0.43999999999999995},{"$f":"'9-6'!$V$25","v":0.54}]
[null,"9-7",{"$f":"'9-7'!$T$25","v":0.5},{"$f":"'9-7'!$U$25","v":0.5},{"$f":"'9-7'!$V$25","v":0.45769230769230768}]
[null,"9-8",{"$f":"'9-8'!$T$25","v":0.68},{"$f":"'9-8'!$U$25","v":0.31999999999999995},{"$f":"'9-8'!$V$25","v":0.57200000000000006}]
[null,"9-9",{"$f":"'9-9'!$T$25","v":0.76923076923076927},{"$f":"'9-9'!$U$25","v":0.23076923076923073},{"$f":"'9-9'!$V$25","v":0.56923076923076921}]
[null,"المتوسط",{"$f":"AVERAGE(C35:C42)","v":0.61536422578184591},{"$f":"AVERAGE(D35:D42)","v":0.38463577421815404},{"$f":"AVERAGE(E35:E42)","v":0.56101982729957567}]
[]
[]
["تحليل نتائج فرع",null,{"$f":"'9-1'!I2","v":"الواجب"}]
[]
[null,"الصف","الناجحين","الراسبين","التحصيل"]
[null,"9-1",{"$f":"'9-1'!$T$26","v":1},{"$f":"'9-1'!$U$26","v":0},{"$f":"'9-1'!$V$26","v":0.77833333333333332}]
[null,"9-2",{"$f":"'9-2'!$T$26","v":1},{"$f":"'9-2'!$U$26","v":0},{"$f":"'9-2'!$V$26","v":0.77599999999999991}]
[null,"9-3",{"$f":"'9-3'!$T$26","v":1},{"$f":"'9-3'!$U$26","v":0},{"$f":"'9-3'!$V$26","v":0.90461538461538471}]
[null,"9-4",{"$f":"'9-4'!$T$26","v":1},{"$f":"'9-4'!$U$26","v":0},{"$f":"'9-4'!$V$26","v":0.90079999999999993}]
[null,"9-5",{"$f":"'9-5'!$T$26","v":1},{"$f":"'9-5'!$U$26","v":0},{"$f":"'9-5'!$V$26","v":0.93925925925925924}]
[null,"9-6",{"$f":"'9-6'!$T$26","v":1},{"$f":"'9-6'!$U$26","v":0},{"$f":"'9-6'!$V$26","v":0.91538461538461535}]
[null,"9-7",{"$f":"'9-7'!$T$26","v":0.96153846153846156},{"$f":"'9-7'!$U$26","v":3.8461538461538436E-2},{"$f":"'9-7'!$V$26","v":0.72153846153846157}]
[null,"9-8",{"$f":"'9-8'!$T$26","v":1},{"$f":"'9-8'!$U$26","v":0},{"$f":"'9-8'!$V$26","v":0.9104000000000001}]
[null,"9-9",{"$f":"'9-9'!$T$26","v":1},{"$f":"'9-9'!$U$26","v":0},{"$f":"'9-9'!$V$26","v":0.87230769230769223}]
[null,"المتوسط",{"$f":"AVERAGE(C50:C57)","v":0.99519230769230771},{"$f":"AVERAGE(D50:D57)","v":4.8076923076923045E-3},{"$f":"AVERAGE(E50:E57)","v":0.8557913817663817}]
["تحليل نتائج فرع",null,{"$f":"'9-1'!J2","v":"المشاركة"}]
[]
[null,"الصف","الناجحين","الراسبين","التحصيل"]
[null,"9-1",{"$f":"'9-1'!$T$27","v":1},{"$f":"'9-1'!$U$27","v":0},{"$f":"'9-1'!$V$27","v":0.7}]
[null,"9-2",{"$f":"'9-2'!$T$27","v":1},{"$f":"'9-2'!$U$27","v":0},{"$f":"'9-2'!$V$27","v":0.68533333333333324}]
[null,"9-3",{"$f":"'9-3'!$T$27","v":1},{"$f":"'9-3'!$U$27","v":0},{"$f":"'9-3'!$V$27","v":0.87692307692307692}]
[null,"9-4",{"$f":"'9-4'!$T$27","v":1},{"$f":"'9-4'!$U$27","v":0},{"$f":"'9-4'!$V$27","v":0.8640000000000001}]
[null,"9-5",{"$f":"'9-5'!$T$27","v":1},{"$f":"'9-5'!$U$27","v":0},{"$f":"'9-5'!$V$27","v":0.90617283950617289}]
[null,"9-6",{"$f":"'9-6'!$T$27","v":1},{"$f":"'9-6'!$U$27","v":0},{"$f":"'9-6'!$V$27","v":0.85128205128205137}]
[null,"9-7",{"$f":"'9-7'!$T$27","v":0.61538461538461542},{"$f":"'9-7'!$U$27","v":0.38461538461538458},{"$f":"'9-7'!$V$27","v":0.55897435897435899}]
[null,"9-8",{"$f":"'9-8'!$T$27","v":1},{"$f":"'9-8'!$U$27","v":0},{"$f":"'9-8'!$V$27","v":0.8666666666666667}]
[null,"9-9",{"$f":"'9-9'!$T$27","v":1},{"$f":"'9-9'!$U$27","v":0},{"$f":"'9-9'!$V$27","v":0.83846153846153848}]
[null,"المتوسط",{"$f":"AVERAGE(C63:C70)","v":0.95192307692307687},{"$f":"AVERAGE(D63:D70)","v":4.8076923076923073E-2},{"$f":"AVERAGE(E63:E70)","v":0.78866904083570755}]
[]
[]
["تحليل نتائج فرع",null,{"$f":"'9-1'!K2","v":"المشروع"}]
[]
[null,"الصف","الناجحين","الراسبين","التحصيل"]
[null,"9-1",{"$f":"'9-1'!$T$28","v":1},{"$f":"'9-1'!$U$28","v":0},{"$f":"'9-1'!$V$28","v":0.80416666666666659}]
[null,"9-2",{"$f":"'9-2'!$T$28","v":1},{"$f":"'9-2'!$U$28","v":0},{"$f":"'9-2'!$V$28","v":0.75600000000000001}]
[null,"9-3",{"$f":"'9-3'!$T$28","v":1},{"$f":"'9-3'!$U$28","v":0},{"$f":"'9-3'!$V$28","v":0.89615384615384619}]
[null,"9-4",{"$f":"'9-4'!$T$28","v":1},{"$f":"'9-4'!$U$28","v":0},{"$f":"'9-4'!$V$28","v":0.83200000000000007}]
[null,"9-5",{"$f":"'9-5'!$T$28","v":1},{"$f":"'9-5'!$U$28","v":0},{"$f":"'9-5'!$V$28","v":0.87037037037037046}]
[null,"9-6",{"$f":"'9-6'!$T$28","v":1},{"$f":"'9-6'!$U$28","v":0},{"$f":"'9-6'!$V$28","v":0.79615384615384621}]
[null,"9-7",{"$f":"'9-7'!$T$28","v":0.96153846153846156},{"$f":"'9-7'!$U$28","v":3.8461538461538436E-2},{"$f":"'9-7'!$V$28","v":0.61923076923076925}]
[null,"9-8",{"$f":"'9-8'!$T$28","v":1},{"$f":"'9-8'!$U$28","v":0},{"$f":"'9-8'!$V$28","v":0.81600000000000006}]
[null,"9-9",{"$f":"'9-9'!$T$28","v":1},{"$f":"'9-9'!$U$28","v":0},{"$f":"'9-9'!$V$28","v":0.78076923076923077}]
[null,"المتوسط",{"$f":"AVERAGE(C78:C85)","v":0.99519230769230771},{"$f":"AVERAGE(D78:D85)","v":4.8076923076923045E-3},{"$f":"AVERAGE(E78:E85)","v":0.79875943732193722}]
["تحليل نتائج فرع",null,{"$f":"'9-1'!M2","v":"Exam"}]
[]
[null,"الصف","الناجحين","الراسبين","التحصيل"]
[null,"9-1",{"$f":"'9-1'!$T$29","v":0.68181818181818177},{"$f":"'9-1'!$U$29","v":0.31818181818181823},{"$f":"'9-1'!$V$29","v":0.55681818181818177}]
[null,"9-2",{"$f":"'9-2'!$T$29","v":0.88},{"$f":"'9-2'!$U$29","v":0.12},{"$f":"'9-2'!$V$29","v":0.62159999999999993}]
[null,"9-3",{"$f":"'9-3'!$T$29","v":1},{"$f":"'9-3'!$U$29","v":0},{"$f":"'9-3'!$V$29","v":0.81961538461538463}]
[null,"9-4",{"$f":"'9-4'!$T$29","v":0.88},{"$f":"'9-4'!$U$29","v":0.12},{"$f":"'9-4'!$V$29","v":0.62319999999999998}]
[null,"9-5",{"$f":"'9-5'!$T$29","v":0.85185185185185186},{"$f":"'9-5'!$U$29","v":0.14814814814814814},{"$f":"'9-5'!$V$29","v":0.60666666666666669}]
[null,"9-6",{"$f":"'9-6'!$T$29","v":0.76},{"$f":"'9-6'!$U$29","v":0.24},{"$f":"'9-6'!$V$29","v":0.54880000000000007}]
[null,"9-7",{"$f":"'9-7'!$T$29","v":0.84615384615384615},{"$f":"'9-7'!$U$29","v":0.15384615384615385},{"$f":"'9-7'!$V$29","v":0.55769230769230771}]
[null,"9-8",{"$f":"'9-8'!$T$29","v":0.875},{"$f":"'9-8'!$U$29","v":0.125},{"$f":"'9-8'!$V$29","v":0.59666666666666668}]
[null,"9-9",{"$f":"'9-9'!$T$29","v":0.8},{"$f":"'9-9'!$U$29","v":0.19999999999999996},{"$f":"'9-9'!$V$29","v":0.55679999999999996}]
[null,"المتوسط",{"$f":"AVERAGE(C91:C98)","v":0.84685298497798489},{"$f":"AVERAGE(D91:D98)","v":0.15314701502201503},0.61638240093240082]
[]
[]
[]
[]
[]
["مقارنة تحليل نتائج",null,"جميع  الفروع"]
[]
["الفرع",null,"الناجحين","الراسبين","التحصيل"]
[{"$f":"C32","v":"Quizzes"},null,{"$f":"C44","v":0.61536422578184591},{"$f":"D44","v":0.38463577421815404},{"$f":"E44","v":0.56101982729957567}]
[{"$f":"C47","v":"الواجب"},null,{"$f":"C59","v":0.99519230769230771},{"$f":"D59","v":4.8076923076923045E-3},{"$f":"E59","v":0.8557913817663817}]
[{"$f":"C60","v":"المشاركة"},null,{"$f":"C72","v":0.95192307692307687},{"$f":"D72","v":4.8076923076923073E-2},{"$f":"E72","v":0.78866904083570755}]
[{"$f":"C75","v":"المشروع"},null,{"$f":"C87","v":0.99519230769230771},{"$f":"D87","v":4.8076923076923045E-3},0.79875943732193722]
[{"$f":"C88","v":"Exam"},null,{"$f":"C100","v":0.84685298497798489},{"$f":"D100","v":0.15314701502201503},{"$f":"E100","v":0.61638240093240082}]

{"sheet":"9-1","index":19,"n_rows":31,"n_cols":24,"rows_kept":31,"cut":false,"hidden":false,"merged":[[0,0,0,16],[1,0,2,0],[1,1,2,1],[1,16,2,16],[1,18,1,23],[2,19,2,20],[2,22,2,23],[19,18,20,19],[19,20,20,20],[3,23,7,23],[8,23,10,23],[11,18,11,20],[11,22,11,23],[12,18,12,20],[12,22,12,23]]}
["Grade (9-1) كشف درجات الطلاب  "]
["م","اسم الطالب","Quiz1","Quiz2","Quiz3","Quiz4","Quiz5","Quizzes","الواجب","المشاركة","المشروع","Total","Exam","Final","Percent","Rank","التقدير",null,"تحليل النتائج على حسب التقدير"]
[null,null,5,5,5,5,"درجة5",50,25,15,10,100,100,22.5,"(%)","الترتيب",null,null,"التقدير","المجال",null,"عدد الطلاب","النسبة"]
[1,"احمد محمد احمد البوعفره الكوارى",3,3,3,3,null,{"$f":"IF(AND(C4=\"\",D4=\"\",E4=\"\",F4=\"\",G4=\"\"),\"غ\",$H$3*SUM(C4:G4)/SUM($C$3:$G$3))","v":30},20,10,8,{"$f":"IF(AND(C4=\"\",D4=\"\",E4=\"\",F4=\"\",G4=\"\",I4=\"\",J4=\"\",K4=\"\"),\"غ\",SUM(H4:K4))","v":68},46,{"$f":"IF(M4=\"\",\"غ\",IF(L4=\"غ\",M4*0.2,SUM(L4*2.5/$L$3,M4*0.2)))","v":10.9},{"$f":"IF(N4=\"غ\",\"غ\",N4*100/$N$3/100)","v":0.48444444444444446},{"$f":"IF(AND(O4=\"غ\"),\"غ\",RANK(O4,$O$4:$O$30)+COUNTIF(O$4:O4,O4)-1)","v":16},{"$f":"IF(O4=\"غ\",\"غ\",IF(O4>=90%,\"ممتاز\",IF(O4>=80%,\"جيد جداً\",IF(O4>=70%,\"جيد\",IF(O4>=60%,\"فوق المتوسط\",IF(O4>=50%,\"متوسط\",IF(O4>=40%,\"دون المتوسط\",IF(O4>=30%,\"ضعيف\",\"دون الضعيف جداً\"))))))))","v":"دون المتوسط"},null,"ممتاز"," ≥ 90","A+",{"$f":"COUNTIF(Q4:Q30,\"ممتاز\")","v":0},{"$f":"(V4/$V$12)","v":0},{"$f":"SUM(W4:W8)","v":0.63636363636363635}]
[2,"تركي عبد الهادي الماجد",2.5,null,2.5,3,null,{"$f":"IF(AND(C5=\"\",D5=\"\",E5=\"\",F5=\"\",G5=\"\"),\"غ\",$H$3*SUM(C5:G5)/SUM($C$3:$G$3))","v":20},21,11,8,{"$f":"IF(AND(C5=\"\",D5=\"\",E5=\"\",F5=\"\",G5=\"\",I5=\"\",J5=\"\",K5=\"\"),\"غ\",SUM(H5:K5))","v":60},60,{"$f":"IF(M5=\"\",\"غ\",IF(L5=\"غ\",M5*0.2,SUM(L5*2.5/$L$3,M5*0.2)))","v":13.5},{"$f":"IF(N5=\"غ\",\"غ\",N5*100/$N$3/100)","v":0.6},{"$f":"IF(AND(O5=\"غ\"),\"غ\",RANK(O5,$O$4:$O$30)+COUNTIF(O$4:O5,O5)-1)","v":8},{"$f":"IF(O5=\"غ\",\"غ\",IF(O5>=90%,\"ممتاز\",IF(O5>=80%,\"جيد جداً\",IF(O5>=70%,\"جيد\",IF(O5>=60%,\"فوق المتوسط\",IF(O5>=50%,\"متوسط\",IF(O5>=40%,\"دون المتوسط\",IF(O5>=30%,\"ضعيف\",\"دون الضعيف جداً\"))))))))","v":"فوق المتوسط"},null,"جيد جداً","≥ 80","A",{"$f":"COUNTIF(Q4:Q30,\"جيد جداً\")","v":0},0]
[3,"جمعه حمد علي جمعه الكعبى",1.5,null,1.5,3,null,15,21,11,9,56,68,15.000000000000002,0.66666666666666674,{"$f":"IF(AND(O6=\"غ\"),\"غ\",RANK(O6,$O$4:$O$30)+COUNTIF(O$4:O6,O6)-1)","v":4},"فوق المتوسط",null,"جيد","≥ 70","B+",{"$f":"COUNTIF(Q4:Q30,\"جيد\")","v":2},9.0909090909090912E-2]
[4,"حسن ناصر حسن نصرالله عبدالقادر",3.5,3.5,3.5,3.5,null,35,22,12,9,78,70,15.95,0.7088888888888889,{"$f":"IF(AND(O7=\"غ\"),\"غ\",RANK(O7,$O$4:$O$30)+COUNTIF(O$4:O7,O7)-1)","v":2},"جيد",null,"فوق المتوسط","≥ 60","B",{"$f":"COUNTIF(Q4:Q30,\"فوق المتوسط\")","v":6},0.27272727272727271]
[5,"حسن يوسف علي ميرزا جوهر",3.5,4,3.5,4,null,37.5,20,11,9,77.5,56.000000000000007,13.137500000000003,0.58388888888888901,{"$f":"IF(AND(O8=\"غ\"),\"غ\",RANK(O8,$O$4:$O$30)+COUNTIF(O$4:O8,O8)-1)","v":9},"متوسط",null,"متوسط","≥ 50","C",{"$f":"COUNTIF(Q4:Q30,\"متوسط\")","v":6},0.27272727272727271]
[6,"حسين علي حسين محمد هيثم",null,null,null,null,null,"غ",19,11,7,37,52,11.325000000000001,0.50333333333333341,{"$f":"IF(AND(O9=\"غ\"),\"غ\",RANK(O9,$O$4:$O$30)+COUNTIF(O$4:O9,O9)-1)","v":14},"متوسط",null,"دون المتوسط","≥ 40","D",{"$f":"COUNTIF(Q4:Q30,\"دون المتوسط\")","v":8},0.36363636363636365,{"$f":"SUM(W9:W11)","v":0.36363636363636365}]
[7,"حمد راشد حمد غزوان الكعبى",null,null,null,null,null,"غ",18,10,7,35,"","غ","غ",{"$f":"IF(AND(O10=\"غ\"),\"غ\",RANK(O10,$O$4:$O$30)+COUNTIF(O$4:O10,O10)-1)","v":"غ"},"غ",null,"ضعيف","≥ 30","E",{"$f":"COUNTIF(Q4:Q30,\"ضعيف\")","v":0},0]
[8,"حمد شاهين سالم ال مرشد الكوارى",null,4,null,4,null,20,20,11,9,60,44,10.3,0.45777777777777778,{"$f":"IF(AND(O11=\"غ\"),\"غ\",RANK(O11,$O$4:$O$30)+COUNTIF(O$4:O11,O11)-1)","v":19},"دون المتوسط",null,"دون الضعيف جداً","< 30","F",{"$f":"COUNTIF(Q4:Q30,\"دون الضعيف جداً\")","v":0},0]
[9,"حمد عيسى عبدالرحمن يوسف السبيعى",null,null,null,null,null,"غ",18,8,7,33,"","غ","غ",{"$f":"IF(AND(O12=\"غ\"),\"غ\",RANK(O12,$O$4:$O$30)+COUNTIF(O$4:O12,O12)-1)","v":"غ"},"غ",null,"عدد الطلاب الذي تم اختبارهم",null,null,{"$f":"SUM(V4:V11)","v":22},{"$f":"V12/SUM(V12:V13)","v":0.88}]
[10,"حمد ناصر ابراهيم محمد الصائغ",1.5,3,1.5,3,null,22.5,20,11,9,62.5,66,14.762500000000001,0.65611111111111109,{"$f":"IF(AND(O13=\"غ\"),\"غ\",RANK(O13,$O$4:$O$30)+COUNTIF(O$4:O13,O13)-1)","v":5},"فوق المتوسط",null,"عدد الطلاب الغائبين",null,null,{"$f":"COUNTA(B4:B30)-V12","v":3},{"$f":"V13/SUM(V12:V13)","v":0.12}]
[11,"خالد عايد عجاج الفدعانى العنزى",null,null,null,3,null,7.5,21,11,9,48.5,62,13.612500000000001,0.60499999999999998,{"$f":"IF(AND(O14=\"غ\"),\"غ\",RANK(O14,$O$4:$O$30)+COUNTIF(O$4:O14,O14)-1)","v":7},"فوق المتوسط"]
[12,"خالد عبدالحميد صالح الحميرى اليافعى",1.5,4,1.5,4,null,27.5,21,11,9,68.5,52,12.112500000000001,0.53833333333333333,{"$f":"IF(AND(O15=\"غ\"),\"غ\",RANK(O15,$O$4:$O$30)+COUNTIF(O$4:O15,O15)-1)","v":13},"متوسط",null,"الطلاب","العدد","النسبة"]
[13,"سعيد حمد سعيد جابر عفيفه",null,null,null,null,null,"غ",null,null,null,"غ","","غ","غ",{"$f":"IF(AND(O16=\"غ\"),\"غ\",RANK(O16,$O$4:$O$30)+COUNTIF(O$4:O16,O16)-1)","v":"غ"},"غ",null,"الناجحين",{"$f":"SUM(V4:V8)","v":14},{"$f":"X4","v":0.63636363636363635}]
[14,"عبدالعزيز حسن محمد هندى الكعبى",1.5,2,1.5,2,null,17.5,19,10,8,54.5,44,10.162500000000001,0.45166666666666672,{"$f":"IF(AND(O17=\"غ\"),\"غ\",RANK(O17,$O$4:$O$30)+COUNTIF(O$4:O17,O17)-1)","v":21},"دون المتوسط",null,"الراسبين",{"$f":"SUM(V9:V11)","v":8},{"$f":"X9","v":0.36363636363636365}]
[15,"عبدالعزيز محمد عبدالله محمد المنصورى",2.5,2,2.5,2,null,22.5,16,9,7,54.5,46,10.562500000000002,0.46944444444444455,{"$f":"IF(AND(O18=\"غ\"),\"غ\",RANK(O18,$O$4:$O$30)+COUNTIF(O$4:O18,O18)-1)","v":17},"دون المتوسط",null,"المجموع",{"$f":"SUM(T16:T17)","v":22},{"$f":"SUM(U16:U17)","v":1}]
[16,"عبدالله جاسم محمد عبدالله الكعبى",null,4,null,4,null,20,21,12,9,62,70,15.55,0.69111111111111112,{"$f":"IF(AND(O19=\"غ\"),\"غ\",RANK(O19,$O$4:$O$30)+COUNTIF(O$4:O19,O19)-1)","v":3},"فوق المتوسط"]
[17,"عبدالله عيسى عبدالله عيسى المسلم",null,2,null,2,null,10,16,9,6,41,46,10.225000000000001,0.45444444444444448,{"$f":"IF(AND(O20=\"غ\"),\"غ\",RANK(O20,$O$4:$O$30)+COUNTIF(O$4:O20,O20)-1)","v":20},"دون المتوسط",null,"التحصيل الأكاديمي",null,{"$f":"AVERAGE(M4:M30)/M$3","v":0.55681818181818177}]
[18,"عيسى علي راشد جمعه الكبيسى",4,3,4,3,null,35,23,12,9,79,72,16.375,0.72777777777777775,{"$f":"IF(AND(O21=\"غ\"),\"غ\",RANK(O21,$O$4:$O$30)+COUNTIF(O$4:O21,O21)-1)","v":1},"جيد"]
[19,"فهد طلال فهد العرجانى العجمى",1.5,3,1.5,3,null,22.5,19,11,8,60.5,56.000000000000007,12.712500000000002,0.56500000000000006,{"$f":"IF(AND(O22=\"غ\"),\"غ\",RANK(O22,$O$4:$O$30)+COUNTIF(O$4:O22,O22)-1)","v":11},"متوسط"]
[20,"مبارك ناصر عبدالله العطشان السليطى",null,null,null,null,null,"غ",19,11,8,38,50,10.95,0.48666666666666664,{"$f":"IF(AND(O23=\"غ\"),\"غ\",RANK(O23,$O$4:$O$30)+COUNTIF(O$4:O23,O23)-1)","v":15},"دون المتوسط"]
[21,"محمد هلال سالم ال مرشد الكوارى",null,4,null,4,null,20,18,10,7,55,56.000000000000007,12.575000000000003,0.55888888888888899,{"$f":"IF(AND(O24=\"غ\"),\"غ\",RANK(O24,$O$4:$O$30)+COUNTIF(O$4:O24,O24)-1)","v":12},"متوسط",null,"الفرع","الناجحين","الراسبين","التحصيل"]
[22,"محمد يوسف حسن جابر الحسن",null,1,null,1,null,5,21,11,9,46,46,10.350000000000001,0.46000000000000008,{"$f":"IF(AND(O25=\"غ\"),\"غ\",RANK(O25,$O$4:$O$30)+COUNTIF(O$4:O25,O25)-1)","v":18},"دون المتوسط",null,{"$f":"H2","v":"Quizzes"},{"$f":"COUNTIF(H4:H30,\">=\"&H$3/2)/COUNT(H4:H30)","v":0.36842105263157893},{"$f":"IF(T25=\"\",\"\",100%-T25)","v":0.63157894736842102},{"$f":"IF($U25=\"\",\"\",AVERAGE(H4:H30)/H$3)","v":0.44473684210526315}]
[23,"منصور عيد الهاجري",null,null,null,null,null,"غ",21,11,9,41,60,13.025,0.5788888888888889,{"$f":"IF(AND(O26=\"غ\"),\"غ\",RANK(O26,$O$4:$O$30)+COUNTIF(O$4:O26,O26)-1)","v":10},"متوسط",null,{"$f":"I2","v":"الواجب"},{"$f":"COUNTIF(I4:I30,\">=\"&I$3/2)/COUNT(I4:I30)","v":1},0,{"$f":"IF($U26=\"\",\"\",AVERAGE(I4:I30)/I$3)","v":0.77833333333333332}]
[24,"ناصر مقبل السبيعي",2,3,2,3,null,25,15,9,6,55,40,9.375,0.41666666666666663,{"$f":"IF(AND(O27=\"غ\"),\"غ\",RANK(O27,$O$4:$O$30)+COUNTIF(O$4:O27,O27)-1)","v":22},"دون المتوسط",null,{"$f":"J2","v":"المشاركة"},{"$f":"COUNTIF(J4:J30,\">=\"&J$3/2)/COUNT(J4:J30)","v":1},0,{"$f":"IF($U27=\"\",\"\",AVERAGE(J4:J30)/J$3)","v":0.7}]
[25,"هلال محمد هلال الهجن النعيمى",2,4,2,4,null,30,18,9,7,64,63,14.200000000000001,0.63111111111111118,{"$f":"IF(AND(O28=\"غ\"),\"غ\",RANK(O28,$O$4:$O$30)+COUNTIF(O$4:O28,O28)-1)","v":6},"فوق المتوسط",null,{"$f":"K2","v":"المشروع"},{"$f":"COUNTIF(K4:K30,\">=\"&K$3/2)/COUNT(K4:K30)","v":1},0,{"$f":"IF($U28=\"\",\"\",AVERAGE(K4:K30)/K$3)","v":0.80416666666666659}]
[null,null,null,null,null,null,null,null,null,null,null,null,"",null,null,null,null,null,{"$f":"M2","v":"Exam"},{"$f":"COUNTIF(M4:M30,\">=\"&M$3/2)/COUNT(M4:M30)","v":0.68181818181818177},0.31818181818181823,{"$f":"IF($U29=\"\",\"\",AVERAGE(M4:M30)/M$3)","v":0.55681818181818177}]
[null,null,null,null,null,null,null,null,null,null,null,null,""]
[null,null,null,null,null,null,null,null,null,null,null,null,""]

{"sheet":"9-2","index":20,"n_rows":31,"n_cols":24,"rows_kept":31,"cut":false,"hidden":false,"merged":[[0,0,0,16],[1,0,2,0],[1,1,2,1],[1,16,2,16],[1,18,1,23],[2,19,2,20],[2,22,2,23],[19,18,20,19],[19,20,20,20],[3,23,7,23],[8,23,10,23],[11,18,11,20],[11,22,11,23],[12,18,12,20],[12,22,12,23]]}
["Grade (9-2) كشف درجات الطلاب  "]
["م","اسم الطالب","Quiz1","Quiz2","Quiz3","Quiz4","Quiz5","Quizzes","الواجب","المشاركة","المشروع","Total","Exam","Final","Percent","Rank","التقدير",null,"تحليل النتائج على حسب التقدير"]
[null,null,5,5,5,5,"درجة5",50,25,15,10,100,100,22.5,"(%)","الترتيب",null,null,"التقدير","المجال",null,"عدد الطلاب","النسبة"]
[1,"احمد عيسى محمود احمد العبدالله",2.5,4,3,4,null,{"$f":"IF(AND(C4=\"\",D4=\"\",E4=\"\",F4=\"\",G4=\"\"),\"غ\",$H$3*SUM(C4:G4)/SUM($C$3:$G$3))","v":33.75},21,11,9,{"$f":"IF(AND(C4=\"\",D4=\"\",E4=\"\",F4=\"\",G4=\"\",I4=\"\",J4=\"\",K4=\"\"),\"غ\",SUM(H4:K4))","v":74.75},74,{"$f":"IF(M4=\"\",\"غ\",IF(L4=\"غ\",M4*0.2,SUM(L4*2.5/$L$3,M4*0.2)))","v":16.668749999999999},{"$f":"IF(N4=\"غ\",\"غ\",N4*100/$N$3/100)","v":0.74083333333333323},{"$f":"IF(AND(O4=\"غ\"),\"غ\",RANK(O4,$O$4:$O$30)+COUNTIF(O$4:O4,O4)-1)","v":3},{"$f":"IF(O4=\"غ\",\"غ\",IF(O4>=90%,\"ممتاز\",IF(O4>=80%,\"جيد جداً\",IF(O4>=70%,\"جيد\",IF(O4>=60%,\"فوق المتوسط\",IF(O4>=50%,\"متوسط\",IF(O4>=40%,\"دون المتوسط\",IF(O4>=30%,\"ضعيف\",\"دون الضعيف جداً\"))))))))","v":"جيد"},null,"ممتاز"," ≥ 90","A+",{"$f":"COUNTIF(Q4:Q30,\"ممتاز\")","v":0},{"$f":"(V4/$V$12)","v":0},{"$f":"SUM(W4:W8)","v":0.88000000000000012}]
[2,"احمد فيروز جمعه خميس الجبر",1.5,null,1.5,null,null,{"$f":"IF(AND(C5=\"\",D5=\"\",E5=\"\",F5=\"\",G5=\"\"),\"غ\",$H$3*SUM(C5:G5)/SUM($C$3:$G$3))","v":7.5},18,10,6,{"$f":"IF(AND(C5=\"\",D5=\"\",E5=\"\",F5=\"\",G5=\"\",I5=\"\",J5=\"\",K5=\"\"),\"غ\",SUM(H5:K5))","v":41.5},68,{"$f":"IF(M5=\"\",\"غ\",IF(L5=\"غ\",M5*0.2,SUM(L5*2.5/$L$3,M5*0.2)))","v":14.637500000000001},{"$f":"IF(N5=\"غ\",\"غ\",N5*100/$N$3/100)","v":0.65055555555555555},{"$f":"IF(AND(O5=\"غ\"),\"غ\",RANK(O5,$O$4:$O$30)+COUNTIF(O$4:O5,O5)-1)","v":10},{"$f":"IF(O5=\"غ\",\"غ\",IF(O5>=90%,\"ممتاز\",IF(O5>=80%,\"جيد جداً\",IF(O5>=70%,\"جيد\",IF(O5>=60%,\"فوق المتوسط\",IF(O5>=50%,\"متوسط\",IF(O5>=40%,\"دون المتوسط\",IF(O5>=30%,\"ضعيف\",\"دون الضعيف جداً\"))))))))","v":"فوق المتوسط"},null,"جيد جداً","≥ 80","A",{"$f":"COUNTIF(Q4:Q30,\"جيد جداً\")","v":0},0]
[3,"احمد ناصر صالح احمد الخلاقى",3.5,3.5,3,4,null,35,23,12,9,79,80,17.975000000000001,0.79888888888888898,{"$f":"IF(AND(O6=\"غ\"),\"غ\",RANK(O6,$O$4:$O$30)+COUNTIF(O$4:O6,O6)-1)","v":1},"جيد",null,"جيد","≥ 70","B+",{"$f":"COUNTIF(Q4:Q30,\"جيد\")","v":5},0.2]
[4,"تركى ناصر فرج مبارك العلي",4,1,2,2,null,22.5,18,10,6,56.5,62,13.8125,0.61388888888888882,{"$f":"IF(AND(O7=\"غ\"),\"غ\",RANK(O7,$O$4:$O$30)+COUNTIF(O$4:O7,O7)-1)","v":13},"فوق المتوسط",null,"فوق المتوسط","≥ 60","B",{"$f":"COUNTIF(Q4:Q30,\"فوق المتوسط\")","v":9},0.36]
[5,"جابر احمد جابر الجهام الكوارى",null,2,null,2,null,10,19,11,7,47,60,13.175000000000001,0.58555555555555561,{"$f":"IF(AND(O8=\"غ\"),\"غ\",RANK(O8,$O$4:$O$30)+COUNTIF(O$4:O8,O8)-1)","v":17},"متوسط",null,"متوسط","≥ 50","C",{"$f":"COUNTIF(Q4:Q30,\"متوسط\")","v":8},0.32]
[6,"حمد محمد دهام فرج السويدى",2,3,3,3,null,27.5,20,12,8,67.5,46,10.887500000000001,0.48388888888888887,{"$f":"IF(AND(O9=\"غ\"),\"غ\",RANK(O9,$O$4:$O$30)+COUNTIF(O$4:O9,O9)-1)","v":23},"دون المتوسط",null,"دون المتوسط","≥ 40","D",{"$f":"COUNTIF(Q4:Q30,\"دون المتوسط\")","v":3},0.12,{"$f":"SUM(W9:W11)","v":0.12}]
[7,"حمد محمد منصر الجبرى",null,3.5,null,3.5,null,17.5,18,9,7,51.5,54,12.0875,0.53722222222222227,{"$f":"IF(AND(O10=\"غ\"),\"غ\",RANK(O10,$O$4:$O$30)+COUNTIF(O$4:O10,O10)-1)","v":21},"متوسط",null,"ضعيف","≥ 30","E",{"$f":"COUNTIF(Q4:Q30,\"ضعيف\")","v":0},0]
[8,"خالد محمد هلال حسين ابوحدود",1.5,null,2,2,null,13.75,18,10,7,48.75,40,9.21875,0.40972222222222221,{"$f":"IF(AND(O11=\"غ\"),\"غ\",RANK(O11,$O$4:$O$30)+COUNTIF(O$4:O11,O11)-1)","v":25},"دون المتوسط",null,"دون الضعيف جداً","< 30","F",{"$f":"COUNTIF(Q4:Q30,\"دون الضعيف جداً\")","v":0},0]
[9,"راشد ناصر راشد سعيد الشهرانى",1,5,3,4,null,32.5,20,11,8,71.5,60,13.7875,0.61277777777777775,{"$f":"IF(AND(O12=\"غ\"),\"غ\",RANK(O12,$O$4:$O$30)+COUNTIF(O$4:O12,O12)-1)","v":14},"فوق المتوسط",null,"عدد الطلاب الذي تم اختبارهم",null,null,{"$f":"SUM(V4:V11)","v":25},{"$f":"V12/SUM(V12:V13)","v":0.96153846153846156}]
[10,"سعد علي سعد بونجوم السليطى",2.5,1,2,2,null,18.75,18,9,8,53.75,40,9.34375,0.4152777777777778,{"$f":"IF(AND(O13=\"غ\"),\"غ\",RANK(O13,$O$4:$O$30)+COUNTIF(O$4:O13,O13)-1)","v":24},"دون المتوسط",null,"عدد الطلاب الغائبين",null,null,{"$f":"COUNTA(B4:B30)-V12","v":1},{"$f":"V13/SUM(V12:V13)","v":3.8461538461538464E-2}]
[11,"سعود خليفه فرج مبارك العلى",null,null,null,null,null,"غ",null,null,null,"غ","","غ","غ",{"$f":"IF(AND(O14=\"غ\"),\"غ\",RANK(O14,$O$4:$O$30)+COUNTIF(O$4:O14,O14)-1)","v":"غ"},"غ"]
[12,"سعود وليد عبدالله صالح دويسان",null,2.5,null,2.5,null,12.5,22,12,9,55.5,66,14.5875,0.64833333333333332,{"$f":"IF(AND(O15=\"غ\"),\"غ\",RANK(O15,$O$4:$O$30)+COUNTIF(O$4:O15,O15)-1)","v":11},"فوق المتوسط",null,"الطلاب","العدد","النسبة"]
[13,"سلمان ابراهيم عبدالله سعد المناعى",3.5,1,3,2,null,23.75,19,10,7,59.75,52,11.893750000000001,0.52861111111111114,{"$f":"IF(AND(O16=\"غ\"),\"غ\",RANK(O16,$O$4:$O$30)+COUNTIF(O$4:O16,O16)-1)","v":22},"متوسط",null,"الناجحين",{"$f":"SUM(V4:V8)","v":22},{"$f":"X4","v":0.88000000000000012}]
[14,"صالح عقيل احمد محمد احمد",1,2,1,2,null,15,19,10,7,51,60,13.275,0.59,{"$f":"IF(AND(O17=\"غ\"),\"غ\",RANK(O17,$O$4:$O$30)+COUNTIF(O$4:O17,O17)-1)","v":15},"متوسط",null,"الراسبين",{"$f":"SUM(V9:V11)","v":3},{"$f":"X9","v":0.12}]
[15,"عبد العزيز علي مبارك سعيد المهندي",null,null,null,null,null,"غ",16,8,6,30,57.999999999999993,12.35,0.54888888888888887,{"$f":"IF(AND(O18=\"غ\"),\"غ\",RANK(O18,$O$4:$O$30)+COUNTIF(O$4:O18,O18)-1)","v":20},"متوسط",null,"المجموع",{"$f":"SUM(T16:T17)","v":25},{"$f":"SUM(U16:U17)","v":1}]
[16,"عبدالعزيز مبارك خميس عبدالله العلي",null,4,null,4,null,20,16,8,7,51,68,14.875000000000002,0.66111111111111109,{"$f":"IF(AND(O19=\"غ\"),\"غ\",RANK(O19,$O$4:$O$30)+COUNTIF(O$4:O19,O19)-1)","v":9},"فوق المتوسط"]
[17,"عبدالعزيز محمد يوسف سهل السهل",1.5,3,1.5,3,null,22.5,19,11,8,60.5,72,15.9125,0.70722222222222231,{"$f":"IF(AND(O20=\"غ\"),\"غ\",RANK(O20,$O$4:$O$30)+COUNTIF(O$4:O20,O20)-1)","v":5},"جيد",null,"التحصيل الأكاديمي",null,{"$f":"AVERAGE(M4:M30)/M$3","v":0.62159999999999993}]
[18,"عبدالله ابراهيم احمد علي الانصارى",null,4,null,4,null,20,20,10,8,58,68,15.05,0.66888888888888887,{"$f":"IF(AND(O21=\"غ\"),\"غ\",RANK(O21,$O$4:$O$30)+COUNTIF(O$4:O21,O21)-1)","v":8},"فوق المتوسط"]
[19,"عبدالله وحيد خميس جمعه العبدالله",4,4,4,4,null,40,18,10,6,74,54,12.65,0.56222222222222218,{"$f":"IF(AND(O22=\"غ\"),\"غ\",RANK(O22,$O$4:$O$30)+COUNTIF(O$4:O22,O22)-1)","v":19},"متوسط"]
[20,"فهد مرشد شاهين ال مرشد الكوارى",4,3,4,3,null,35,18,9,6,68,68,15.3,0.68,{"$f":"IF(AND(O23=\"غ\"),\"غ\",RANK(O23,$O$4:$O$30)+COUNTIF(O$4:O23,O23)-1)","v":7},"فوق المتوسط"]
[21,"مبارك عبدالله مبارك الجباره الرميحى",null,null,null,null,null,"غ",21,11,9,41,80,17.024999999999999,0.7566666666666666,{"$f":"IF(AND(O24=\"غ\"),\"غ\",RANK(O24,$O$4:$O$30)+COUNTIF(O$4:O24,O24)-1)","v":2},"جيد",null,"الفرع","الناجحين","الراسبين","التحصيل"]
[22,"محمد احمد سعد ال سعد الكوارى",3,4,3,4,null,35,23,12,9,79,68,15.575000000000001,0.69222222222222229,{"$f":"IF(AND(O25=\"غ\"),\"غ\",RANK(O25,$O$4:$O$30)+COUNTIF(O$4:O25,O25)-1)","v":6},"فوق المتوسط",null,{"$f":"H2","v":"Quizzes"},{"$f":"COUNTIF(H4:H30,\">=\"&H$3/2)/COUNT(H4:H30)","v":0.34782608695652173},{"$f":"IF(T25=\"\",\"\",100%-T25)","v":0.65217391304347827},{"$f":"IF($U25=\"\",\"\",AVERAGE(H4:H30)/H$3)","v":0.45217391304347826}]
[23,"محمد صالح صلاح",1.5,1,1.5,1,null,12.5,20,9,7,48.5,64,14.012500000000001,0.62277777777777776,{"$f":"IF(AND(O26=\"غ\"),\"غ\",RANK(O26,$O$4:$O$30)+COUNTIF(O$4:O26,O26)-1)","v":12},"فوق المتوسط",null,{"$f":"I2","v":"الواجب"},{"$f":"COUNTIF(I4:I30,\">=\"&I$3/2)/COUNT(I4:I30)","v":1},0,{"$f":"IF($U26=\"\",\"\",AVERAGE(I4:I30)/I$3)","v":0.77599999999999991}]
[24,"محمد عبدالله باجهدوم",null,0,null,0,null,0,18,9,7,34,62,13.25,0.58888888888888891,{"$f":"IF(AND(O27=\"غ\"),\"غ\",RANK(O27,$O$4:$O$30)+COUNTIF(O$4:O27,O27)-1)","v":16},"متوسط",null,{"$f":"J2","v":"المشاركة"},{"$f":"COUNTIF(J4:J30,\">=\"&J$3/2)/COUNT(J4:J30)","v":1},0,{"$f":"IF($U27=\"\",\"\",AVERAGE(J4:J30)/J$3)","v":0.68533333333333324}]
[25,"محمد يوسف علي محمد الملك",2.5,1.5,2.5,1.5,null,20,21,11,9,61,57.999999999999993,13.125,0.58333333333333337,{"$f":"IF(AND(O28=\"غ\"),\"غ\",RANK(O28,$O$4:$O$30)+COUNTIF(O$4:O28,O28)-1)","v":18},"متوسط",null,{"$f":"K2","v":"المشروع"},{"$f":"COUNTIF(K4:K30,\">=\"&K$3/2)/COUNT(K4:K30)","v":1},0,{"$f":"IF($U28=\"\",\"\",AVERAGE(K4:K30)/K$3)","v":0.75600000000000001}]
[26,"نعيم عصام أبو ناهية",4.5,4.5,4.5,4.5,null,{"$f":"IF(AND(C29=\"\",D29=\"\",E29=\"\",F29=\"\",G29=\"\"),\"غ\",$H$3*SUM(C29:G29)/SUM($C$3:$G$3))","v":45},22,12,9,{"$f":"IF(AND(C29=\"\",D29=\"\",E29=\"\",F29=\"\",G29=\"\",I29=\"\",J29=\"\",K29=\"\"),\"غ\",SUM(H29:K29))","v":88},72,{"$f":"IF(M29=\"\",\"غ\",IF(L29=\"غ\",M29*0.2,SUM(L29*2.5/$L$3,M29*0.2)))","v":16.600000000000001},0.73777777777777787,{"$f":"IF(AND(O29=\"غ\"),\"غ\",RANK(O29,$O$4:$O$30)+COUNTIF(O$4:O29,O29)-1)","v":4},{"$f":"IF(O29=\"غ\",\"غ\",IF(O29>=90%,\"ممتاز\",IF(O29>=80%,\"جيد جداً\",IF(O29>=70%,\"جيد\",IF(O29>=60%,\"فوق المتوسط\",IF(O29>=50%,\"متوسط\",IF(O29>=40%,\"دون المتوسط\",IF(O29>=30%,\"ضعيف\",\"دون الضعيف جداً\"))))))))","v":"جيد"},null,{"$f":"M2","v":"Exam"},{"$f":"COUNTIF(M4:M30,\">=\"&M$3/2)/COUNT(M4:M30)","v":0.88},0.12,{"$f":"IF($U29=\"\",\"\",AVERAGE(M4:M30)/M$3)","v":0.62159999999999993}]
[null,null,null,null,null,null,null,null,null,null,null,null,""]
[null,null,null,null,null,null,null,null,null,null,null,null,""]

{"sheet":"9-3","index":21,"n_rows":31,"n_cols":24,"rows_kept":31,"cut":false,"hidden":false,"merged":[[0,0,0,16],[1,0,2,0],[1,1,2,1],[1,16,2,16],[1,18,1,23],[2,19,2,20],[2,22,2,23],[19,18,20,19],[19,20,20,20],[3,23,7,23],[8,23,10,23],[11,18,11,20],[11,22,11,23],[12,18,12,20],[12,22,12,23]]}
["Grade (9-3) كشف درجات الطلاب  "]
["م","اسم الطالب","Quiz1","Quiz2","Quiz3","Quiz4","Quiz5","Quizzes","الواجب","المشاركة","المشروع","Total","Exam","Final","Percent","Rank","التقدير",null,"تحليل النتائج على حسب التقدير"]
[null,null,5,5,5,5,"درجة5",50,25,15,10,100,100,22.5,"(%)","الترتيب",null,null,"التقدير","المجال",null,"عدد الطلاب","النسبة"]
[1,"ابراهيم احمد سيد مهتاب الدين احمد",4,5,4,5,null,{"$f":"IF(AND(C4=\"\",D4=\"\",E4=\"\",F4=\"\",G4=\"\"),\"غ\",$H$3*SUM(C4:G4)/SUM($C$3:$G$3))","v":45},22,13,9,{"$f":"IF(AND(C4=\"\",D4=\"\",E4=\"\",F4=\"\",G4=\"\",I4=\"\",J4=\"\",K4=\"\"),\"غ\",SUM(H4:K4))","v":89},89,{"$f":"IF(M4=\"\",\"غ\",IF(L4=\"غ\",M4*0.2,SUM(L4*2.5/$L$3,M4*0.2)))","v":20.025000000000002},{"$f":"IF(N4=\"غ\",\"غ\",N4*100/$N$3/100)","v":0.89000000000000012},{"$f":"IF(AND(O4=\"غ\"),\"غ\",RANK(O4,$O$4:$O$30)+COUNTIF(O$4:O4,O4)-1)","v":2},{"$f":"IF(O4=\"غ\",\"غ\",IF(O4>=90%,\"ممتاز\",IF(O4>=80%,\"جيد جداً\",IF(O4>=70%,\"جيد\",IF(O4>=60%,\"فوق المتوسط\",IF(O4>=50%,\"متوسط\",IF(O4>=40%,\"دون المتوسط\",IF(O4>=30%,\"ضعيف\",\"دون الضعيف جداً\"))))))))","v":"جيد جداً"},null,"ممتاز"," ≥ 90","A+",{"$f":"COUNTIF(Q4:Q30,\"ممتاز\")","v":0},{"$f":"(V4/$V$12)","v":0},{"$f":"SUM(W4:W8)","v":1}]
[2,"ابراهيم سعيد ابراهيم محمد صالح",4.5,4,4.5,4,null,{"$f":"IF(AND(C5=\"\",D5=\"\",E5=\"\",F5=\"\",G5=\"\"),\"غ\",$H$3*SUM(C5:G5)/SUM($C$3:$G$3))","v":42.5},22,13,9,{"$f":"IF(AND(C5=\"\",D5=\"\",E5=\"\",F5=\"\",G5=\"\",I5=\"\",J5=\"\",K5=\"\"),\"غ\",SUM(H5:K5))","v":86.5},75,{"$f":"IF(M5=\"\",\"غ\",IF(L5=\"غ\",M5*0.2,SUM(L5*2.5/$L$3,M5*0.2)))","v":17.162500000000001},{"$f":"IF(N5=\"غ\",\"غ\",N5*100/$N$3/100)","v":0.76277777777777789},{"$f":"IF(AND(O5=\"غ\"),\"غ\",RANK(O5,$O$4:$O$30)+COUNTIF(O$4:O5,O5)-1)","v":25},{"$f":"IF(O5=\"غ\",\"غ\",IF(O5>=90%,\"ممتاز\",IF(O5>=80%,\"جيد جداً\",IF(O5>=70%,\"جيد\",IF(O5>=60%,\"فوق المتوسط\",IF(O5>=50%,\"متوسط\",IF(O5>=40%,\"دون المتوسط\",IF(O5>=30%,\"ضعيف\",\"دون الضعيف جداً\"))))))))","v":"جيد"},null,"جيد جداً","≥ 80","A",{"$f":"COUNTIF(Q4:Q30,\"جيد جداً\")","v":21},0.80769230769230771]
[3,"احمد عاطف محمد محمود عمار",3,5,3,5,null,40,23,13,9,85,90,20.125,0.89444444444444438,{"$f":"IF(AND(O6=\"غ\"),\"غ\",RANK(O6,$O$4:$O$30)+COUNTIF(O$4:O6,O6)-1)","v":1},"جيد جداً",null,"جيد","≥ 70","B+",{"$f":"COUNTIF(Q4:Q30,\"جيد\")","v":4},0.15384615384615385]
[4,"بهاء ممدوح عبدالفاضل  الليثي",5,5,5,5,null,50,23,14,9,96,82,18.8,0.83555555555555561,{"$f":"IF(AND(O7=\"غ\"),\"غ\",RANK(O7,$O$4:$O$30)+COUNTIF(O$4:O7,O7)-1)","v":11},"جيد جداً",null,"فوق المتوسط","≥ 60","B",{"$f":"COUNTIF(Q4:Q30,\"فوق المتوسط\")","v":1},3.8461538461538464E-2]
[5,"حسام ايت القاضي",5,5,5,5,null,50,23,14,9,96,82,18.8,0.83555555555555561,{"$f":"IF(AND(O8=\"غ\"),\"غ\",RANK(O8,$O$4:$O$30)+COUNTIF(O$4:O8,O8)-1)","v":12},"جيد جداً",null,"متوسط","≥ 50","C",{"$f":"COUNTIF(Q4:Q30,\"متوسط\")","v":0},0]
[6,"حمد سالم عبدالله حسن السيد",3,5,3,5,null,40,23,14,9,86,82,18.55,0.82444444444444442,{"$f":"IF(AND(O9=\"غ\"),\"غ\",RANK(O9,$O$4:$O$30)+COUNTIF(O$4:O9,O9)-1)","v":17},"جيد جداً",null,"دون المتوسط","≥ 40","D",{"$f":"COUNTIF(Q4:Q30,\"دون المتوسط\")","v":0},0,{"$f":"SUM(W9:W11)","v":0}]
[7,"سعيد عجينه",3,4.5,3,4.5,null,37.5,24,14,9,84.5,82,18.512500000000003,0.82277777777777783,{"$f":"IF(AND(O10=\"غ\"),\"غ\",RANK(O10,$O$4:$O$30)+COUNTIF(O$4:O10,O10)-1)","v":18},"جيد جداً",null,"ضعيف","≥ 30","E",{"$f":"COUNTIF(Q4:Q30,\"ضعيف\")","v":0},0]
[8,"عبدالرحمن عدنان مصطفى علي الخطيب",5,5,5,5,null,50,23,13,9,95,86,19.574999999999999,0.87,{"$f":"IF(AND(O11=\"غ\"),\"غ\",RANK(O11,$O$4:$O$30)+COUNTIF(O$4:O11,O11)-1)","v":3},"جيد جداً",null,"دون الضعيف جداً","< 30","F",{"$f":"COUNTIF(Q4:Q30,\"دون الضعيف جداً\")","v":0},0]
[9,"عبداللطيف سمير عبدالله احمد الباكر",5,5,5,5,null,50,23,14,9,96,84,19.2,0.85333333333333328,{"$f":"IF(AND(O12=\"غ\"),\"غ\",RANK(O12,$O$4:$O$30)+COUNTIF(O$4:O12,O12)-1)","v":6},"جيد جداً",null,"عدد الطلاب الذي تم اختبارهم",null,null,{"$f":"SUM(V4:V11)","v":26},{"$f":"V12/SUM(V12:V13)","v":1}]
[10,"عبدالله احمد سعيد",4.5,5,4.5,5,null,47.5,22,13,9,91.5,78,17.887500000000003,0.79500000000000015,{"$f":"IF(AND(O13=\"غ\"),\"غ\",RANK(O13,$O$4:$O$30)+COUNTIF(O$4:O13,O13)-1)","v":22},"جيد",null,"عدد الطلاب الغائبين",null,null,{"$f":"COUNTA(B4:B30)-V12","v":0},{"$f":"V13/SUM(V12:V13)","v":0}]
[11,"عبدالله سعيد عبدالرحيم الزينى",5,5,5,5,null,50,23,13,9,95,79,18.175000000000001,0.80777777777777771,{"$f":"IF(AND(O14=\"غ\"),\"غ\",RANK(O14,$O$4:$O$30)+COUNTIF(O$4:O14,O14)-1)","v":21},"جيد جداً"]
[12,"عبدالله عباس سامى عباس العيساوى",5,5,4.5,4.5,null,47.5,22,13,9,91.5,80,18.287500000000001,0.81277777777777782,{"$f":"IF(AND(O15=\"غ\"),\"غ\",RANK(O15,$O$4:$O$30)+COUNTIF(O$4:O15,O15)-1)","v":20},"جيد جداً",null,"الطلاب","العدد","النسبة"]
[13,"عدنان فاتك كريم كريم",5,5,5,5,null,50,23,13,9,95,84,19.175000000000001,0.85222222222222233,{"$f":"IF(AND(O16=\"غ\"),\"غ\",RANK(O16,$O$4:$O$30)+COUNTIF(O$4:O16,O16)-1)","v":8},"جيد جداً",null,"الناجحين",{"$f":"SUM(V4:V8)","v":26},{"$f":"X4","v":1}]
[14,"عمر أحمد انور خضر سعد",3,5,3,5,null,40,22,13,9,84,84,18.900000000000002,0.84000000000000019,{"$f":"IF(AND(O17=\"غ\"),\"غ\",RANK(O17,$O$4:$O$30)+COUNTIF(O$4:O17,O17)-1)","v":10},"جيد جداً",null,"الراسبين",{"$f":"SUM(V9:V11)","v":0},{"$f":"X9","v":0}]
[15,"عمرو توفيق محمد",5,5,5,5,null,50,23,13,9,95,82,18.775000000000002,0.83444444444444454,{"$f":"IF(AND(O18=\"غ\"),\"غ\",RANK(O18,$O$4:$O$30)+COUNTIF(O$4:O18,O18)-1)","v":13},"جيد جداً",null,"المجموع",{"$f":"SUM(T16:T17)","v":26},{"$f":"SUM(U16:U17)","v":1}]
[16,"غانم ابراهيم جاسم النصف المنصورى",4.5,4.5,4.5,4.5,null,45,22,13,9,89,82,18.625000000000004,0.82777777777777795,{"$f":"IF(AND(O19=\"غ\"),\"غ\",RANK(O19,$O$4:$O$30)+COUNTIF(O$4:O19,O19)-1)","v":14},"جيد جداً"]
[17,"فيصل محمد بنهنو",5,5,5,5,null,50,23,13,9,95,80,18.375,0.81666666666666676,{"$f":"IF(AND(O20=\"غ\"),\"غ\",RANK(O20,$O$4:$O$30)+COUNTIF(O$4:O20,O20)-1)","v":19},"جيد جداً",null,"التحصيل الأكاديمي",null,{"$f":"AVERAGE(M4:M30)/M$3","v":0.81961538461538463}]
[18,"ماجد محمد درويش ناصر",null,null,null,null,null,"غ",22,12,8,42,70,15.05,0.66888888888888887,{"$f":"IF(AND(O21=\"غ\"),\"غ\",RANK(O21,$O$4:$O$30)+COUNTIF(O$4:O21,O21)-1)","v":26},"فوق المتوسط"]
[19,"محمد احمد حاج قاسم",4.5,5,4.5,5,null,47.5,22,13,9,91.5,84,19.087500000000002,0.84833333333333338,{"$f":"IF(AND(O22=\"غ\"),\"غ\",RANK(O22,$O$4:$O$30)+COUNTIF(O$4:O22,O22)-1)","v":9},"جيد جداً"]
[20,"محمد عجينة",5,3,5,3,null,40,24,14,9,87,82,18.575000000000003,0.82555555555555571,{"$f":"IF(AND(O23=\"غ\"),\"غ\",RANK(O23,$O$4:$O$30)+COUNTIF(O$4:O23,O23)-1)","v":16},"جيد جداً"]
[21,"محمد احمد محمد ناصر حسن",null,5,null,5,null,25,22,13,9,69,78,17.325000000000003,0.77000000000000013,{"$f":"IF(AND(O24=\"غ\"),\"غ\",RANK(O24,$O$4:$O$30)+COUNTIF(O$4:O24,O24)-1)","v":24},"جيد",null,"الفرع","الناجحين","الراسبين","التحصيل"]
[22,"محمد حاتم ابراهيم  السيد",3,4,3,4,null,35,23,13,9,80,83,18.600000000000001,0.82666666666666666,{"$f":"IF(AND(O25=\"غ\"),\"غ\",RANK(O25,$O$4:$O$30)+COUNTIF(O$4:O25,O25)-1)","v":15},"جيد جداً",null,{"$f":"H2","v":"Quizzes"},{"$f":"COUNTIF(H4:H30,\">=\"&H$3/2)/COUNT(H4:H30)","v":1},{"$f":"IF(T25=\"\",\"\",100%-T25)","v":0},{"$f":"IF($U25=\"\",\"\",AVERAGE(H4:H30)/H$3)","v":0.89}]
[23,"محمد خالد السيد  بدوى",5,4.5,5,4.5,null,47.5,22,12,9,90.5,86,19.462499999999999,0.86499999999999988,{"$f":"IF(AND(O26=\"غ\"),\"غ\",RANK(O26,$O$4:$O$30)+COUNTIF(O$4:O26,O26)-1)","v":5},"جيد جداً",null,{"$f":"I2","v":"الواجب"},{"$f":"COUNTIF(I4:I30,\">=\"&I$3/2)/COUNT(I4:I30)","v":1},0,{"$f":"IF($U26=\"\",\"\",AVERAGE(I4:I30)/I$3)","v":0.90461538461538471}]
[24,"معاذ شعبان رمضان محمد السنهورى",4.5,5,4.5,5,null,47.5,22,13,9,91.5,86,19.487500000000001,0.86611111111111116,{"$f":"IF(AND(O27=\"غ\"),\"غ\",RANK(O27,$O$4:$O$30)+COUNTIF(O$4:O27,O27)-1)","v":4},"جيد جداً",null,{"$f":"J2","v":"المشاركة"},{"$f":"COUNTIF(J4:J30,\">=\"&J$3/2)/COUNT(J4:J30)","v":1},0,{"$f":"IF($U27=\"\",\"\",AVERAGE(J4:J30)/J$3)","v":0.87692307692307692}]
[25,"مناف ماهر محمد شحاده زيد",3,4,3,4,null,35,23,13,9,80,86,19.2,0.85333333333333328,{"$f":"IF(AND(O28=\"غ\"),\"غ\",RANK(O28,$O$4:$O$30)+COUNTIF(O$4:O28,O28)-1)","v":7},"جيد جداً",null,{"$f":"K2","v":"المشروع"},{"$f":"COUNTIF(K4:K30,\">=\"&K$3/2)/COUNT(K4:K30)","v":1},0,{"$f":"IF($U28=\"\",\"\",AVERAGE(K4:K30)/K$3)","v":0.89615384615384619}]
[26,"يوسف احمد سالم  حيدر",5,5,5,5,null,{"$f":"IF(AND(C29=\"\",D29=\"\",E29=\"\",F29=\"\",G29=\"\"),\"غ\",$H$3*SUM(C29:G29)/SUM($C$3:$G$3))","v":50},22,13,9,{"$f":"IF(AND(C29=\"\",D29=\"\",E29=\"\",F29=\"\",G29=\"\",I29=\"\",J29=\"\",K29=\"\"),\"غ\",SUM(H29:K29))","v":94},75,{"$f":"IF(M29=\"\",\"غ\",IF(L29=\"غ\",M29*0.2,SUM(L29*2.5/$L$3,M29*0.2)))","v":17.350000000000001},0.77111111111111119,{"$f":"IF(AND(O29=\"غ\"),\"غ\",RANK(O29,$O$4:$O$30)+COUNTIF(O$4:O29,O29)-1)","v":23},{"$f":"IF(O29=\"غ\",\"غ\",IF(O29>=90%,\"ممتاز\",IF(O29>=80%,\"جيد جداً\",IF(O29>=70%,\"جيد\",IF(O29>=60%,\"فوق المتوسط\",IF(O29>=50%,\"متوسط\",IF(O29>=40%,\"دون المتوسط\",IF(O29>=30%,\"ضعيف\",\"دون الضعيف جداً\"))))))))","v":"جيد"},null,{"$f":"M2","v":"Exam"},{"$f":"COUNTIF(M4:M30,\">=\"&M$3/2)/COUNT(M4:M30)","v":1},0,{"$f":"IF($U29=\"\",\"\",AVERAGE(M4:M30)/M$3)","v":0.81961538461538463}]
[null,null,null,null,null,null,null,null,null,null,null,null,""]
[null,null,null,null,null,null,null,null,null,null,null,null,""]

{"sheet":"9-4","index":22,"n_rows":31,"n_cols":24,"rows_kept":31,"cut":false,"hidden":false,"merged":[[0,0,0,16],[1,0,2,0],[1,1,2,1],[1,16,2,16],[1,18,1,23],[2,19,2,20],[2,22,2,23],[19,18,20,19],[19,20,20,20],[3,23,7,23],[8,23,10,23],[11,18,11,20],[11,22,11,23],[12,18,12,20],[12,22,12,23]]}
["Grade (9-4) كشف درجات الطلاب  "]
["م","اسم الطالب","Quiz1","Quiz2","Quiz3","Quiz4","Quiz5","Quizzes","الواجب","المشاركة","المشروع","Total","Exam","Final","Percent","Rank","التقدير",null,"تحليل النتائج على حسب التقدير"]
[null,null,5,5,5,5,"درجة5",50,25,15,10,100,100,22.5,"(%)","الترتيب",null,null,"التقدير","المجال",null,"عدد الطلاب","النسبة"]
[1,"احمد فريد عبدالعزيز اكبر حاجى",3,4,3,4,null,{"$f":"IF(AND(C4=\"\",D4=\"\",E4=\"\",F4=\"\",G4=\"\"),\"غ\",$H$3*SUM(C4:G4)/SUM($C$3:$G$3))","v":35},24,14,9,{"$f":"IF(AND(C4=\"\",D4=\"\",E4=\"\",F4=\"\",G4=\"\",I4=\"\",J4=\"\",K4=\"\"),\"غ\",SUM(H4:K4))","v":82},72,{"$f":"IF(M4=\"\",\"غ\",IF(L4=\"غ\",M4*0.2,SUM(L4*2.5/$L$3,M4*0.2)))","v":16.45},{"$f":"IF(N4=\"غ\",\"غ\",N4*100/$N$3/100)","v":0.73111111111111116},{"$f":"IF(AND(O4=\"غ\"),\"غ\",RANK(O4,$O$4:$O$30)+COUNTIF(O$4:O4,O4)-1)","v":10},{"$f":"IF(O4=\"غ\",\"غ\",IF(O4>=90%,\"ممتاز\",IF(O4>=80%,\"جيد جداً\",IF(O4>=70%,\"جيد\",IF(O4>=60%,\"فوق المتوسط\",IF(O4>=50%,\"متوسط\",IF(O4>=40%,\"دون المتوسط\",IF(O4>=30%,\"ضعيف\",\"دون الضعيف جداً\"))))))))","v":"جيد"},null,"ممتاز"," ≥ 90","A+",{"$f":"COUNTIF(Q4:Q30,\"ممتاز\")","v":0},{"$f":"(V4/$V$12)","v":0},{"$f":"SUM(W4:W8)","v":0.84000000000000008}]
[2,"خالد عبدالرحمن محمد ناجى العجى",2,3,2,3,null,{"$f":"IF(AND(C5=\"\",D5=\"\",E5=\"\",F5=\"\",G5=\"\"),\"غ\",$H$3*SUM(C5:G5)/SUM($C$3:$G$3))","v":25},21,12,8,{"$f":"IF(AND(C5=\"\",D5=\"\",E5=\"\",F5=\"\",G5=\"\",I5=\"\",J5=\"\",K5=\"\"),\"غ\",SUM(H5:K5))","v":66},44,{"$f":"IF(M5=\"\",\"غ\",IF(L5=\"غ\",M5*0.2,SUM(L5*2.5/$L$3,M5*0.2)))","v":10.450000000000001},{"$f":"IF(N5=\"غ\",\"غ\",N5*100/$N$3/100)","v":0.46444444444444444},{"$f":"IF(AND(O5=\"غ\"),\"غ\",RANK(O5,$O$4:$O$30)+COUNTIF(O$4:O5,O5)-1)","v":23},{"$f":"IF(O5=\"غ\",\"غ\",IF(O5>=90%,\"ممتاز\",IF(O5>=80%,\"جيد جداً\",IF(O5>=70%,\"جيد\",IF(O5>=60%,\"فوق المتوسط\",IF(O5>=50%,\"متوسط\",IF(O5>=40%,\"دون المتوسط\",IF(O5>=30%,\"ضعيف\",\"دون الضعيف جداً\"))))))))","v":"دون المتوسط"},null,"جيد جداً","≥ 80","A",{"$f":"COUNTIF(Q4:Q30,\"جيد جداً\")","v":0},0]
[3,"راشد عبدالرحمن يوسف البوعفره الكوارى",3,3,3,3,null,30,23,13,8,74,74,16.650000000000002,0.7400000000000001,{"$f":"IF(AND(O6=\"غ\"),\"غ\",RANK(O6,$O$4:$O$30)+COUNTIF(O$4:O6,O6)-1)","v":7},"جيد",null,"جيد","≥ 70","B+",{"$f":"COUNTIF(Q4:Q30,\"جيد\")","v":10},0.4]
[4,"راشد عبدالله راشد صالح فارس",3,5,3,5,null,40,23,13,8,84,66,15.3,0.68,{"$f":"IF(AND(O7=\"غ\"),\"غ\",RANK(O7,$O$4:$O$30)+COUNTIF(O$4:O7,O7)-1)","v":12},"فوق المتوسط",null,"فوق المتوسط","≥ 60","B",{"$f":"COUNTIF(Q4:Q30,\"فوق المتوسط\")","v":5},0.2]
[5,"سعد ثانى علي بوشايع الخليفى",2,3,2,3,null,25,23,14,8,70,74,16.55,0.73555555555555552,{"$f":"IF(AND(O8=\"غ\"),\"غ\",RANK(O8,$O$4:$O$30)+COUNTIF(O$4:O8,O8)-1)","v":9},"جيد",null,"متوسط","≥ 50","C",{"$f":"COUNTIF(Q4:Q30,\"متوسط\")","v":6},0.24]
[6,"عبدالرحمن بدر صالح حسن الجابر",3,2,3,2,null,25,21,13,8,67,52,12.075000000000001,0.53666666666666663,{"$f":"IF(AND(O9=\"غ\"),\"غ\",RANK(O9,$O$4:$O$30)+COUNTIF(O$4:O9,O9)-1)","v":19},"متوسط",null,"دون المتوسط","≥ 40","D",{"$f":"COUNTIF(Q4:Q30,\"دون المتوسط\")","v":3},0.12,{"$f":"SUM(W9:W11)","v":0.16}]
[7,"عبدالرحمن عبدالله جمال اسد جمال",4,4,4,4,null,40,24,14,9,87,72,16.574999999999999,0.73666666666666669,{"$f":"IF(AND(O10=\"غ\"),\"غ\",RANK(O10,$O$4:$O$30)+COUNTIF(O$4:O10,O10)-1)","v":8},"جيد",null,"ضعيف","≥ 30","E",{"$f":"COUNTIF(Q4:Q30,\"ضعيف\")","v":1},0.04]
[8,"عبدالعزيز حسين صالح الحميرى اليافعى",4,4,4,4,null,40,24,14,9,87,76,17.375,0.77222222222222225,{"$f":"IF(AND(O11=\"غ\"),\"غ\",RANK(O11,$O$4:$O$30)+COUNTIF(O$4:O11,O11)-1)","v":4},"جيد",null,"دون الضعيف جداً","< 30","F",{"$f":"COUNTIF(Q4:Q30,\"دون الضعيف جداً\")","v":0},0]
[9,"عبدالعزيز مسعد محمد احمد العولقى",null,2,null,2,null,10,20,12,8,50,57.999999999999993,12.85,0.57111111111111112,{"$f":"IF(AND(O12=\"غ\"),\"غ\",RANK(O12,$O$4:$O$30)+COUNTIF(O$4:O12,O12)-1)","v":16},"متوسط",null,"عدد الطلاب الذي تم اختبارهم",null,null,{"$f":"SUM(V4:V11)","v":25},{"$f":"V12/SUM(V12:V13)","v":1}]
[10,"عبداللة محمد حمود عبدالله حسين",4,3,4,3,null,35,24,14,9,82,76,17.25,0.76666666666666672,{"$f":"IF(AND(O13=\"غ\"),\"غ\",RANK(O13,$O$4:$O$30)+COUNTIF(O$4:O13,O13)-1)","v":5},"جيد",null,"عدد الطلاب الغائبين",null,null,{"$f":"COUNTA(B4:B30)-V12","v":0},{"$f":"V13/SUM(V12:V13)","v":0}]
[11,"عبدالله سعد شاهين محمد الكعبى",5,4,5,4,null,45,24,14,9,92,76,17.5,0.77777777777777768,{"$f":"IF(AND(O14=\"غ\"),\"غ\",RANK(O14,$O$4:$O$30)+COUNTIF(O$4:O14,O14)-1)","v":2},"جيد"]
[12,"عبدالله فهد محمد الفهد النعيمى",2,3,2,3,null,25,20,12,8,65,32,8.0250000000000004,0.35666666666666663,{"$f":"IF(AND(O15=\"غ\"),\"غ\",RANK(O15,$O$4:$O$30)+COUNTIF(O$4:O15,O15)-1)","v":25},"ضعيف",null,"الطلاب","العدد","النسبة"]
[13,"علي احمد غلوم امان الله لارى",3,2,3,2,null,25,23,12,8,68,52,12.1,0.5377777777777778,{"$f":"IF(AND(O16=\"غ\"),\"غ\",RANK(O16,$O$4:$O$30)+COUNTIF(O$4:O16,O16)-1)","v":18},"متوسط",null,"الناجحين",{"$f":"SUM(V4:V8)","v":21},{"$f":"X4","v":0.84000000000000008}]
[14,"علي طارق عبدالحميد علي الحجر",3,5,3,5,null,40,24,14,9,87,66,15.375,0.68333333333333324,{"$f":"IF(AND(O17=\"غ\"),\"غ\",RANK(O17,$O$4:$O$30)+COUNTIF(O$4:O17,O17)-1)","v":11},"فوق المتوسط",null,"الراسبين",{"$f":"SUM(V9:V11)","v":4},{"$f":"X9","v":0.16}]
[15,"علي محمد علي حسن الخاجه",3,4,3,4,null,35,24,14,9,82,62,14.45,0.64222222222222225,{"$f":"IF(AND(O18=\"غ\"),\"غ\",RANK(O18,$O$4:$O$30)+COUNTIF(O$4:O18,O18)-1)","v":14},"فوق المتوسط",null,"المجموع",{"$f":"SUM(T16:T17)","v":25},{"$f":"SUM(U16:U17)","v":1}]
[16,"علي ناصر حسين شكرى المحسن",1,2,1,2,null,15,22,12,8,57,68,15.025000000000002,0.6677777777777778,{"$f":"IF(AND(O19=\"غ\"),\"غ\",RANK(O19,$O$4:$O$30)+COUNTIF(O$4:O19,O19)-1)","v":13},"فوق المتوسط"]
[17,"فرج عبدالهادى صالح عبدالهادى المرى",3,3,3,3,null,30,23,12,8,73,54,12.625,0.56111111111111112,{"$f":"IF(AND(O20=\"غ\"),\"غ\",RANK(O20,$O$4:$O$30)+COUNTIF(O$4:O20,O20)-1)","v":17},"متوسط",null,"التحصيل الأكاديمي",null,{"$f":"AVERAGE(M4:M30)/M$3","v":0.62319999999999998}]
[18,"مبارك ابراهيم مبارك بتال الدوسرى",0,1,0,1,null,5,21,12,8,46,50,11.15,0.49555555555555558,{"$f":"IF(AND(O21=\"غ\"),\"غ\",RANK(O21,$O$4:$O$30)+COUNTIF(O$4:O21,O21)-1)","v":22},"دون المتوسط"]
[19,"مبارك محمد عبدالله محمد المالكى",3,2,3,2,null,25,20,13,8,66,62,14.05,0.62444444444444447,{"$f":"IF(AND(O22=\"غ\"),\"غ\",RANK(O22,$O$4:$O$30)+COUNTIF(O$4:O22,O22)-1)","v":15},"فوق المتوسط"]
[20,"محمد راشد سعيد فرج السليطى",2,1,2,1,null,15,20,11,7,53,40,9.3249999999999993,0.41444444444444445,{"$f":"IF(AND(O23=\"غ\"),\"غ\",RANK(O23,$O$4:$O$30)+COUNTIF(O$4:O23,O23)-1)","v":24},"دون المتوسط"]
[21,"محمد رافت رجب احمد العدوى",5,4,5,4,null,45,24,14,9,92,76,17.5,0.77777777777777768,{"$f":"IF(AND(O24=\"غ\"),\"غ\",RANK(O24,$O$4:$O$30)+COUNTIF(O$4:O24,O24)-1)","v":3},"جيد",null,"الفرع","الناجحين","الراسبين","التحصيل"]
[22,"محمد صالح علي بورايح الكوارى",3,3,3,3,null,30,24,13,8,75,76,17.075000000000003,0.75888888888888895,{"$f":"IF(AND(O25=\"غ\"),\"غ\",RANK(O25,$O$4:$O$30)+COUNTIF(O$4:O25,O25)-1)","v":6},"جيد",null,{"$f":"H2","v":"Quizzes"},{"$f":"COUNTIF(H4:H30,\">=\"&H$3/2)/COUNT(H4:H30)","v":0.8},{"$f":"IF(T25=\"\",\"\",100%-T25)","v":0.19999999999999996},{"$f":"IF($U25=\"\",\"\",AVERAGE(H4:H30)/H$3)","v":0.57600000000000007}]
[23,"محمد عتيق زايد حارب المهندى",3,2,3,2,null,25,20,11,8,64,50,11.6,0.51555555555555554,{"$f":"IF(AND(O26=\"غ\"),\"غ\",RANK(O26,$O$4:$O$30)+COUNTIF(O$4:O26,O26)-1)","v":21},"متوسط",null,{"$f":"I2","v":"الواجب"},{"$f":"COUNTIF(I4:I30,\">=\"&I$3/2)/COUNT(I4:I30)","v":1},0,{"$f":"IF($U26=\"\",\"\",AVERAGE(I4:I30)/I$3)","v":0.90079999999999993}]
[24,"محمد نبيل محمد نصرالله العمادى",3,4,3,4,null,35,24,14,9,82,78,17.650000000000002,0.78444444444444461,{"$f":"IF(AND(O27=\"غ\"),\"غ\",RANK(O27,$O$4:$O$30)+COUNTIF(O$4:O27,O27)-1)","v":1},"جيد",null,{"$f":"J2","v":"المشاركة"},{"$f":"COUNTIF(J4:J30,\">=\"&J$3/2)/COUNT(J4:J30)","v":1},0,{"$f":"IF($U27=\"\",\"\",AVERAGE(J4:J30)/J$3)","v":0.8640000000000001}]
[25,"ناصر راشد عرار الرمزانى النعيمى",2,2,2,2,null,20,23,13,8,64,52,12,0.53333333333333333,{"$f":"IF(AND(O28=\"غ\"),\"غ\",RANK(O28,$O$4:$O$30)+COUNTIF(O$4:O28,O28)-1)","v":20},"متوسط",null,{"$f":"K2","v":"المشروع"},{"$f":"COUNTIF(K4:K30,\">=\"&K$3/2)/COUNT(K4:K30)","v":1},0,{"$f":"IF($U28=\"\",\"\",AVERAGE(K4:K30)/K$3)","v":0.83200000000000007}]
[null,null,null,null,null,null,null,null,null,null,null,null,"",null,null,null,null,null,{"$f":"M2","v":"Exam"},{"$f":"COUNTIF(M4:M30,\">=\"&M$3/2)/COUNT(M4:M30)","v":0.88},0.12,{"$f":"IF($U29=\"\",\"\",AVERAGE(M4:M30)/M$3)","v":0.62319999999999998}]
[null,null,null,null,null,null,null,null,null,null,null,null,""]
[null,null,null,null,null,null,null,null,null,null,null,null,""]

{"sheet":"9-5","index":23,"n_rows":31,"n_cols":24,"rows_kept":31,"cut":false,"hidden":false,"merged":[[0,0,0,16],[1,0,2,0],[1,1,2,1],[1,16,2,16],[1,18,1,23],[2,19,2,20],[2,22,2,23],[19,18,20,19],[19,20,20,20],[3,23,7,23],[8,23,10,23],[11,18,11,20],[11,22,11,23],[12,18,12,20],[12,22,12,23]]}
["Grade (9-5) كشف درجات الطلاب  "]
["م","اسم الطالب","Quiz1","Quiz2","Quiz3","Quiz4","Quiz5","Quizzes","الواجب","المشاركة","المشروع","Total","Exam","Final","Percent","Rank","التقدير",null,"تحليل النتائج على حسب التقدير"]
[null,null,5,5,5,5,"درجة5",50,25,15,10,100,100,22.5,"(%)","الترتيب",null,null,"التقدير","المجال",null,"عدد الطلاب","النسبة"]
[1,"ابراهيم خالد ابودية",3,4,3,4,null,{"$f":"IF(AND(C4=\"\",D4=\"\",E4=\"\",F4=\"\",G4=\"\"),\"غ\",$H$3*SUM(C4:G4)/SUM($C$3:$G$3))","v":35},24,14,9,{"$f":"IF(AND(C4=\"\",D4=\"\",E4=\"\",F4=\"\",G4=\"\",I4=\"\",J4=\"\",K4=\"\"),\"غ\",SUM(H4:K4))","v":82},56.000000000000007,{"$f":"IF(M4=\"\",\"غ\",IF(L4=\"غ\",M4*0.2,SUM(L4*2.5/$L$3,M4*0.2)))","v":13.250000000000004},{"$f":"IF(N4=\"غ\",\"غ\",N4*100/$N$3/100)","v":0.58888888888888902},{"$f":"IF(AND(O4=\"غ\"),\"غ\",RANK(O4,$O$4:$O$30)+COUNTIF(O$4:O4,O4)-1)","v":17},{"$f":"IF(O4=\"غ\",\"غ\",IF(O4>=90%,\"ممتاز\",IF(O4>=80%,\"جيد جداً\",IF(O4>=70%,\"جيد\",IF(O4>=60%,\"فوق المتوسط\",IF(O4>=50%,\"متوسط\",IF(O4>=40%,\"دون المتوسط\",IF(O4>=30%,\"ضعيف\",\"دون الضعيف جداً\"))))))))","v":"متوسط"},null,"ممتاز"," ≥ 90","A+",{"$f":"COUNTIF(Q4:Q30,\"ممتاز\")","v":0},{"$f":"(V4/$V$12)","v":0},{"$f":"SUM(W4:W8)","v":0.85185185185185186}]
[2,"احمد نجيب خليفه هزيم الساده",1,3,1,3,null,{"$f":"IF(AND(C5=\"\",D5=\"\",E5=\"\",F5=\"\",G5=\"\"),\"غ\",$H$3*SUM(C5:G5)/SUM($C$3:$G$3))","v":20},23,13,8,{"$f":"IF(AND(C5=\"\",D5=\"\",E5=\"\",F5=\"\",G5=\"\",I5=\"\",J5=\"\",K5=\"\"),\"غ\",SUM(H5:K5))","v":64},62,{"$f":"IF(M5=\"\",\"غ\",IF(L5=\"غ\",M5*0.2,SUM(L5*2.5/$L$3,M5*0.2)))","v":14},{"$f":"IF(N5=\"غ\",\"غ\",N5*100/$N$3/100)","v":0.62222222222222223},{"$f":"IF(AND(O5=\"غ\"),\"غ\",RANK(O5,$O$4:$O$30)+COUNTIF(O$4:O5,O5)-1)","v":14},{"$f":"IF(O5=\"غ\",\"غ\",IF(O5>=90%,\"ممتاز\",IF(O5>=80%,\"جيد جداً\",IF(O5>=70%,\"جيد\",IF(O5>=60%,\"فوق المتوسط\",IF(O5>=50%,\"متوسط\",IF(O5>=40%,\"دون المتوسط\",IF(O5>=30%,\"ضعيف\",\"دون الضعيف جداً\"))))))))","v":"فوق المتوسط"},null,"جيد جداً","≥ 80","A",{"$f":"COUNTIF(Q4:Q30,\"جيد جداً\")","v":2},7.407407407407407E-2]
[3,"جابر عبدالله سلطان محمد المحمدى",1,4,1,4,null,25,23,13,9,70,62,14.15,0.62888888888888883,{"$f":"IF(AND(O6=\"غ\"),\"غ\",RANK(O6,$O$4:$O$30)+COUNTIF(O$4:O6,O6)-1)","v":13},"فوق المتوسط",null,"جيد","≥ 70","B+",{"$f":"COUNTIF(Q4:Q30,\"جيد\")","v":3},0.1111111111111111]
[4,"جاسم ناصر عبداللطيف المحياس الكوارى",2,5,2,5,null,35,24,14,9,82,50,12.05,0.53555555555555556,{"$f":"IF(AND(O7=\"غ\"),\"غ\",RANK(O7,$O$4:$O$30)+COUNTIF(O$4:O7,O7)-1)","v":23},"متوسط",null,"فوق المتوسط","≥ 60","B",{"$f":"COUNTIF(Q4:Q30,\"فوق المتوسط\")","v":11},0.40740740740740738]
[5,"خالد علي خليفه ال محمد النعيمى",3,2,3,2,null,25,24,14,9,72,54,12.600000000000001,0.56000000000000005,{"$f":"IF(AND(O8=\"غ\"),\"غ\",RANK(O8,$O$4:$O$30)+COUNTIF(O$4:O8,O8)-1)","v":20},"متوسط",null,"متوسط","≥ 50","C",{"$f":"COUNTIF(Q4:Q30,\"متوسط\")","v":7},0.25925925925925924]
[6,"راشد سعد سلطان لملوم المسيفرى",2,2,2,2,null,20,23,13,8,64,62,14,0.62222222222222223,{"$f":"IF(AND(O9=\"غ\"),\"غ\",RANK(O9,$O$4:$O$30)+COUNTIF(O$4:O9,O9)-1)","v":15},"فوق المتوسط",null,"دون المتوسط","≥ 40","D",{"$f":"COUNTIF(Q4:Q30,\"دون المتوسط\")","v":3},0.1111111111111111,{"$f":"SUM(W9:W11)","v":0.14814814814814814}]
[7,"سالم جاسم ظاعن ال الشيخ الكوارى",3,3,3,3,null,30,23,13,8,74,56.000000000000007,13.050000000000002,0.58000000000000007,{"$f":"IF(AND(O10=\"غ\"),\"غ\",RANK(O10,$O$4:$O$30)+COUNTIF(O$4:O10,O10)-1)","v":18},"متوسط",null,"ضعيف","≥ 30","E",{"$f":"COUNTIF(Q4:Q30,\"ضعيف\")","v":1},3.7037037037037035E-2]
[8,"سعد احمد سعد الجهام الكوارى",3,4,3,4,null,35,24,14,9,82,64,14.850000000000001,0.66000000000000014,{"$f":"IF(AND(O11=\"غ\"),\"غ\",RANK(O11,$O$4:$O$30)+COUNTIF(O$4:O11,O11)-1)","v":11},"فوق المتوسط",null,"دون الضعيف جداً","< 30","F",{"$f":"COUNTIF(Q4:Q30,\"دون الضعيف جداً\")","v":0},0]
[9,"سعد راشد الكشاشي المهندي",2,5,2,5,null,35,24,14,9,82,68,15.650000000000002,0.6955555555555557,{"$f":"IF(AND(O12=\"غ\"),\"غ\",RANK(O12,$O$4:$O$30)+COUNTIF(O$4:O12,O12)-1)","v":6},"فوق المتوسط",null,"عدد الطلاب الذي تم اختبارهم",null,null,{"$f":"SUM(V4:V11)","v":27},{"$f":"V12/SUM(V12:V13)","v":1}]
[10,"سلطان فهد محمد ناصر الدهيمى",5,4,5,4,null,45,24,14,9,92,86,19.5,0.8666666666666667,{"$f":"IF(AND(O13=\"غ\"),\"غ\",RANK(O13,$O$4:$O$30)+COUNTIF(O$4:O13,O13)-1)","v":1},"جيد جداً",null,"عدد الطلاب الغائبين",null,null,{"$f":"COUNTA(B4:B30)-V12","v":0},{"$f":"V13/SUM(V12:V13)","v":0}]
[11,"عبد الرحمن سمير عبد العزيز عبد الونيس",3,4,3,4,null,35,24,14,9,82,66,15.25,0.6777777777777777,{"$f":"IF(AND(O14=\"غ\"),\"غ\",RANK(O14,$O$4:$O$30)+COUNTIF(O$4:O14,O14)-1)","v":9},"فوق المتوسط"]
[12,"عبدالرحمن سعود عبدالله ناصر الخليفى",3,2,3,2,null,25,22,13,8,68,54,12.5,0.55555555555555558,{"$f":"IF(AND(O15=\"غ\"),\"غ\",RANK(O15,$O$4:$O$30)+COUNTIF(O$4:O15,O15)-1)","v":21},"متوسط",null,"الطلاب","العدد","النسبة"]
[13,"عبدالرحمن محمد ميزارا ابراهيم ابراهيم",1,3,1,3,null,20,23,13,8,64,38,9.2000000000000011,0.40888888888888891,{"$f":"IF(AND(O16=\"غ\"),\"غ\",RANK(O16,$O$4:$O$30)+COUNTIF(O$4:O16,O16)-1)","v":26},"دون المتوسط",null,"الناجحين",{"$f":"SUM(V4:V8)","v":23},{"$f":"X4","v":0.85185185185185186}]
[14,"عبدالرحمن ناصر احمد عامر الهلابى",null,2,null,2,null,10,24,14,9,57,70,15.425000000000001,0.68555555555555558,{"$f":"IF(AND(O17=\"غ\"),\"غ\",RANK(O17,$O$4:$O$30)+COUNTIF(O$4:O17,O17)-1)","v":7},"فوق المتوسط",null,"الراسبين",{"$f":"SUM(V9:V11)","v":4},{"$f":"X9","v":0.14814814814814814}]
[15,"عبدالعزيز محمد مهدى عبدالله العجمى",2,1,2,1,null,15,23,13,8,59,34,8.2750000000000004,0.36777777777777776,{"$f":"IF(AND(O18=\"غ\"),\"غ\",RANK(O18,$O$4:$O$30)+COUNTIF(O$4:O18,O18)-1)","v":27},"ضعيف",null,"المجموع",{"$f":"SUM(T16:T17)","v":27},{"$f":"SUM(U16:U17)","v":1}]
[16,"عبدالله جاسم صالح عبدالله الغزال",4,5,4,5,null,45,24,14,9,92,68,15.900000000000002,0.70666666666666667,{"$f":"IF(AND(O19=\"غ\"),\"غ\",RANK(O19,$O$4:$O$30)+COUNTIF(O$4:O19,O19)-1)","v":5},"جيد"]
[17,"عبدالله خليفه عبدالله مالالله احمد",1,2,1,2,null,15,23,14,9,61,56.000000000000007,12.725000000000003,0.56555555555555559,{"$f":"IF(AND(O20=\"غ\"),\"غ\",RANK(O20,$O$4:$O$30)+COUNTIF(O$4:O20,O20)-1)","v":19},"متوسط",null,"التحصيل الأكاديمي",null,{"$f":"AVERAGE(M4:M30)/M$3","v":0.60666666666666669}]
[18,"عبدالله سلمان الماس جمعه احمد",1,2,1,2,null,15,23,14,8,60,46,10.700000000000001,0.47555555555555556,{"$f":"IF(AND(O21=\"غ\"),\"غ\",RANK(O21,$O$4:$O$30)+COUNTIF(O$4:O21,O21)-1)","v":24},"دون المتوسط"]
[19,"عبدالله ناصر عيسى سعد النصف",3,4,3,4,null,35,24,14,9,82,74,16.850000000000001,0.74888888888888905,{"$f":"IF(AND(O22=\"غ\"),\"غ\",RANK(O22,$O$4:$O$30)+COUNTIF(O$4:O22,O22)-1)","v":4},"جيد"]
[20,"علي عبدالرحمن يوسف عبدالله الغزال",4,5,4,5,null,45,24,14,9,92,82,18.700000000000003,0.83111111111111113,{"$f":"IF(AND(O23=\"غ\"),\"غ\",RANK(O23,$O$4:$O$30)+COUNTIF(O$4:O23,O23)-1)","v":2},"جيد جداً"]
[21,"علي محمد علي خميس المسلمانى",3,3,3,3,null,30,23,14,9,76,57.999999999999993,13.5,0.6,{"$f":"IF(AND(O24=\"غ\"),\"غ\",RANK(O24,$O$4:$O$30)+COUNTIF(O$4:O24,O24)-1)","v":16},"فوق المتوسط",null,"الفرع","الناجحين","الراسبين","التحصيل"]
[22,"عيد علي عيد الخويطر العجمى",3,2,3,2,null,25,23,13,8,69,66,14.925000000000001,0.66333333333333333,{"$f":"IF(AND(O25=\"غ\"),\"غ\",RANK(O25,$O$4:$O$30)+COUNTIF(O$4:O25,O25)-1)","v":10},"فوق المتوسط",null,{"$f":"H2","v":"Quizzes"},{"$f":"COUNTIF(H4:H30,\">=\"&H$3/2)/COUNT(H4:H30)","v":0.66666666666666663},{"$f":"IF(T25=\"\",\"\",100%-T25)","v":0.33333333333333337},{"$f":"IF($U25=\"\",\"\",AVERAGE(H4:H30)/H$3)","v":0.55555555555555558}]
[23,"مبارك فرج سويد فرج العبدالله",3,5,3,5,null,40,24,14,9,87,74,16.975000000000001,0.75444444444444458,{"$f":"IF(AND(O26=\"غ\"),\"غ\",RANK(O26,$O$4:$O$30)+COUNTIF(O$4:O26,O26)-1)","v":3},"جيد",null,{"$f":"I2","v":"الواجب"},{"$f":"COUNTIF(I4:I30,\">=\"&I$3/2)/COUNT(I4:I30)","v":1},0,{"$f":"IF($U26=\"\",\"\",AVERAGE(I4:I30)/I$3)","v":0.93925925925925924}]
[24,"محمد ناصر عبدالله العطشان السليطى",3,4,3,4,null,35,24,13,9,81,64,14.825000000000001,0.65888888888888886,{"$f":"IF(AND(O27=\"غ\"),\"غ\",RANK(O27,$O$4:$O$30)+COUNTIF(O$4:O27,O27)-1)","v":12},"فوق المتوسط",null,{"$f":"J2","v":"المشاركة"},{"$f":"COUNTIF(J4:J30,\">=\"&J$3/2)/COUNT(J4:J30)","v":1},0,{"$f":"IF($U27=\"\",\"\",AVERAGE(J4:J30)/J$3)","v":0.90617283950617289}]
[25,"محمد يوسف عبدالله جاسم الشملان",3,0,3,0,null,15,23,13,9,60,46,10.700000000000001,0.47555555555555556,{"$f":"IF(AND(O28=\"غ\"),\"غ\",RANK(O28,$O$4:$O$30)+COUNTIF(O$4:O28,O28)-1)","v":25},"دون المتوسط",null,{"$f":"K2","v":"المشروع"},{"$f":"COUNTIF(K4:K30,\">=\"&K$3/2)/COUNT(K4:K30)","v":1},0,{"$f":"IF($U28=\"\",\"\",AVERAGE(K4:K30)/K$3)","v":0.87037037037037046}]
[26,"مساعد خالد عبدالله حسين اليافعى",3,2,3,2,null,{"$f":"IF(AND(C29=\"\",D29=\"\",E29=\"\",F29=\"\",G29=\"\"),\"غ\",$H$3*SUM(C29:G29)/SUM($C$3:$G$3))","v":25},24,14,9,{"$f":"IF(AND(C29=\"\",D29=\"\",E29=\"\",F29=\"\",G29=\"\",I29=\"\",J29=\"\",K29=\"\"),\"غ\",SUM(H29:K29))","v":72},68,{"$f":"IF(M29=\"\",\"غ\",IF(L29=\"غ\",M29*0.2,SUM(L29*2.5/$L$3,M29*0.2)))","v":15.400000000000002},0.68444444444444452,{"$f":"IF(AND(O29=\"غ\"),\"غ\",RANK(O29,$O$4:$O$30)+COUNTIF(O$4:O29,O29)-1)","v":8},{"$f":"IF(O29=\"غ\",\"غ\",IF(O29>=90%,\"ممتاز\",IF(O29>=80%,\"جيد جداً\",IF(O29>=70%,\"جيد\",IF(O29>=60%,\"فوق المتوسط\",IF(O29>=50%,\"متوسط\",IF(O29>=40%,\"دون المتوسط\",IF(O29>=30%,\"ضعيف\",\"دون الضعيف جداً\"))))))))","v":"فوق المتوسط"},null,{"$f":"M2","v":"Exam"},{"$f":"COUNTIF(M4:M30,\">=\"&M$3/2)/COUNT(M4:M30)","v":0.85185185185185186},0.14814814814814814,{"$f":"IF($U29=\"\",\"\",AVERAGE(M4:M30)/M$3)","v":0.60666666666666669}]
[27,"يوسف محمد يوسف عبدالله حاجى",2,1,2,1,null,{"$f":"IF(AND(C30=\"\",D30=\"\",E30=\"\",F30=\"\",G30=\"\"),\"غ\",$H$3*SUM(C30:G30)/SUM($C$3:$G$3))","v":15},23,13,9,{"$f":"IF(AND(C30=\"\",D30=\"\",E30=\"\",F30=\"\",G30=\"\",I30=\"\",J30=\"\",K30=\"\"),\"غ\",SUM(H30:K30))","v":60},54,{"$f":"IF(M30=\"\",\"غ\",IF(L30=\"غ\",M30*0.2,SUM(L30*2.5/$L$3,M30*0.2)))","v":12.3},{"$f":"IF(N30=\"غ\",\"غ\",N30*100/$N$3/100)","v":0.54666666666666663},{"$f":"IF(AND(O30=\"غ\"),\"غ\",RANK(O30,$O$4:$O$30)+COUNTIF(O$4:O30,O30)-1)","v":22},{"$f":"IF(O30=\"غ\",\"غ\",IF(O30>=90%,\"ممتاز\",IF(O30>=80%,\"جيد جداً\",IF(O30>=70%,\"جيد\",IF(O30>=60%,\"فوق المتوسط\",IF(O30>=50%,\"متوسط\",IF(O30>=40%,\"دون المتوسط\",IF(O30>=30%,\"ضعيف\",\"دون الضعيف جداً\"))))))))","v":"متوسط"}]
[28,null,null,null,null,null,null,null,null,null,null,null,""]

{"sheet":"9-6","index":24,"n_rows":31,"n_cols":24,"rows_kept":31,"cut":false,"hidden":false,"merged":[[0,0,0,16],[1,0,2,0],[1,1,2,1],[1,16,2,16],[1,18,1,23],[2,19,2,20],[2,22,2,23],[19,18,20,19],[19,20,20,20],[3,23,7,23],[8,23,10,23],[11,18,11,20],[11,22,11,23],[12,18,12,20],[12,22,12,23]]}
["Grade (9-6) كشف درجات الطلاب  "]
["م","اسم الطالب","Quiz1","Quiz2","Quiz3","Quiz4","Quiz5","Quizzes","الواجب","المشاركة","المشروع","Total","Exam","Final","Percent","Rank","التقدير",null,"تحليل النتائج على حسب التقدير"]
[null,null,5,5,5,5,"درجة5",50,25,15,10,100,100,22.5,"(%)","الترتيب",null,null,"التقدير","المجال",null,"عدد الطلاب","النسبة"]
[1,"ابراهيم فيصل ابراهيم محمد الجذيع",4,4,4,4,null,{"$f":"IF(AND(C4=\"\",D4=\"\",E4=\"\",F4=\"\",G4=\"\"),\"غ\",$H$3*SUM(C4:G4)/SUM($C$3:$G$3))","v":40},24,13,9,{"$f":"IF(AND(C4=\"\",D4=\"\",E4=\"\",F4=\"\",G4=\"\",I4=\"\",J4=\"\",K4=\"\"),\"غ\",SUM(H4:K4))","v":86},57.999999999999993,{"$f":"IF(M4=\"\",\"غ\",IF(L4=\"غ\",M4*0.2,SUM(L4*2.5/$L$3,M4*0.2)))","v":13.75},{"$f":"IF(N4=\"غ\",\"غ\",N4*100/$N$3/100)","v":0.61111111111111116},{"$f":"IF(AND(O4=\"غ\"),\"غ\",RANK(O4,$O$4:$O$30)+COUNTIF(O$4:O4,O4)-1)","v":9},{"$f":"IF(O4=\"غ\",\"غ\",IF(O4>=90%,\"ممتاز\",IF(O4>=80%,\"جيد جداً\",IF(O4>=70%,\"جيد\",IF(O4>=60%,\"فوق المتوسط\",IF(O4>=50%,\"متوسط\",IF(O4>=40%,\"دون المتوسط\",IF(O4>=30%,\"ضعيف\",\"دون الضعيف جداً\"))))))))","v":"فوق المتوسط"},null,"ممتاز"," ≥ 90","A+",{"$f":"COUNTIF(Q4:Q30,\"ممتاز\")","v":0},{"$f":"(V4/$V$12)","v":0},{"$f":"SUM(W4:W8)","v":0.76}]
[2,"اسامه السيد عبدالعال",5,5,5,5,null,{"$f":"IF(AND(C5=\"\",D5=\"\",E5=\"\",F5=\"\",G5=\"\"),\"غ\",$H$3*SUM(C5:G5)/SUM($C$3:$G$3))","v":50},24,14,9,{"$f":"IF(AND(C5=\"\",D5=\"\",E5=\"\",F5=\"\",G5=\"\",I5=\"\",J5=\"\",K5=\"\"),\"غ\",SUM(H5:K5))","v":97},68,{"$f":"IF(M5=\"\",\"غ\",IF(L5=\"غ\",M5*0.2,SUM(L5*2.5/$L$3,M5*0.2)))","v":16.025000000000002},{"$f":"IF(N5=\"غ\",\"غ\",N5*100/$N$3/100)","v":0.71222222222222231},{"$f":"IF(AND(O5=\"غ\"),\"غ\",RANK(O5,$O$4:$O$30)+COUNTIF(O$4:O5,O5)-1)","v":4},{"$f":"IF(O5=\"غ\",\"غ\",IF(O5>=90%,\"ممتاز\",IF(O5>=80%,\"جيد جداً\",IF(O5>=70%,\"جيد\",IF(O5>=60%,\"فوق المتوسط\",IF(O5>=50%,\"متوسط\",IF(O5>=40%,\"دون المتوسط\",IF(O5>=30%,\"ضعيف\",\"دون الضعيف جداً\"))))))))","v":"جيد"},null,"جيد جداً","≥ 80","A",{"$f":"COUNTIF(Q4:Q30,\"جيد جداً\")","v":0},0]
[3,"تميم فهد جوهر سعيد المحمد",null,2,null,2,null,10,21,12,7,50,54,12.05,0.53555555555555556,{"$f":"IF(AND(O6=\"غ\"),\"غ\",RANK(O6,$O$4:$O$30)+COUNTIF(O$4:O6,O6)-1)","v":15},"متوسط",null,"جيد","≥ 70","B+",{"$f":"COUNTIF(Q4:Q30,\"جيد\")","v":5},0.2]
[4,"خالد حسن محمد احمد المحمود",null,3,null,3,null,15,23,12,8,58,42,9.85,0.43777777777777777,{"$f":"IF(AND(O7=\"غ\"),\"غ\",RANK(O7,$O$4:$O$30)+COUNTIF(O$4:O7,O7)-1)","v":22},"دون المتوسط",null,"فوق المتوسط","≥ 60","B",{"$f":"COUNTIF(Q4:Q30,\"فوق المتوسط\")","v":4},0.16]
[5,"خالد محمد عمران علي الكوارى",3,4,3,4,null,35,23,13,8,79,50,11.975,0.53222222222222226,{"$f":"IF(AND(O8=\"غ\"),\"غ\",RANK(O8,$O$4:$O$30)+COUNTIF(O$4:O8,O8)-1)","v":16},"متوسط",null,"متوسط","≥ 50","C",{"$f":"COUNTIF(Q4:Q30,\"متوسط\")","v":10},0.4]
[6,"خليفه عبدالله محمد اسماعيل البوعينين",2,3,2,3,null,25,23,13,8,69,54,12.525,0.55666666666666664,{"$f":"IF(AND(O9=\"غ\"),\"غ\",RANK(O9,$O$4:$O$30)+COUNTIF(O$4:O9,O9)-1)","v":13},"متوسط",null,"دون المتوسط","≥ 40","D",{"$f":"COUNTIF(Q4:Q30,\"دون المتوسط\")","v":4},0.16,{"$f":"SUM(W9:W11)","v":0.24}]
[7,"راشد محمد راشد سالم المريخى",4,4,4,4,null,40,24,14,9,87,72,16.574999999999999,0.73666666666666669,{"$f":"IF(AND(O10=\"غ\"),\"غ\",RANK(O10,$O$4:$O$30)+COUNTIF(O$4:O10,O10)-1)","v":2},"جيد",null,"ضعيف","≥ 30","E",{"$f":"COUNTIF(Q4:Q30,\"ضعيف\")","v":2},0.08]
[8,"سعود منصور مرزوق حسن المنصور",null,3,null,3,null,15,23,12,8,58,64,14.25,0.6333333333333333,{"$f":"IF(AND(O11=\"غ\"),\"غ\",RANK(O11,$O$4:$O$30)+COUNTIF(O$4:O11,O11)-1)","v":8},"فوق المتوسط",null,"دون الضعيف جداً","< 30","F",{"$f":"COUNTIF(Q4:Q30,\"دون الضعيف جداً\")","v":0},0]
[9,"صالح جوهر مفتاح الحسن المهندى",null,3,null,3,null,15,23,12,8,58,54,12.25,0.5444444444444444,{"$f":"IF(AND(O12=\"غ\"),\"غ\",RANK(O12,$O$4:$O$30)+COUNTIF(O$4:O12,O12)-1)","v":14},"متوسط",null,"عدد الطلاب الذي تم اختبارهم",null,null,{"$f":"SUM(V4:V11)","v":25},{"$f":"V12/SUM(V12:V13)","v":0.96153846153846156}]
[10,"طارق نبيل محمد العلي",null,4,null,4,null,20,24,14,9,67,68,15.275000000000002,0.67888888888888899,{"$f":"IF(AND(O13=\"غ\"),\"غ\",RANK(O13,$O$4:$O$30)+COUNTIF(O$4:O13,O13)-1)","v":6},"فوق المتوسط",null,"عدد الطلاب الغائبين",null,null,{"$f":"COUNTA(B4:B30)-V12","v":1},{"$f":"V13/SUM(V12:V13)","v":3.8461538461538464E-2}]
[11,"عبدالرحمن محمد غلوم مندنى العشار",4,2,4,2,null,30,23,12,8,73,50,11.824999999999999,0.52555555555555555,{"$f":"IF(AND(O14=\"غ\"),\"غ\",RANK(O14,$O$4:$O$30)+COUNTIF(O$4:O14,O14)-1)","v":17},"متوسط"]
[12,"عبدالرحمن يعقوب علي حسين الكاظم",2,2,2,2,null,20,22,12,7,61,50,11.525,0.51222222222222225,{"$f":"IF(AND(O15=\"غ\"),\"غ\",RANK(O15,$O$4:$O$30)+COUNTIF(O$4:O15,O15)-1)","v":19},"متوسط",null,"الطلاب","العدد","النسبة"]
[13,"عبدالعزيز سعيد ابراهيم ابوزناد",2,5,2,5,null,35,24,14,9,82,72,16.45,0.73111111111111116,{"$f":"IF(AND(O16=\"غ\"),\"غ\",RANK(O16,$O$4:$O$30)+COUNTIF(O$4:O16,O16)-1)","v":3},"جيد",null,"الناجحين",{"$f":"SUM(V4:V8)","v":19},{"$f":"X4","v":0.76}]
[14,"عبداللة عيسى عبدالله بابصيل",3,3,3,3,null,30,23,13,8,74,46,11.05,0.49111111111111116,{"$f":"IF(AND(O17=\"غ\"),\"غ\",RANK(O17,$O$4:$O$30)+COUNTIF(O$4:O17,O17)-1)","v":20},"دون المتوسط",null,"الراسبين",{"$f":"SUM(V9:V11)","v":6},{"$f":"X9","v":0.24}]
[15,"عبداللطيف محمد حمود الدحيم الدوسرى",3,5,3,5,null,40,24,14,9,87,54,12.975000000000001,0.57666666666666677,{"$f":"IF(AND(O18=\"غ\"),\"غ\",RANK(O18,$O$4:$O$30)+COUNTIF(O$4:O18,O18)-1)","v":11},"متوسط",null,"المجموع",{"$f":"SUM(T16:T17)","v":25},{"$f":"SUM(U16:U17)","v":1}]
[16,"عبدالله اسماعيل محمد عرسان",3,5,3,5,null,40,23,13,8,84,54,12.9,0.57333333333333336,{"$f":"IF(AND(O19=\"غ\"),\"غ\",RANK(O19,$O$4:$O$30)+COUNTIF(O$4:O19,O19)-1)","v":12},"متوسط"]
[17,"عبدالله فرج عباس فرج الماس",null,null,null,null,null,"غ",20,12,7,39,"","غ","غ",{"$f":"IF(AND(O20=\"غ\"),\"غ\",RANK(O20,$O$4:$O$30)+COUNTIF(O$4:O20,O20)-1)","v":"غ"},"غ",null,"التحصيل الأكاديمي",null,{"$f":"AVERAGE(M4:M30)/M$3","v":0.54880000000000007}]
[18,"فيصل احمد محمد طرار الرميحى",null,4,null,4,null,20,23,12,7,62,50,11.55,0.51333333333333331,{"$f":"IF(AND(O21=\"غ\"),\"غ\",RANK(O21,$O$4:$O$30)+COUNTIF(O$4:O21,O21)-1)","v":18},"متوسط"]
[19,"ماجد خالد حسن صالح الكوارى",null,2,null,2,null,10,22,12,7,51,42,9.6750000000000007,0.43000000000000005,{"$f":"IF(AND(O22=\"غ\"),\"غ\",RANK(O22,$O$4:$O$30)+COUNTIF(O$4:O22,O22)-1)","v":23},"دون المتوسط"]
[20,"مبارك عبدالله مبارك عيسى الكعبى",null,2,null,2,null,10,22,12,7,51,30,7.2750000000000004,0.32333333333333336,{"$f":"IF(AND(O23=\"غ\"),\"غ\",RANK(O23,$O$4:$O$30)+COUNTIF(O$4:O23,O23)-1)","v":25},"ضعيف"]
[21,"مبارك محمد عبدالقادر محمد جلال",3,4,3,4,null,35,23,13,8,79,62,14.375,0.63888888888888884,{"$f":"IF(AND(O24=\"غ\"),\"غ\",RANK(O24,$O$4:$O$30)+COUNTIF(O$4:O24,O24)-1)","v":7},"فوق المتوسط",null,"الفرع","الناجحين","الراسبين","التحصيل"]
[22,"محمد صالح محمد المحرى المهندى",2,5,2,5,null,35,22,12,7,76,56.000000000000007,13.100000000000003,0.58222222222222231,{"$f":"IF(AND(O25=\"غ\"),\"غ\",RANK(O25,$O$4:$O$30)+COUNTIF(O$4:O25,O25)-1)","v":10},"متوسط",null,{"$f":"H2","v":"Quizzes"},{"$f":"COUNTIF(H4:H30,\">=\"&H$3/2)/COUNT(H4:H30)","v":0.56000000000000005},{"$f":"IF(T25=\"\",\"\",100%-T25)","v":0.43999999999999995},{"$f":"IF($U25=\"\",\"\",AVERAGE(H4:H30)/H$3)","v":0.54}]
[23,"ناصر شاهين خميس بوجسوم البدر",null,2,null,2,null,10,22,12,7,51,46,10.475000000000001,0.46555555555555567,{"$f":"IF(AND(O26=\"غ\"),\"غ\",RANK(O26,$O$4:$O$30)+COUNTIF(O$4:O26,O26)-1)","v":21},"دون المتوسط",null,{"$f":"I2","v":"الواجب"},{"$f":"COUNTIF(I4:I30,\">=\"&I$3/2)/COUNT(I4:I30)","v":1},0,{"$f":"IF($U26=\"\",\"\",AVERAGE(I4:I30)/I$3)","v":0.91538461538461535}]
[24,"ناصر علي عيسى عبدالله النعيمى",3,5,3,5,null,40,24,14,9,87,76,17.375,0.77222222222222225,{"$f":"IF(AND(O27=\"غ\"),\"غ\",RANK(O27,$O$4:$O$30)+COUNTIF(O$4:O27,O27)-1)","v":1},"جيد",null,{"$f":"J2","v":"المشاركة"},{"$f":"COUNTIF(J4:J30,\">=\"&J$3/2)/COUNT(J4:J30)","v":1},0,{"$f":"IF($U27=\"\",\"\",AVERAGE(J4:J30)/J$3)","v":0.85128205128205137}]
[25,"ناصر محمد جاسم ناصر المسلمانى",3,5,3,5,null,40,24,14,9,87,68,15.775000000000002,0.70111111111111113,{"$f":"IF(AND(O28=\"غ\"),\"غ\",RANK(O28,$O$4:$O$30)+COUNTIF(O$4:O28,O28)-1)","v":5},"جيد",null,{"$f":"K2","v":"المشروع"},{"$f":"COUNTIF(K4:K30,\">=\"&K$3/2)/COUNT(K4:K30)","v":1},0,{"$f":"IF($U28=\"\",\"\",AVERAGE(K4:K30)/K$3)","v":0.79615384615384621}]
[26,"يوسف خالد هلال العنزي",2,1,2,1,null,{"$f":"IF(AND(C29=\"\",D29=\"\",E29=\"\",F29=\"\",G29=\"\"),\"غ\",$H$3*SUM(C29:G29)/SUM($C$3:$G$3))","v":15},22,12,7,{"$f":"IF(AND(C29=\"\",D29=\"\",E29=\"\",F29=\"\",G29=\"\",I29=\"\",J29=\"\",K29=\"\"),\"غ\",SUM(H29:K29))","v":56},32,{"$f":"IF(M29=\"\",\"غ\",IF(L29=\"غ\",M29*0.2,SUM(L29*2.5/$L$3,M29*0.2)))","v":7.8000000000000007},0.34666666666666673,{"$f":"IF(AND(O29=\"غ\"),\"غ\",RANK(O29,$O$4:$O$30)+COUNTIF(O$4:O29,O29)-1)","v":24},{"$f":"IF(O29=\"غ\",\"غ\",IF(O29>=90%,\"ممتاز\",IF(O29>=80%,\"جيد جداً\",IF(O29>=70%,\"جيد\",IF(O29>=60%,\"فوق المتوسط\",IF(O29>=50%,\"متوسط\",IF(O29>=40%,\"دون المتوسط\",IF(O29>=30%,\"ضعيف\",\"دون الضعيف جداً\"))))))))","v":"ضعيف"},null,{"$f":"M2","v":"Exam"},{"$f":"COUNTIF(M4:M30,\">=\"&M$3/2)/COUNT(M4:M30)","v":0.76},0.24,{"$f":"IF($U29=\"\",\"\",AVERAGE(M4:M30)/M$3)","v":0.54880000000000007}]
[null,null,null,null,null,null,null,null,null,null,null,null,""]
[null,null,null,null,null,null,null,null,null,null,null,null,""]

{"sheet":"9-7","index":25,"n_rows":31,"n_cols":24,"rows_kept":31,"cut":false,"hidden":false,"merged":[[0,0,0,16],[1,0,2,0],[1,1,2,1],[1,16,2,16],[1,18,1,23],[2,19,2,20],[2,22,2,23],[19,18,20,19],[19,20,20,20],[3,23,7,23],[8,23,10,23],[11,18,11,20],[11,22,11,23],[12,18,12,20],[12,22,12,23]]}
["Grade (9-7) كشف درجات الطلاب  "]
["م","اسم الطالب","Quiz1","Quiz2","Quiz3","Quiz4","Quiz5","Quizzes","الواجب","المشاركة","المشروع","Total","Exam","Final","Percent","Rank","التقدير",null,"تحليل النتائج على حسب التقدير"]
[null,null,5,5,5,5,"درجة5",50,25,15,10,100,100,22.5,"(%)","الترتيب",null,null,"التقدير","المجال",null,"عدد الطلاب","النسبة"]
[1,"احمد خليفه عبدالله البطى الكعبى",2,2.5,2,2.5,null,{"$f":"IF(AND(C4=\"\",D4=\"\",E4=\"\",F4=\"\",G4=\"\"),\"غ\",$H$3*SUM(C4:G4)/SUM($C$3:$G$3))","v":22.5},16,11,6,{"$f":"IF(AND(C4=\"\",D4=\"\",E4=\"\",F4=\"\",G4=\"\",I4=\"\",J4=\"\",K4=\"\"),\"غ\",SUM(H4:K4))","v":55.5},38,{"$f":"IF(M4=\"\",\"غ\",IF(L4=\"غ\",M4*0.2,SUM(L4*2.5/$L$3,M4*0.2)))","v":8.9875000000000007},{"$f":"IF(N4=\"غ\",\"غ\",N4*100/$N$3/100)","v":0.39944444444444449},{"$f":"IF(AND(O4=\"غ\"),\"غ\",RANK(O4,$O$4:$O$30)+COUNTIF(O$4:O4,O4)-1)","v":25},{"$f":"IF(O4=\"غ\",\"غ\",IF(O4>=90%,\"ممتاز\",IF(O4>=80%,\"جيد جداً\",IF(O4>=70%,\"جيد\",IF(O4>=60%,\"فوق المتوسط\",IF(O4>=50%,\"متوسط\",IF(O4>=40%,\"دون المتوسط\",IF(O4>=30%,\"ضعيف\",\"دون الضعيف جداً\"))))))))","v":"ضعيف"},null,"ممتاز"," ≥ 90","A+",{"$f":"COUNTIF(Q4:Q30,\"ممتاز\")","v":0},{"$f":"(V4/$V$12)","v":0},{"$f":"SUM(W4:W8)","v":0.80769230769230771}]
[2,"احمد فهد علي خميس المسلمانى",4,3.5,4,3.5,null,{"$f":"IF(AND(C5=\"\",D5=\"\",E5=\"\",F5=\"\",G5=\"\"),\"غ\",$H$3*SUM(C5:G5)/SUM($C$3:$G$3))","v":37.5},23,12,8,{"$f":"IF(AND(C5=\"\",D5=\"\",E5=\"\",F5=\"\",G5=\"\",I5=\"\",J5=\"\",K5=\"\"),\"غ\",SUM(H5:K5))","v":80.5},70,{"$f":"IF(M5=\"\",\"غ\",IF(L5=\"غ\",M5*0.2,SUM(L5*2.5/$L$3,M5*0.2)))","v":16.012499999999999},{"$f":"IF(N5=\"غ\",\"غ\",N5*100/$N$3/100)","v":0.71166666666666667},{"$f":"IF(AND(O5=\"غ\"),\"غ\",RANK(O5,$O$4:$O$30)+COUNTIF(O$4:O5,O5)-1)","v":3},{"$f":"IF(O5=\"غ\",\"غ\",IF(O5>=90%,\"ممتاز\",IF(O5>=80%,\"جيد جداً\",IF(O5>=70%,\"جيد\",IF(O5>=60%,\"فوق المتوسط\",IF(O5>=50%,\"متوسط\",IF(O5>=40%,\"دون المتوسط\",IF(O5>=30%,\"ضعيف\",\"دون الضعيف جداً\"))))))))","v":"جيد"},null,"جيد جداً","≥ 80","A",{"$f":"COUNTIF(Q4:Q30,\"جيد جداً\")","v":0},0]
[3,"بلال جوهر بلال جوهر العبدالله",3,1.5,3,1.5,null,22.5,22,11,5,60.5,54,12.3125,0.54722222222222217,{"$f":"IF(AND(O6=\"غ\"),\"غ\",RANK(O6,$O$4:$O$30)+COUNTIF(O$4:O6,O6)-1)","v":14},"متوسط",null,"جيد","≥ 70","B+",{"$f":"COUNTIF(Q4:Q30,\"جيد\")","v":3},0.11538461538461539]
[4,"حمود خالد عيسى عبدالرزاق المريخى",2,3,2,3,null,25,17,9,5,56,52,11.8,0.52444444444444438,{"$f":"IF(AND(O7=\"غ\"),\"غ\",RANK(O7,$O$4:$O$30)+COUNTIF(O$4:O7,O7)-1)","v":18},"متوسط",null,"فوق المتوسط","≥ 60","B",{"$f":"COUNTIF(Q4:Q30,\"فوق المتوسط\")","v":2},7.6923076923076927E-2]
[5,"خالد أدريس محمد احمد",1,3,1,3,null,20,23,13,9,65,72,16.024999999999999,0.71222222222222209,{"$f":"IF(AND(O8=\"غ\"),\"غ\",RANK(O8,$O$4:$O$30)+COUNTIF(O$4:O8,O8)-1)","v":2},"جيد",null,"متوسط","≥ 50","C",{"$f":"COUNTIF(Q4:Q30,\"متوسط\")","v":16},0.61538461538461542]
[6,"خالد جابر ابراهيم الجباره الرميحى",2,3.5,2,3.5,null,27.5,18,11,6,62.5,52,11.9625,0.53166666666666662,{"$f":"IF(AND(O9=\"غ\"),\"غ\",RANK(O9,$O$4:$O$30)+COUNTIF(O$4:O9,O9)-1)","v":16},"متوسط",null,"دون المتوسط","≥ 40","D",{"$f":"COUNTIF(Q4:Q30,\"دون المتوسط\")","v":3},0.11538461538461539,{"$f":"SUM(W9:W11)","v":0.19230769230769232}]
[7,"خليفه سعيد سالم سعيد الخليفى",null,4,null,4,null,20,19,11,7,57,60,13.425000000000001,0.59666666666666668,{"$f":"IF(AND(O10=\"غ\"),\"غ\",RANK(O10,$O$4:$O$30)+COUNTIF(O$4:O10,O10)-1)","v":6},"متوسط",null,"ضعيف","≥ 30","E",{"$f":"COUNTIF(Q4:Q30,\"ضعيف\")","v":2},7.6923076923076927E-2]
[8,"خليل ابراهيم مهدى يوسف الحداد",0,1,0,1,null,5,11,5,4,25,40,8.625,0.38333333333333336,{"$f":"IF(AND(O11=\"غ\"),\"غ\",RANK(O11,$O$4:$O$30)+COUNTIF(O$4:O11,O11)-1)","v":26},"ضعيف",null,"دون الضعيف جداً","< 30","F",{"$f":"COUNTIF(Q4:Q30,\"دون الضعيف جداً\")","v":0},0]
[9,"سالم مبارك طالب مسعود المهندى",1,1,1,1,null,10,16,8,7,41,50,11.025,0.49,{"$f":"IF(AND(O12=\"غ\"),\"غ\",RANK(O12,$O$4:$O$30)+COUNTIF(O$4:O12,O12)-1)","v":22},"دون المتوسط",null,"عدد الطلاب الذي تم اختبارهم",null,null,{"$f":"SUM(V4:V11)","v":26},{"$f":"V12/SUM(V12:V13)","v":1}]
[10,"سلطان كريم دريعان الرمالى الشمرى",3,2.5,3,2.5,null,27.5,14,5,5,51.5,46,10.487500000000001,0.46611111111111114,{"$f":"IF(AND(O13=\"غ\"),\"غ\",RANK(O13,$O$4:$O$30)+COUNTIF(O$4:O13,O13)-1)","v":23},"دون المتوسط",null,"عدد الطلاب الغائبين",null,null,{"$f":"COUNTA(B4:B30)-V12","v":0},{"$f":"V13/SUM(V12:V13)","v":0}]
[11,"صقر فهد حمد ال جبر النعيمى",2,3,2,3,null,25,19,7,6,57,76,16.625,0.73888888888888882,{"$f":"IF(AND(O14=\"غ\"),\"غ\",RANK(O14,$O$4:$O$30)+COUNTIF(O$4:O14,O14)-1)","v":1},"جيد"]
[12,"صقر منصور صقر منصور الخليفى",5,2.5,5,2.5,null,37.5,23,9,7,76.5,62,14.3125,0.63611111111111118,{"$f":"IF(AND(O15=\"غ\"),\"غ\",RANK(O15,$O$4:$O$30)+COUNTIF(O$4:O15,O15)-1)","v":5},"فوق المتوسط",null,"الطلاب","العدد","النسبة"]
[13,"عبدالعزيز عادل جاسم احمد الكوارى",3,4.5,3,4.5,null,37.5,19,8,7,71.5,56.000000000000007,12.987500000000002,0.5772222222222223,{"$f":"IF(AND(O16=\"غ\"),\"غ\",RANK(O16,$O$4:$O$30)+COUNTIF(O$4:O16,O16)-1)","v":10},"متوسط",null,"الناجحين",{"$f":"SUM(V4:V8)","v":21},{"$f":"X4","v":0.80769230769230771}]
[14,"عبدالله حمد عبدالله راشد السبيعى",2,null,2,null,null,10,15,7,5,37,56.000000000000007,12.125000000000004,0.53888888888888908,{"$f":"IF(AND(O17=\"غ\"),\"غ\",RANK(O17,$O$4:$O$30)+COUNTIF(O$4:O17,O17)-1)","v":15},"متوسط",null,"الراسبين",{"$f":"SUM(V9:V11)","v":5},{"$f":"X9","v":0.19230769230769232}]
[15,"عبدالله يوسف احمد علي فريدون",1,3,1,3,null,20,19,7,6,52,56.000000000000007,12.500000000000004,0.5555555555555558,{"$f":"IF(AND(O18=\"غ\"),\"غ\",RANK(O18,$O$4:$O$30)+COUNTIF(O$4:O18,O18)-1)","v":12},"متوسط",null,"المجموع",{"$f":"SUM(T16:T17)","v":26},{"$f":"SUM(U16:U17)","v":1}]
[16,"عبدالمحسن أحمد عزالدين",4,3,4,3,null,35,18,6,6,65,54,12.425000000000001,0.55222222222222217,{"$f":"IF(AND(O19=\"غ\"),\"غ\",RANK(O19,$O$4:$O$30)+COUNTIF(O$4:O19,O19)-1)","v":13},"متوسط"]
[17,"علي خالد علي احمد التميمى",null,2,null,2,null,10,16,8,5,39,54,11.775,0.52333333333333332,{"$f":"IF(AND(O20=\"غ\"),\"غ\",RANK(O20,$O$4:$O$30)+COUNTIF(O$4:O20,O20)-1)","v":19},"متوسط",null,"التحصيل الأكاديمي",null,{"$f":"AVERAGE(M4:M30)/M$3","v":0.55769230769230771}]
[18,"علي ياسر أحمد حداد",2,3,2,3,null,25,23,12,8,68,70,15.7,0.69777777777777772,{"$f":"IF(AND(O21=\"غ\"),\"غ\",RANK(O21,$O$4:$O$30)+COUNTIF(O$4:O21,O21)-1)","v":4},"فوق المتوسط"]
[19,"عيسى حمد عيسى حسين الماجد",1,1.5,1,1.5,null,12.5,19,9,7,47.5,60,13.1875,0.58611111111111114,{"$f":"IF(AND(O22=\"غ\"),\"غ\",RANK(O22,$O$4:$O$30)+COUNTIF(O$4:O22,O22)-1)","v":8},"متوسط"]
[20,"فهد راشد محمد مطر الكوارى",2,null,2,null,null,10,18,8,6,42,52,11.450000000000001,0.50888888888888884,{"$f":"IF(AND(O23=\"غ\"),\"غ\",RANK(O23,$O$4:$O$30)+COUNTIF(O$4:O23,O23)-1)","v":20},"متوسط"]
[21,"محمد خالد عيسى يوسف المسلمانى",3,3,3,3,null,30,17,8,7,62,57.999999999999993,13.15,0.58444444444444443,{"$f":"IF(AND(O24=\"غ\"),\"غ\",RANK(O24,$O$4:$O$30)+COUNTIF(O$4:O24,O24)-1)","v":9},"متوسط",null,"الفرع","الناجحين","الراسبين","التحصيل"]
[22,"محمد غيث جبر الخويطر العجمى",4,3,4,3,null,35,17,7,7,66,57.999999999999993,13.25,0.58888888888888891,{"$f":"IF(AND(O25=\"غ\"),\"غ\",RANK(O25,$O$4:$O$30)+COUNTIF(O$4:O25,O25)-1)","v":7},"متوسط",null,{"$f":"H2","v":"Quizzes"},{"$f":"COUNTIF(H4:H30,\">=\"&H$3/2)/COUNT(H4:H30)","v":0.5},{"$f":"IF(T25=\"\",\"\",100%-T25)","v":0.5},{"$f":"IF($U25=\"\",\"\",AVERAGE(H4:H30)/H$3)","v":0.45769230769230768}]
[23,"مشعل علي يوسف عبدالرحمن العبدالجبار",1,4.5,1,4.5,null,27.5,19,9,6,61.5,56.000000000000007,12.737500000000002,0.56611111111111123,{"$f":"IF(AND(O26=\"غ\"),\"غ\",RANK(O26,$O$4:$O$30)+COUNTIF(O$4:O26,O26)-1)","v":11},"متوسط",null,{"$f":"I2","v":"الواجب"},{"$f":"COUNTIF(I4:I30,\">=\"&I$3/2)/COUNT(I4:I30)","v":0.96153846153846156},3.8461538461538436E-2,{"$f":"IF($U26=\"\",\"\",AVERAGE(I4:I30)/I$3)","v":0.72153846153846157}]
[24,"ناصر ماجد محمد عبدالعزيز الخليفى",2,3,2,3,null,25,17,7,6,55,50,11.375,0.50555555555555554,{"$f":"IF(AND(O27=\"غ\"),\"غ\",RANK(O27,$O$4:$O$30)+COUNTIF(O$4:O27,O27)-1)","v":21},"متوسط",null,{"$f":"J2","v":"المشاركة"},{"$f":"COUNTIF(J4:J30,\">=\"&J$3/2)/COUNT(J4:J30)","v":0.61538461538461542},0.38461538461538458,{"$f":"IF($U27=\"\",\"\",AVERAGE(J4:J30)/J$3)","v":0.55897435897435899}]
[25,"نايف خالد سلطان جابر",4,null,4,null,null,20,16,5,5,46,44,9.9500000000000011,0.44222222222222229,{"$f":"IF(AND(O28=\"غ\"),\"غ\",RANK(O28,$O$4:$O$30)+COUNTIF(O$4:O28,O28)-1)","v":24},"دون المتوسط",null,{"$f":"K2","v":"المشروع"},{"$f":"COUNTIF(K4:K30,\">=\"&K$3/2)/COUNT(K4:K30)","v":0.96153846153846156},3.8461538461538436E-2,{"$f":"IF($U28=\"\",\"\",AVERAGE(K4:K30)/K$3)","v":0.61923076923076925}]
[26,"يوسف حسن يوسف علي الباكر",null,3.5,null,3.5,null,{"$f":"IF(AND(C29=\"\",D29=\"\",E29=\"\",F29=\"\",G29=\"\"),\"غ\",$H$3*SUM(C29:G29)/SUM($C$3:$G$3))","v":17.5},15,5,5,{"$f":"IF(AND(C29=\"\",D29=\"\",E29=\"\",F29=\"\",G29=\"\",I29=\"\",J29=\"\",K29=\"\"),\"غ\",SUM(H29:K29))","v":42.5},54,{"$f":"IF(M29=\"\",\"غ\",IF(L29=\"غ\",M29*0.2,SUM(L29*2.5/$L$3,M29*0.2)))","v":11.862500000000001},0.52722222222222226,{"$f":"IF(AND(O29=\"غ\"),\"غ\",RANK(O29,$O$4:$O$30)+COUNTIF(O$4:O29,O29)-1)","v":17},{"$f":"IF(O29=\"غ\",\"غ\",IF(O29>=90%,\"ممتاز\",IF(O29>=80%,\"جيد جداً\",IF(O29>=70%,\"جيد\",IF(O29>=60%,\"فوق المتوسط\",IF(O29>=50%,\"متوسط\",IF(O29>=40%,\"دون المتوسط\",IF(O29>=30%,\"ضعيف\",\"دون الضعيف جداً\"))))))))","v":"متوسط"},null,{"$f":"M2","v":"Exam"},{"$f":"COUNTIF(M4:M30,\">=\"&M$3/2)/COUNT(M4:M30)","v":0.84615384615384615},0.15384615384615385,{"$f":"IF($U29=\"\",\"\",AVERAGE(M4:M30)/M$3)","v":0.55769230769230771}]
[null,null,null,null,null,null,null,null,null,null,null,null,""]
[null,null,null,null,null,null,null,null,null,null,null,null,""]

{"sheet":"9-8","index":26,"n_rows":31,"n_cols":24,"rows_kept":31,"cut":false,"hidden":false,"merged":[[0,0,0,16],[1,0,2,0],[1,1,2,1],[1,16,2,16],[1,18,1,23],[2,19,2,20],[2,22,2,23],[19,18,20,19],[19,20,20,20],[3,23,7,23],[8,23,10,23],[11,18,11,20],[11,22,11,23],[12,18,12,20],[12,22,12,23]]}
["Grade (9-8) كشف درجات الطلاب  "]
["م","اسم الطالب","Quiz1","Quiz2","Quiz3","Quiz4","Quiz5","Quizzes","الواجب","المشاركة","المشروع","Total","Exam","Final","Percent","Rank","التقدير",null,"تحليل النتائج على حسب التقدير"]
[null,null,5,5,5,5,"درجة5",50,25,15,10,100,100,22.5,"(%)","الترتيب",null,null,"التقدير","المجال",null,"عدد الطلاب","النسبة"]
[1,"احمد خالد احمد محمد العبيدلى",5,4,5,4,null,{"$f":"IF(AND(C4=\"\",D4=\"\",E4=\"\",F4=\"\",G4=\"\"),\"غ\",$H$3*SUM(C4:G4)/SUM($C$3:$G$3))","v":45},22,13,8,{"$f":"IF(AND(C4=\"\",D4=\"\",E4=\"\",F4=\"\",G4=\"\",I4=\"\",J4=\"\",K4=\"\"),\"غ\",SUM(H4:K4))","v":88},50,{"$f":"IF(M4=\"\",\"غ\",IF(L4=\"غ\",M4*0.2,SUM(L4*2.5/$L$3,M4*0.2)))","v":12.2},{"$f":"IF(N4=\"غ\",\"غ\",N4*100/$N$3/100)","v":0.54222222222222216},{"$f":"IF(AND(O4=\"غ\"),\"غ\",RANK(O4,$O$4:$O$30)+COUNTIF(O$4:O4,O4)-1)","v":17},{"$f":"IF(O4=\"غ\",\"غ\",IF(O4>=90%,\"ممتاز\",IF(O4>=80%,\"جيد جداً\",IF(O4>=70%,\"جيد\",IF(O4>=60%,\"فوق المتوسط\",IF(O4>=50%,\"متوسط\",IF(O4>=40%,\"دون المتوسط\",IF(O4>=30%,\"ضعيف\",\"دون الضعيف جداً\"))))))))","v":"متوسط"},null,"ممتاز"," ≥ 90","A+",{"$f":"COUNTIF(Q4:Q30,\"ممتاز\")","v":0},{"$f":"(V4/$V$12)","v":0},{"$f":"SUM(W4:W8)","v":0.875}]
[2,"جابر راشد جابر راشد الدوسرى",3,4,3,4,null,{"$f":"IF(AND(C5=\"\",D5=\"\",E5=\"\",F5=\"\",G5=\"\"),\"غ\",$H$3*SUM(C5:G5)/SUM($C$3:$G$3))","v":35},23,13,8,{"$f":"IF(AND(C5=\"\",D5=\"\",E5=\"\",F5=\"\",G5=\"\",I5=\"\",J5=\"\",K5=\"\"),\"غ\",SUM(H5:K5))","v":79},50,{"$f":"IF(M5=\"\",\"غ\",IF(L5=\"غ\",M5*0.2,SUM(L5*2.5/$L$3,M5*0.2)))","v":11.975},{"$f":"IF(N5=\"غ\",\"غ\",N5*100/$N$3/100)","v":0.53222222222222226},{"$f":"IF(AND(O5=\"غ\"),\"غ\",RANK(O5,$O$4:$O$30)+COUNTIF(O$4:O5,O5)-1)","v":18},{"$f":"IF(O5=\"غ\",\"غ\",IF(O5>=90%,\"ممتاز\",IF(O5>=80%,\"جيد جداً\",IF(O5>=70%,\"جيد\",IF(O5>=60%,\"فوق المتوسط\",IF(O5>=50%,\"متوسط\",IF(O5>=40%,\"دون المتوسط\",IF(O5>=30%,\"ضعيف\",\"دون الضعيف جداً\"))))))))","v":"متوسط"},null,"جيد جداً","≥ 80","A",{"$f":"COUNTIF(Q4:Q30,\"جيد جداً\")","v":1},4.1666666666666664E-2]
[3,"حمد عادل عبد الله النعيمي",null,1,null,1,null,5,22,13,8,48,46,10.4,0.4622222222222222,{"$f":"IF(AND(O6=\"غ\"),\"غ\",RANK(O6,$O$4:$O$30)+COUNTIF(O$4:O6,O6)-1)","v":22},"دون المتوسط",null,"جيد","≥ 70","B+",{"$f":"COUNTIF(Q4:Q30,\"جيد\")","v":6},0.25]
[4,"حمد فرحان فرج عون المحمد",3,4,3,4,null,35,24,13,9,81,72,16.425000000000001,0.73,{"$f":"IF(AND(O7=\"غ\"),\"غ\",RANK(O7,$O$4:$O$30)+COUNTIF(O$4:O7,O7)-1)","v":4},"جيد",null,"فوق المتوسط","≥ 60","B",{"$f":"COUNTIF(Q4:Q30,\"فوق المتوسط\")","v":6},0.25]
[5,"خالد غانم راشد خلف العبدالله",4,4,4,4,null,40,22,13,9,84,54,12.9,0.57333333333333336,{"$f":"IF(AND(O8=\"غ\"),\"غ\",RANK(O8,$O$4:$O$30)+COUNTIF(O$4:O8,O8)-1)","v":14},"متوسط",null,"متوسط","≥ 50","C",{"$f":"COUNTIF(Q4:Q30,\"متوسط\")","v":8},0.33333333333333331]
[6,"راشد مبارك سعد احمد السليطى",3,1,3,1,null,20,22,13,8,63,50,11.574999999999999,0.51444444444444448,{"$f":"IF(AND(O9=\"غ\"),\"غ\",RANK(O9,$O$4:$O$30)+COUNTIF(O$4:O9,O9)-1)","v":20},"متوسط",null,"دون المتوسط","≥ 40","D",{"$f":"COUNTIF(Q4:Q30,\"دون المتوسط\")","v":3},0.125,{"$f":"SUM(W9:W11)","v":0.125}]
[7,"طلال سعد مبارك زايد الكبيسى",3,4,3,4,null,35,22,13,8,78,null,"غ","غ",{"$f":"IF(AND(O10=\"غ\"),\"غ\",RANK(O10,$O$4:$O$30)+COUNTIF(O$4:O10,O10)-1)","v":"غ"},"غ",null,"ضعيف","≥ 30","E",{"$f":"COUNTIF(Q4:Q30,\"ضعيف\")","v":0},0]
[8,"عبدالعزيز جوهر مرزوق جوهر العبدالله",3,2,3,2,null,25,22,12,8,67,60,13.675000000000001,0.60777777777777775,{"$f":"IF(AND(O11=\"غ\"),\"غ\",RANK(O11,$O$4:$O$30)+COUNTIF(O$4:O11,O11)-1)","v":13},"فوق المتوسط",null,"دون الضعيف جداً","< 30","F",{"$f":"COUNTIF(Q4:Q30,\"دون الضعيف جداً\")","v":0},0]
[9,"عبدالله سالم مبارك المسرورى الهاجرى",5,4,5,4,null,45,24,14,9,92,70,16.3,0.72444444444444445,{"$f":"IF(AND(O12=\"غ\"),\"غ\",RANK(O12,$O$4:$O$30)+COUNTIF(O$4:O12,O12)-1)","v":5},"جيد",null,"عدد الطلاب الذي تم اختبارهم",null,null,{"$f":"SUM(V4:V11)","v":24},{"$f":"V12/SUM(V12:V13)","v":0.96}]
[10,"عبدالله محمد عبدالفتاح",5,5,5,5,null,50,23,13,7,93,66,15.525000000000002,0.69000000000000017,{"$f":"IF(AND(O13=\"غ\"),\"غ\",RANK(O13,$O$4:$O$30)+COUNTIF(O$4:O13,O13)-1)","v":8},"فوق المتوسط",null,"عدد الطلاب الغائبين",null,null,{"$f":"COUNTA(B4:B30)-V12","v":1},{"$f":"V13/SUM(V12:V13)","v":0.04}]
[11,"عبدالله محمد عبدالله المريخى المهندى",3,3,3,3,null,30,23,13,8,74,70,15.85,0.70444444444444443,{"$f":"IF(AND(O14=\"غ\"),\"غ\",RANK(O14,$O$4:$O$30)+COUNTIF(O$4:O14,O14)-1)","v":6},"جيد"]
[12,"عبدالله نصف عبدالله نصف السليطى",null,2,null,2,null,10,23,13,8,54,72,15.75,0.7,{"$f":"IF(AND(O15=\"غ\"),\"غ\",RANK(O15,$O$4:$O$30)+COUNTIF(O$4:O15,O15)-1)","v":7},"جيد",null,"الطلاب","العدد","النسبة"]
[13,"عتران دبسان حسن حمد القحطاني",null,3,null,3,null,15,22,13,8,58,40,9.4499999999999993,0.41999999999999993,{"$f":"IF(AND(O16=\"غ\"),\"غ\",RANK(O16,$O$4:$O$30)+COUNTIF(O$4:O16,O16)-1)","v":24},"دون المتوسط",null,"الناجحين",{"$f":"SUM(V4:V8)","v":21},{"$f":"X4","v":0.875}]
[14,"فهد جابر محمد علي الكبيسى",3,4,3,4,null,35,22,12,8,77,52,12.325000000000001,0.54777777777777781,{"$f":"IF(AND(O17=\"غ\"),\"غ\",RANK(O17,$O$4:$O$30)+COUNTIF(O$4:O17,O17)-1)","v":16},"متوسط",null,"الراسبين",{"$f":"SUM(V9:V11)","v":3},{"$f":"X9","v":0.125}]
[15,"محمد احمد جاسم العجلان الكعبى",5,3,5,3,null,40,24,14,9,87,60,14.175000000000001,0.63,{"$f":"IF(AND(O18=\"غ\"),\"غ\",RANK(O18,$O$4:$O$30)+COUNTIF(O$4:O18,O18)-1)","v":9},"فوق المتوسط",null,"المجموع",{"$f":"SUM(T16:T17)","v":24},{"$f":"SUM(U16:U17)","v":1}]
[16,"محمد احمد حمد سالم الكوارى",null,1,null,1,null,5,22,12,7,46,46,10.350000000000001,0.46000000000000008,{"$f":"IF(AND(O19=\"غ\"),\"غ\",RANK(O19,$O$4:$O$30)+COUNTIF(O$4:O19,O19)-1)","v":23},"دون المتوسط"]
[17,"محمد خالد محمد ابوجاسم الكعبى",3,null,3,null,null,15,22,12,7,56,52,11.8,0.52444444444444438,{"$f":"IF(AND(O20=\"غ\"),\"غ\",RANK(O20,$O$4:$O$30)+COUNTIF(O$4:O20,O20)-1)","v":19},"متوسط",null,"التحصيل الأكاديمي",null,{"$f":"AVERAGE(M4:M30)/M$3","v":0.59666666666666668}]
[18,"محمد راشد سعود راشد السليطى",2,0,2,0,null,10,22,12,7,51,64,14.075000000000001,0.62555555555555553,{"$f":"IF(AND(O21=\"غ\"),\"غ\",RANK(O21,$O$4:$O$30)+COUNTIF(O$4:O21,O21)-1)","v":11},"فوق المتوسط"]
[19,"محمد علي عبداللطيف سلطان النعيمى",5,4,5,4,null,45,24,14,9,92,80,18.3,0.81333333333333324,{"$f":"IF(AND(O22=\"غ\"),\"غ\",RANK(O22,$O$4:$O$30)+COUNTIF(O$4:O22,O22)-1)","v":1},"جيد جداً"]
[20,"محمد مبارك احمد يوسف المطاوعه",2,2,2,2,null,20,22,12,8,62,50,11.55,0.51333333333333331,{"$f":"IF(AND(O23=\"غ\"),\"غ\",RANK(O23,$O$4:$O$30)+COUNTIF(O$4:O23,O23)-1)","v":21},"متوسط"]
[21,"مشعل محمد حسن عبدالله الانصارى",4,4,4,4,null,40,24,14,9,87,74,16.975000000000001,0.75444444444444458,{"$f":"IF(AND(O24=\"غ\"),\"غ\",RANK(O24,$O$4:$O$30)+COUNTIF(O$4:O24,O24)-1)","v":3},"جيد",null,"الفرع","الناجحين","الراسبين","التحصيل"]
[22,"ناصر راشد شبيب الرمزانى النعيمى",3,2,3,2,null,25,22,13,8,68,62,14.1,0.62666666666666659,{"$f":"IF(AND(O25=\"غ\"),\"غ\",RANK(O25,$O$4:$O$30)+COUNTIF(O$4:O25,O25)-1)","v":10},"فوق المتوسط",null,{"$f":"H2","v":"Quizzes"},{"$f":"COUNTIF(H4:H30,\">=\"&H$3/2)/COUNT(H4:H30)","v":0.68},{"$f":"IF(T25=\"\",\"\",100%-T25)","v":0.31999999999999995},{"$f":"IF($U25=\"\",\"\",AVERAGE(H4:H30)/H$3)","v":0.57200000000000006}]
[23,"ناصر عبدالرحمن مالالله عبدالرحمن جابر",4,2,4,2,null,30,23,13,8,74,54,12.65,0.56222222222222218,{"$f":"IF(AND(O26=\"غ\"),\"غ\",RANK(O26,$O$4:$O$30)+COUNTIF(O$4:O26,O26)-1)","v":15},"متوسط",null,{"$f":"I2","v":"الواجب"},{"$f":"COUNTIF(I4:I30,\">=\"&I$3/2)/COUNT(I4:I30)","v":1},0,{"$f":"IF($U26=\"\",\"\",AVERAGE(I4:I30)/I$3)","v":0.9104000000000001}]
[24,"ياسين عمر عبدالعزيز السيد احمد",3,3,3,3,null,30,24,14,9,77,78,17.525000000000002,0.77888888888888896,{"$f":"IF(AND(O27=\"غ\"),\"غ\",RANK(O27,$O$4:$O$30)+COUNTIF(O$4:O27,O27)-1)","v":2},"جيد",null,{"$f":"J2","v":"المشاركة"},{"$f":"COUNTIF(J4:J30,\">=\"&J$3/2)/COUNT(J4:J30)","v":1},0,{"$f":"IF($U27=\"\",\"\",AVERAGE(J4:J30)/J$3)","v":0.8666666666666667}]
[25,"يوسف عبدالله يوسف علي جسيمان",4,2,4,2,null,30,24,14,9,77,60,13.925000000000001,0.61888888888888882,{"$f":"IF(AND(O28=\"غ\"),\"غ\",RANK(O28,$O$4:$O$30)+COUNTIF(O$4:O28,O28)-1)","v":12},"فوق المتوسط",null,{"$f":"K2","v":"المشروع"},{"$f":"COUNTIF(K4:K30,\">=\"&K$3/2)/COUNT(K4:K30)","v":1},0,{"$f":"IF($U28=\"\",\"\",AVERAGE(K4:K30)/K$3)","v":0.81600000000000006}]
[null,null,null,null,null,null,null,null,null,null,null,null,"",null,null,null,null,null,{"$f":"M2","v":"Exam"},{"$f":"COUNTIF(M4:M30,\">=\"&M$3/2)/COUNT(M4:M30)","v":0.875},0.125,{"$f":"IF($U29=\"\",\"\",AVERAGE(M4:M30)/M$3)","v":0.59666666666666668}]
[null,null,null,null,null,null,null,null,null,null,null,null,""]
[null,null,null,null,null,null,null,null,null,null,null,null,""]

{"sheet":"9-9","index":27,"n_rows":31,"n_cols":24,"rows_kept":31,"cut":false,"hidden":false,"merged":[[0,0,0,16],[1,0,2,0],[1,1,2,1],[1,16,2,16],[1,18,1,23],[2,19,2,20],[2,22,2,23],[19,18,20,19],[19,20,20,20],[3,23,7,23],[8,23,10,23],[11,18,11,20],[11,22,11,23],[12,18,12,20],[12,22,12,23]]}
["Grade (9-9) كشف درجات الطلاب  "]
["م","اسم الطالب","Quiz1","Quiz2","Quiz3","Quiz4","Quiz5","Quizzes","الواجب","المشاركة","المشروع","Total","Exam","Final","Percent","Rank","التقدير",null,"تحليل النتائج على حسب التقدير"]
[null,null,5,5,5,5,"درجة5",50,25,15,10,100,100,22.5,"(%)","الترتيب",null,null,"التقدير","المجال",null,"عدد الطلاب","النسبة"]
[1,"احمد طعمه سالم ادريس",1,2,1,2,null,{"$f":"IF(AND(C4=\"\",D4=\"\",E4=\"\",F4=\"\",G4=\"\"),\"غ\",$H$3*SUM(C4:G4)/SUM($C$3:$G$3))","v":15},20,13,9,{"$f":"IF(AND(C4=\"\",D4=\"\",E4=\"\",F4=\"\",G4=\"\",I4=\"\",J4=\"\",K4=\"\"),\"غ\",SUM(H4:K4))","v":57},64,{"$f":"IF(M4=\"\",\"غ\",IF(L4=\"غ\",M4*0.2,SUM(L4*2.5/$L$3,M4*0.2)))","v":14.225000000000001},{"$f":"IF(N4=\"غ\",\"غ\",N4*100/$N$3/100)","v":0.63222222222222235},{"$f":"IF(AND(O4=\"غ\"),\"غ\",RANK(O4,$O$4:$O$30)+COUNTIF(O$4:O4,O4)-1)","v":7},{"$f":"IF(O4=\"غ\",\"غ\",IF(O4>=90%,\"ممتاز\",IF(O4>=80%,\"جيد جداً\",IF(O4>=70%,\"جيد\",IF(O4>=60%,\"فوق المتوسط\",IF(O4>=50%,\"متوسط\",IF(O4>=40%,\"دون المتوسط\",IF(O4>=30%,\"ضعيف\",\"دون الضعيف جداً\"))))))))","v":"فوق المتوسط"},null,"ممتاز"," ≥ 90","A+",{"$f":"COUNTIF(Q4:Q30,\"ممتاز\")","v":0},{"$f":"(V4/$V$12)","v":0},{"$f":"SUM(W4:W8)","v":0.84}]
[2,"احمد عصام محمود عبدالعظيم شلتوت",1,2.5,1,2.5,null,{"$f":"IF(AND(C5=\"\",D5=\"\",E5=\"\",F5=\"\",G5=\"\"),\"غ\",$H$3*SUM(C5:G5)/SUM($C$3:$G$3))","v":17.5},20,12,8,{"$f":"IF(AND(C5=\"\",D5=\"\",E5=\"\",F5=\"\",G5=\"\",I5=\"\",J5=\"\",K5=\"\"),\"غ\",SUM(H5:K5))","v":57.5},46,{"$f":"IF(M5=\"\",\"غ\",IF(L5=\"غ\",M5*0.2,SUM(L5*2.5/$L$3,M5*0.2)))","v":10.637500000000001},{"$f":"IF(N5=\"غ\",\"غ\",N5*100/$N$3/100)","v":0.4727777777777778},{"$f":"IF(AND(O5=\"غ\"),\"غ\",RANK(O5,$O$4:$O$30)+COUNTIF(O$4:O5,O5)-1)","v":23},{"$f":"IF(O5=\"غ\",\"غ\",IF(O5>=90%,\"ممتاز\",IF(O5>=80%,\"جيد جداً\",IF(O5>=70%,\"جيد\",IF(O5>=60%,\"فوق المتوسط\",IF(O5>=50%,\"متوسط\",IF(O5>=40%,\"دون المتوسط\",IF(O5>=30%,\"ضعيف\",\"دون الضعيف جداً\"))))))))","v":"دون المتوسط"},null,"جيد جداً","≥ 80","A",{"$f":"COUNTIF(Q4:Q30,\"جيد جداً\")","v":0},0]
[3,"احمد مجلى محمد مجلى المجلى",1,1,1,1,null,10,22,12,7,51,52,11.675000000000001,0.51888888888888884,{"$f":"IF(AND(O6=\"غ\"),\"غ\",RANK(O6,$O$4:$O$30)+COUNTIF(O$4:O6,O6)-1)","v":19},"متوسط",null,"جيد","≥ 70","B+",{"$f":"COUNTIF(Q4:Q30,\"جيد\")","v":1},0.04]
[4,"تميم سلطان راشد يوسف الشريم",2,2.5,2,2.5,null,22.5,20,12,8,62.5,50,11.5625,0.51388888888888884,{"$f":"IF(AND(O7=\"غ\"),\"غ\",RANK(O7,$O$4:$O$30)+COUNTIF(O$4:O7,O7)-1)","v":20},"متوسط",null,"فوق المتوسط","≥ 60","B",{"$f":"COUNTIF(Q4:Q30,\"فوق المتوسط\")","v":8},0.32]
[5,"ثامر الماس سليمان عبدالله الخاطر",3.5,3,3.5,3,null,32.5,24,13,10,79.5,64,14.787500000000001,0.65722222222222226,{"$f":"IF(AND(O8=\"غ\"),\"غ\",RANK(O8,$O$4:$O$30)+COUNTIF(O$4:O8,O8)-1)","v":6},"فوق المتوسط",null,"متوسط","≥ 50","C",{"$f":"COUNTIF(Q4:Q30,\"متوسط\")","v":12},0.48]
[6,"جاسم خالد جاسم حسن الجابر",2.5,2.5,2.5,2.5,null,25,21,13,8,67,null,"غ","غ",{"$f":"IF(AND(O9=\"غ\"),\"غ\",RANK(O9,$O$4:$O$30)+COUNTIF(O$4:O9,O9)-1)","v":"غ"},"غ",null,"دون المتوسط","≥ 40","D",{"$f":"COUNTIF(Q4:Q30,\"دون المتوسط\")","v":4},0.16,{"$f":"SUM(W9:W11)","v":0.16}]
[7,"جاسم عبدالله صالح جابر اليافعى",3.5,2.5,2.5,3.5,null,30,22,12,8,72,68,15.400000000000002,0.68444444444444452,{"$f":"IF(AND(O10=\"غ\"),\"غ\",RANK(O10,$O$4:$O$30)+COUNTIF(O$4:O10,O10)-1)","v":3},"فوق المتوسط",null,"ضعيف","≥ 30","E",{"$f":"COUNTIF(Q4:Q30,\"ضعيف\")","v":0},0]
[8,"جبر خالد محمد عبدالله المسلمانى",2,2,2.5,2.5,null,22.5,22,13,8,65.5,52,12.0375,0.53500000000000003,{"$f":"IF(AND(O11=\"غ\"),\"غ\",RANK(O11,$O$4:$O$30)+COUNTIF(O$4:O11,O11)-1)","v":16},"متوسط",null,"دون الضعيف جداً","< 30","F",{"$f":"COUNTIF(Q4:Q30,\"دون الضعيف جداً\")","v":0},0]
[9,"جمعه عيسى محمد محمد الكعبى",2.5,2.5,3,3,null,27.5,22,12,8,69.5,52,12.137500000000001,0.53944444444444439,{"$f":"IF(AND(O12=\"غ\"),\"غ\",RANK(O12,$O$4:$O$30)+COUNTIF(O$4:O12,O12)-1)","v":15},"متوسط",null,"عدد الطلاب الذي تم اختبارهم",null,null,{"$f":"SUM(V4:V11)","v":25},{"$f":"V12/SUM(V12:V13)","v":0.96153846153846156}]
[10,"جمعه محمد جمعه عبدالله السليطى",2,2,3,3,null,25,22,10,6,63,42,9.9749999999999996,0.44333333333333336,{"$f":"IF(AND(O13=\"غ\"),\"غ\",RANK(O13,$O$4:$O$30)+COUNTIF(O$4:O13,O13)-1)","v":25},"دون المتوسط",null,"عدد الطلاب الغائبين",null,null,{"$f":"COUNTA(B4:B30)-V12","v":1},{"$f":"V13/SUM(V12:V13)","v":3.8461538461538464E-2}]
[11,"حمد علي عبدالعزيز محمد الهيدوس",2,2,3,3,null,25,22,13,8,68,56.000000000000007,12.900000000000002,0.57333333333333347,{"$f":"IF(AND(O14=\"غ\"),\"غ\",RANK(O14,$O$4:$O$30)+COUNTIF(O$4:O14,O14)-1)","v":11},"متوسط"]
[12,"خالد عبدالله محمد عبدالله البوعينين",2,2,4,4,null,30,22,12,6,70,62,14.15,0.62888888888888883,{"$f":"IF(AND(O15=\"غ\"),\"غ\",RANK(O15,$O$4:$O$30)+COUNTIF(O$4:O15,O15)-1)","v":8},"فوق المتوسط",null,"الطلاب","العدد","النسبة"]
[13,"سعود احمد يوسف سهل السهل",1.5,1.5,3.5,3.5,null,25,22,13,8,68,68,15.3,0.68,{"$f":"IF(AND(O16=\"غ\"),\"غ\",RANK(O16,$O$4:$O$30)+COUNTIF(O$4:O16,O16)-1)","v":5},"فوق المتوسط",null,"الناجحين",{"$f":"SUM(V4:V8)","v":21},{"$f":"X4","v":0.84}]
[14,"سعود عبدالرحمن سعيد محمد الشعيبى",3.5,2,2,3.5,null,27.5,22,12,7,68.5,50,11.7125,0.52055555555555555,{"$f":"IF(AND(O17=\"غ\"),\"غ\",RANK(O17,$O$4:$O$30)+COUNTIF(O$4:O17,O17)-1)","v":18},"متوسط",null,"الراسبين",{"$f":"SUM(V9:V11)","v":4},{"$f":"X9","v":0.16}]
[15,"عبدالرحمن احمد قويدر",4.5,3,3,4.5,null,37.5,22,13,8,80.5,70,16.012499999999999,0.71166666666666667,{"$f":"IF(AND(O18=\"غ\"),\"غ\",RANK(O18,$O$4:$O$30)+COUNTIF(O$4:O18,O18)-1)","v":1},"جيد",null,"المجموع",{"$f":"SUM(T16:T17)","v":25},{"$f":"SUM(U16:U17)","v":1}]
[16,"عبدالرحمن عبدالله جبر محمد المسلم",4.5,4.5,4.5,4.5,null,45,22,14,8,89,54,13.025,0.5788888888888889,{"$f":"IF(AND(O19=\"غ\"),\"غ\",RANK(O19,$O$4:$O$30)+COUNTIF(O$4:O19,O19)-1)","v":10},"متوسط"]
[17,"عبدالعزيز مرزوق حمد ال شويرب المرى",4.5,2.5,2.5,4.5,null,35,22,13,8,78,54,12.75,0.56666666666666665,{"$f":"IF(AND(O20=\"غ\"),\"غ\",RANK(O20,$O$4:$O$30)+COUNTIF(O$4:O20,O20)-1)","v":13},"متوسط",null,"التحصيل الأكاديمي",null,{"$f":"AVERAGE(M4:M30)/M$3","v":0.55679999999999996}]
[18,"علي عبدالله علي سلطان الكوارى",4.5,4.5,4.5,4.5,null,45,22,13,7,87,66,15.375,0.68333333333333324,{"$f":"IF(AND(O21=\"غ\"),\"غ\",RANK(O21,$O$4:$O$30)+COUNTIF(O$4:O21,O21)-1)","v":4},"فوق المتوسط"]
[19,"فهد ربيعه حمد العجلان الكعبى",4.5,4.5,4.5,4.5,null,45,22,12,7,86,46,11.350000000000001,0.50444444444444458,{"$f":"IF(AND(O22=\"غ\"),\"غ\",RANK(O22,$O$4:$O$30)+COUNTIF(O$4:O22,O22)-1)","v":21},"متوسط"]
[20,"فيصل محمد راشد النفيحى الكبيسى",3,2.5,2.5,3,null,27.5,22,12,8,69.5,50,11.737500000000001,0.52166666666666661,{"$f":"IF(AND(O23=\"غ\"),\"غ\",RANK(O23,$O$4:$O$30)+COUNTIF(O$4:O23,O23)-1)","v":17},"متوسط"]
[21,"محمد جاسم محمد احمد المناعى",2.5,2.5,2.5,2.5,null,25,22,14,9,70,42,10.15,0.45111111111111113,{"$f":"IF(AND(O24=\"غ\"),\"غ\",RANK(O24,$O$4:$O$30)+COUNTIF(O$4:O24,O24)-1)","v":24},"دون المتوسط",null,"الفرع","الناجحين","الراسبين","التحصيل"]
[22,"محمد سالم محمد سعيد الكوارى",3,2,2,3,null,25,22,12,7,66,56.000000000000007,12.850000000000003,0.57111111111111124,{"$f":"IF(AND(O25=\"غ\"),\"غ\",RANK(O25,$O$4:$O$30)+COUNTIF(O$4:O25,O25)-1)","v":12},"متوسط",null,{"$f":"H2","v":"Quizzes"},{"$f":"COUNTIF(H4:H30,\">=\"&H$3/2)/COUNT(H4:H30)","v":0.76923076923076927},{"$f":"IF(T25=\"\",\"\",100%-T25)","v":0.23076923076923073},{"$f":"IF($U25=\"\",\"\",AVERAGE(H4:H30)/H$3)","v":0.56923076923076921}]
[23,"محمد علي محمد ناصر حسن",4.5,2.5,2.5,4.5,null,35,22,12,7,76,46,11.100000000000001,0.4933333333333334,{"$f":"IF(AND(O26=\"غ\"),\"غ\",RANK(O26,$O$4:$O$30)+COUNTIF(O$4:O26,O26)-1)","v":22},"دون المتوسط",null,{"$f":"I2","v":"الواجب"},{"$f":"COUNTIF(I4:I30,\">=\"&I$3/2)/COUNT(I4:I30)","v":1},0,{"$f":"IF($U26=\"\",\"\",AVERAGE(I4:I30)/I$3)","v":0.87230769230769223}]
[24,"محمد محمود يوسف عبدالله الغزال",3.5,2,2,3.5,null,27.5,22,13,8,70.5,52,12.1625,0.54055555555555557,{"$f":"IF(AND(O27=\"غ\"),\"غ\",RANK(O27,$O$4:$O$30)+COUNTIF(O$4:O27,O27)-1)","v":14},"متوسط",null,{"$f":"J2","v":"المشاركة"},{"$f":"COUNTIF(J4:J30,\">=\"&J$3/2)/COUNT(J4:J30)","v":1},0,{"$f":"IF($U27=\"\",\"\",AVERAGE(J4:J30)/J$3)","v":0.83846153846153848}]
[25,"مسلم عادل سليم المهرى الكثيرى",2,2,2.5,2.5,null,22.5,22,13,8,65.5,62,14.0375,0.62388888888888883,{"$f":"IF(AND(O28=\"غ\"),\"غ\",RANK(O28,$O$4:$O$30)+COUNTIF(O$4:O28,O28)-1)","v":9},"فوق المتوسط",null,{"$f":"K2","v":"المشروع"},{"$f":"COUNTIF(K4:K30,\">=\"&K$3/2)/COUNT(K4:K30)","v":1},0,{"$f":"IF($U28=\"\",\"\",AVERAGE(K4:K30)/K$3)","v":0.78076923076923077}]
[26,"ناصر خالد علي حيدره السعدى",4,3,3,4,null,{"$f":"IF(AND(C29=\"\",D29=\"\",E29=\"\",F29=\"\",G29=\"\"),\"غ\",$H$3*SUM(C29:G29)/SUM($C$3:$G$3))","v":35},22,14,9,{"$f":"IF(AND(C29=\"\",D29=\"\",E29=\"\",F29=\"\",G29=\"\",I29=\"\",J29=\"\",K29=\"\"),\"غ\",SUM(H29:K29))","v":80},68,{"$f":"IF(M29=\"\",\"غ\",IF(L29=\"غ\",M29*0.2,SUM(L29*2.5/$L$3,M29*0.2)))","v":15.600000000000001},0.69333333333333347,{"$f":"IF(AND(O29=\"غ\"),\"غ\",RANK(O29,$O$4:$O$30)+COUNTIF(O$4:O29,O29)-1)","v":2},{"$f":"IF(O29=\"غ\",\"غ\",IF(O29>=90%,\"ممتاز\",IF(O29>=80%,\"جيد جداً\",IF(O29>=70%,\"جيد\",IF(O29>=60%,\"فوق المتوسط\",IF(O29>=50%,\"متوسط\",IF(O29>=40%,\"دون المتوسط\",IF(O29>=30%,\"ضعيف\",\"دون الضعيف جداً\"))))))))","v":"فوق المتوسط"},null,{"$f":"M2","v":"Exam"},{"$f":"COUNTIF(M4:M30,\">=\"&M$3/2)/COUNT(M4:M30)","v":0.8},0.19999999999999996,{"$f":"IF($U29=\"\",\"\",AVERAGE(M4:M30)/M$3)","v":0.55679999999999996}]
[null,null,null,null,null,null,null,null,null,null,null,null,""]
[null,null,null,null,null,null,null,null,null,null,null,null,""]

{"sheet":"All-Grades","index":28,"n_rows":110,"n_cols":7,"rows_kept":110,"cut":false,"hidden":false,"merged":[[109,0,109,1],[92,9,92,11],[102,0,102,1],[102,2,102,3],[104,0,104,1],[105,0,105,1],[107,9,107,11],[64,9,64,11],[74,0,74,1],[74,2,74,3],[78,9,78,11],[88,0,88,1],[88,2,88,3],[34,9,34,11],[45,0,45,1],[45,2,45,3],[48,9,48,11],[60,0,60,1],[60,2,60,3],[110,0,110,1],[4,6,8,6],[0,0,1,0],[0,1,1,1],[2,1,2,6],[3,2,3,3],[3,5,3,6],[9,6,11,6],[12,1,12,3],[12,5,12,6],[18,2,18,3],[31,0,31,1],[31,2,31,3],[106,0,106,1],[107,0,107,1],[108,0,108,1]]}
["عدد الطلاب الغائبين",{"$f":"SUM(Grade7!B1,Grade8!B1,Grade9!B1)","v":18}]
[]
[null,"تحليل نتائج جميع المراحل (طلاب المدرسة) All-Grades"]
[null,"التقدير","المجال",null,"عدد الطلاب","النسبة"]
[null,"ممتاز"," ≥ 90","A+",{"$f":"SUM(Grade7!E5,Grade8!E5,Grade9!E5)","v":9},{"$f":"(E5/$E$13)","v":1.468189233278956E-2},{"$f":"SUM(F5:F9)","v":0.73083197389885801}]
[null,"جيد جداً","≥ 80","A",{"$f":"SUM(Grade7!E6,Grade8!E6,Grade9!E6)","v":54},8.8091353996737357E-2]
[null,"جيد","≥ 70","B+",{"$f":"SUM(Grade7!E7,Grade8!E7,Grade9!E7)","v":87},0.14192495921696574]
[null,"فوق المتوسط","≥ 60","B",{"$f":"SUM(Grade7!E8,Grade8!E8,Grade9!E8)","v":124},0.20228384991843393]
[null,"متوسط","≥ 50","C",{"$f":"SUM(Grade7!E9,Grade8!E9,Grade9!E9)","v":174},0.28384991843393148]
[null,"دون المتوسط","≥ 40","D",{"$f":"SUM(Grade7!E10,Grade8!E10,Grade9!E10)","v":96},0.15660685154975529,{"$f":"SUM(F10:F12)","v":0.26916802610114193}]
[null,"ضعيف","≥ 30","E",{"$f":"SUM(Grade7!E11,Grade8!E11,Grade9!E11)","v":56},9.1353996737357265E-2]
[null,"دون الضعيف جداً","< 30","F",{"$f":"SUM(Grade7!E12,Grade8!E12,Grade9!E12)","v":13},2.1207177814029365E-2]
[null,"عدد طلاب المدرسة الذي تم اختبارهم",null,null,{"$f":"SUM(E5:E12)","v":613},{"$f":"E13/SUM(E13,B1)","v":0.97147385103011097}]
[]
[null,null,"الطلاب","العدد","النسبة"]
[null,null,"الناجحين",{"$f":"SUM(E5:E9)","v":448},{"$f":"G5","v":0.73083197389885801}]
[null,null,"الراسبين",{"$f":"SUM(E10:E12)","v":165},{"$f":"G10","v":0.26916802610114193}]
[null,null,"المجموع",{"$f":"SUM(D16:D17)","v":613},{"$f":"SUM(E16:E17)","v":1}]
[null,null,"نسبة التحصيل",null,{"$f":"AVERAGE(Grade7!E19,Grade8!E19,Grade9!E19)","v":0.58458231633503377}]
[]
[]
[]
[]
[null,"الصف / النسبة","الناجحين","الراسبين","التحصيل"]
[null,"الصف السابع",{"$f":"Grade7!E16","v":0.62121212121212122},{"$f":"Grade7!E17","v":0.37878787878787878},{"$f":"Grade7!E19","v":0.55852693278943288}]
[null,"الصف الثامن",{"$f":"Grade8!E16","v":0.72105263157894739},{"$f":"Grade8!E17","v":0.27894736842105261},{"$f":"Grade8!E19","v":0.57883761528326749}]
[null,"الصف التاسع",{"$f":"Grade9!E16","v":0.8355555555555555},{"$f":"Grade9!E17","v":0.16444444444444445},{"$f":"Grade9!E19","v":0.61638240093240082}]
[]
[]
[]
[]
["تحليل نتائج فرع",null,{"$f":"'7-1'!H2","v":"Quizzes"}]
[]
[null,"الصف / النسبة","الناجحين","الراسبين","التحصيل"]
[null,"الصف السابع",{"$f":"Grade7!C109","v":0.3615276159026159},{"$f":"Grade7!D109","v":0.63847238409738416},{"$f":"Grade7!E109","v":0.39553770188145188}]
[null,"الصف الثامن",{"$f":"Grade8!C109","v":0.46928006775832865},{"$f":"Grade8!D109","v":0.53071993224167135},{"$f":"Grade8!E109","v":0.43102249200075282}]
[null,"الصف التاسع",{"$f":"Grade9!C109","v":0.61536422578184591},{"$f":"Grade9!D109","v":0.38463577421815404},{"$f":"Grade9!E109","v":0.56101982729957567}]
[null,"المتوسط",{"$f":"AVERAGE(C35:C37)","v":0.48205730314759682},{"$f":"AVERAGE(D35:D37)","v":0.51794269685240324},{"$f":"AVERAGE(E35:E37)","v":0.46252667372726014}]
[]
[]
[]
[]
[]
[]
[]
["تحليل نتائج فرع",null,{"$f":"'7-1'!I2","v":"الواجب"}]
[]
[null,"الصف / النسبة","الناجحين","الراسبين","التحصيل"]
[null,"الصف السابع",{"$f":"Grade7!C110","v":0.99456521739130432},{"$f":"Grade7!D110","v":5.4347826086956486E-3},{"$f":"Grade7!E110","v":0.91425801493192793}]
[null,"الصف الثامن",{"$f":"Grade8!C110","v":0.78891304347826074},{"$f":"Grade8!D110","v":0.21108695652173914},{"$f":"Grade8!E110","v":0.71492644927536242}]
[null,"الصف التاسع",{"$f":"Grade9!C110","v":0.99519230769230771},{"$f":"Grade9!D110","v":4.8076923076923045E-3},{"$f":"Grade9!E110","v":0.8557913817663817}]
[null,"المتوسط",{"$f":"AVERAGE(C49:C51)","v":0.9262235228539577},{"$f":"AVERAGE(D49:D51)","v":7.3776477146042366E-2},{"$f":"AVERAGE(E49:E51)","v":0.82832528199122402}]
[]
[]
[]
[]
[]
[]
[]
[]
["تحليل نتائج فرع",null,{"$f":"'7-1'!J2","v":"المشاركة"}]
[]
[null,"الصف / النسبة","الناجحين","الراسبين","التحصيل"]
[null,"الصف السابع",{"$f":"Grade7!C111","v":1},{"$f":"Grade7!D111","v":0},{"$f":"Grade7!E111","v":0.89853828136436842}]
[null,"الصف الثامن",{"$f":"Grade8!C111","v":0.82391304347826078},{"$f":"Grade8!D111","v":0.17608695652173911},{"$f":"Grade8!E111","v":0.71012681159420288}]
[null,"الصف التاسع",{"$f":"Grade9!C111","v":0.95192307692307687},{"$f":"Grade9!D111","v":4.8076923076923073E-2},{"$f":"Grade9!E111","v":0.78866904083570755}]
[null,"المتوسط",{"$f":"AVERAGE(C64:C66)","v":0.92527870680044588},{"$f":"AVERAGE(D64:D66)","v":7.4721293199554062E-2},{"$f":"AVERAGE(E64:E66)","v":0.79911137793142617}]
[]
[]
[]
[]
[]
[]
[]
["تحليل نتائج فرع",null,{"$f":"'7-1'!K2","v":"المشروع"}]
[]
[null,"الصف / النسبة","الناجحين","الراسبين","التحصيل"]
[null,"الصف السابع",{"$f":"Grade7!C112","v":0.93518518518518512},{"$f":"Grade7!D112","v":6.4814814814814825E-2},{"$f":"Grade7!E112","v":0.85909504464939246}]
[null,"الصف الثامن",{"$f":"Grade8!C112","v":0.83521739130434791},{"$f":"Grade8!D112","v":0.16478260869565217},{"$f":"Grade8!E112","v":0.67851630434782606}]
[null,"الصف التاسع",{"$f":"Grade9!C112","v":0.99519230769230771},{"$f":"Grade9!D112","v":4.8076923076923045E-3},{"$f":"Grade9!E112","v":0.79875943732193722}]
[null,"المتوسط",{"$f":"AVERAGE(C78:C80)","v":0.92186496139394691},{"$f":"AVERAGE(D78:D80)","v":7.81350386060531E-2},{"$f":"AVERAGE(E78:E80)","v":0.77879026210638524}]
[]
[]
[]
[]
[]
[]
[]
["تحليل نتائج فرع",null,{"$f":"'7-1'!M2","v":"Exam"}]
[]
[null,"الصف / النسبة","الناجحين","الراسبين","التحصيل"]
[null,"الصف السابع",{"$f":"Grade7!C113","v":0.63299226236726236},{"$f":"Grade7!D113","v":0.36700773763273764},{"$f":"Grade7!E113","v":0.55852693278943288}]
[null,"الصف الثامن",{"$f":"Grade8!C113","v":0.76260622529644273},{"$f":"Grade8!D113","v":0.23739377470355733},{"$f":"Grade8!E113","v":0.57883761528326749}]
[null,"الصف التاسع",{"$f":"Grade9!C113","v":0.84685298497798489},{"$f":"Grade9!D113","v":0.15314701502201503},{"$f":"Grade9!E113","v":0.61638240093240082}]
[null,"المتوسط",{"$f":"AVERAGE(C92:C94)","v":0.7474838242138967},{"$f":"AVERAGE(D92:D94)","v":0.2525161757861033},{"$f":"AVERAGE(E92:E94)","v":0.58458231633503377}]
[]
[]
[]
[]
[]
[]
[]
["مقارنة تحليل نتائج",null,"جميع  الفروع"]
[]
["الفرع",null,"الناجحين","الراسبين","التحصيل"]
[{"$f":"C32","v":"Quizzes"},null,{"$f":"C38","v":0.48205730314759682},{"$f":"D38","v":0.51794269685240324},{"$f":"E38","v":0.46252667372726014}]
[{"$f":"C46","v":"الواجب"},null,{"$f":"C52","v":0.9262235228539577},{"$f":"D52","v":7.3776477146042366E-2},{"$f":"E52","v":0.82832528199122402}]
[{"$f":"C61","v":"المشاركة"},null,{"$f":"C67","v":0.92527870680044588},{"$f":"D67","v":7.4721293199554062E-2},{"$f":"E67","v":0.79911137793142617}]
[{"$f":"C75","v":"المشروع"},null,{"$f":"C81","v":0.92186496139394691},{"$f":"D81","v":7.81350386060531E-2},{"$f":"E81","v":0.77879026210638524}]
[{"$f":"C89","v":"Exam"},null,{"$f":"C95","v":0.7474838242138967},{"$f":"D95","v":0.2525161757861033},{"$f":"E95","v":0.58458231633503377}]